PDS_VERSION_ID = PDS3
/* FILE DATA ELEMENTS */
RECORD_TYPE = UNDEFINED
/* POINTERS TO DATA OBJECTS */
^IMAGE = ("H4589_0008_SR4.TIF")
/* IDENTIFICATION DATA ELEMENTS */
DATA_SET_ID = "MEX-M-HRSC-4-REFDR-MAPPROJECT-EXT1-V4.0"
DATA_SET_NAME = "MARS EXPRESS HRSC MAP PROJECTED REFDR EXTENSION1 V4.0"
DETECTOR_ID = MEX_HRSC_SRC
EVENT_TYPE = "MARS-REGIONAL-MAPPING-Pf-Eo"
INSTRUMENT_HOST_ID = MEX
INSTRUMENT_HOST_NAME = "MARS EXPRESS"
INSTRUMENT_ID = HRSC
INSTRUMENT_NAME = "HIGH RESOLUTION STEREO CAMERA"
MISSION_NAME = "MARS EXPRESS"
MISSION_PHASE_NAME = ME_Phase_9
PROCESSING_LEVEL_ID = 4
PRODUCT_CREATION_TIME = 2023-02-11T00:15:54.000Z
PRODUCT_ID = "H4589_0008_SR4.TIF"
RELEASE_ID = 0007
REVISION_ID = 0000
/* QUALITY DATA ELEMENTS */
DATA_QUALITY_ID = 1
DATA_QUALITY_DESC = "Data calculated based on original SPICE kernels"
/* TIME DATA ELEMENTS */
SPACECRAFT_CLOCK_START_COUNT = "1/0133976837.07292"
SPACECRAFT_CLOCK_STOP_COUNT = "1/0133977083.56982"
IMAGE_TIME = 2007-07-31T15:49:21.866Z
START_TIME = 2007-07-31T15:49:21.863Z
STOP_TIME = 2007-07-31T15:49:21.868Z
/* ORBITAL DATA ELEMENTS */
ASCENDING_NODE_LONGITUDE = 132.37
MAXIMUM_RESOLUTION = 0.003352
FOOTPRINT_POINT_LATITUDE = (-70.4541,-70.4561,-70.4591,-70.4622, -70.4642,-70.4671,-70.4693,-70.4721, -70.4744,-70.4776,-70.4801,-70.4827, -70.4853,-70.4876,-70.4912,-70.4934, -70.4964,-70.5003,-70.5036,-70.5067, -70.509,-70.511,-70.511,-70.511, -70.5108,-70.5105,-70.5103,-70.51, -70.5098,-70.5095,-70.5092,-70.509, -70.5087,-70.5085,-70.5082,-70.508, -70.5077,-70.5075,-70.5072,-70.507, -70.5067,-70.5064,-70.5062,-70.5059, -70.5057,-70.5054,-70.5051,-70.5049, -70.5046,-70.5046,-70.5045,-70.5017, -70.4988,-70.496,-70.4942,-70.4922, -70.4903,-70.4879,-70.4842,-70.4807, -70.4782,-70.4742,-70.4713,-70.4685, -70.4645,-70.4609,-70.4577,-70.4552, -70.4527,-70.4505,-70.4478,-70.4477, -70.4477,-70.448,-70.4482,-70.4485, -70.4487,-70.449,-70.4492,-70.4495, -70.4497,-70.45,-70.4502,-70.4505, -70.4507,-70.451,-70.4512,-70.4515, -70.4518,-70.452,-70.4522,-70.4525, -70.4528,-70.453,-70.4532,-70.4535, -70.4537,-70.454,-70.4541,-70.4541)
FOOTPRINT_POINT_LONGITUDE = (263.829,263.828,263.827,263.826, 263.825,263.824,263.824,263.823,263.822 ,263.821,263.82,263.819,263.818,263.818 ,263.817,263.816,263.815,263.814, 263.813,263.812,263.811,263.81,263.81, 263.81,263.803,263.796,263.789,263.783, 263.776,263.769,263.762,263.755,263.748 ,263.741,263.735,263.728,263.721, 263.714,263.707,263.7,263.693,263.687, 263.68,263.673,263.666,263.659,263.652, 263.646,263.639,263.637,263.636,263.637 ,263.638,263.639,263.639,263.64,263.641 ,263.642,263.643,263.644,263.645, 263.646,263.647,263.648,263.649,263.651 ,263.652,263.653,263.653,263.654, 263.655,263.655,263.655,263.662,263.669 ,263.676,263.682,263.689,263.696, 263.703,263.71,263.717,263.723,263.73, 263.737,263.744,263.751,263.758,263.764 ,263.771,263.778,263.785,263.792, 263.799,263.805,263.812,263.819,263.826 ,263.828,263.829)
ORBIT_NUMBER = 4589
ORBITAL_ECCENTRICITY = 0.57
ORBITAL_INCLINATION = 86.69
ORBITAL_SEMIMAJOR_AXIS = 8530.34
PERIAPSIS_ALTITUDE = 294.15
PERIAPSIS_ARGUMENT_ANGLE = 270.38
PERIAPSIS_TIME = 2007-07-31T15:44:34.000Z
SPACECRAFT_ORIENTATION = (0.0,-1.0,0.0)
^MEX_ORIENTATION_DESC = "MEX_ORIENTATION_DESC.TXT"
SPACECRAFT_POINTING_MODE = ACROSSTRACK
^MEX_POINTING_DESC = "MEX_POINTING_DESC.TXT"
RIGHT_ASCENSION = -1e+32
DECLINATION = -1e+32
OFFSET_ANGLE = -0.8
SPACECRAFT_SOLAR_DISTANCE = 2.10064e+08
TARGET_NAME = MARS
/* CAMERA DATA ELEMENTS */
BUFFER_MODE_ID = BUFFER_8
EXPOSURE_DURATION = 5.04
INST_CMPRS_NAME = NONE
INST_CMPRS_RATIO = 1.0
INST_CMPRS_QUALITY = -2147483648
INST_CMPRS_QUANTZ_TBL_ID = -2147483648
INSTRUMENT_TEMPERATURE = 9.55063
MISSING_FRAMES = 0
START_BIT = 0
/* RADIOMETRIC DATA ELEMENTS */
BANDWIDTH = 250.0
CENTER_FILTER_WAVELENGTH = 600.0
RADIANCE_OFFSET = -9.99e+31
RADIANCE_SCALING_FACTOR = -9.99e+31
REFLECTANCE_SCALING_FACTOR = -9.99e+31
MEX:REFLECTANCE_OFFSET = -9.99e+31
/* IMAGE OBJECT DEFINITIONS */
OBJECT = IMAGE
  INTERCHANGE_FORMAT = BINARY
  LINES = 1612
  LINE_SAMPLES = 1635
  SAMPLE_TYPE = UNSIGNED_INTEGER
  SAMPLE_BITS = 8
  BANDS = 1
  BAND_STORAGE_TYPE = BAND_SEQUENTIAL
  MAXIMUM = 244
  MEAN = 158.025
  MINIMUM = 15
  STANDARD_DEVIATION = 17.8781
END_OBJECT = IMAGE
/* MAP OBJECT DEFINITIONS */
OBJECT = IMAGE_MAP_PROJECTION
  ^DATA_SET_MAP_PROJECTION_CATALOG= "DSMAP.CAT"
  A_AXIS_RADIUS = 3396.19
  B_AXIS_RADIUS = 3396.19
  C_AXIS_RADIUS = 3396.19
  CENTER_LATITUDE = 0.0
  CENTER_LONGITUDE = 264.0
  COORDINATE_SYSTEM_NAME = PLANETOGRAPHIC
  COORDINATE_SYSTEM_TYPE = "BODY-FIXED ROTATING"
  EASTERNMOST_LONGITUDE = 263.829
  FIRST_STANDARD_PARALLEL = "N/A"
  LINE_FIRST_PIXEL = 1
  LINE_LAST_PIXEL = 1612
  LINE_PROJECTION_OFFSET = -1666735.0
  MAP_PROJECTION_ROTATION = 0.0
  MAP_PROJECTION_TYPE = SINUSOIDAL
  MAP_RESOLUTION = 23709.8786048756
  MAP_SCALE = 0.0025
  MAXIMUM_LATITUDE = -70.4477
  MINIMUM_LATITUDE = -70.511
  POSITIVE_LONGITUDE_DIRECTION = EAST
  REFERENCE_LATITUDE = "N/A"
  REFERENCE_LONGITUDE = "N/A"
  SAMPLE_FIRST_PIXEL = 1
  SAMPLE_LAST_PIXEL = 1635
  SAMPLE_PROJECTION_OFFSET = 1870.0
  SECOND_STANDARD_PARALLEL = "N/A"
  WESTERNMOST_LONGITUDE = 263.636
END_OBJECT = IMAGE_MAP_PROJECTION
END
