PDS_VERSION_ID = PDS3
/* FILE DATA ELEMENTS */
RECORD_TYPE = UNDEFINED
/* POINTERS TO DATA OBJECTS */
^IMAGE = ("H4590_0000_IR4.TIF")
/* IDENTIFICATION DATA ELEMENTS */
DATA_SET_ID = "MEX-M-HRSC-4-REFDR-MAPPROJECT-EXT1-V4.0"
DATA_SET_NAME = "MARS EXPRESS HRSC MAP PROJECTED REFDR EXTENSION1 V4.0"
DETECTOR_ID = MEX_HRSC_IR
EVENT_TYPE = "MARS-REGIONAL-MAPPING-Gl-Eo-La"
INSTRUMENT_HOST_ID = MEX
INSTRUMENT_HOST_NAME = "MARS EXPRESS"
INSTRUMENT_ID = HRSC
INSTRUMENT_NAME = "HIGH RESOLUTION STEREO CAMERA"
MISSION_NAME = "MARS EXPRESS"
MISSION_PHASE_NAME = ME_Phase_9
PROCESSING_LEVEL_ID = 4
PRODUCT_CREATION_TIME = 2023-02-11T00:15:54.000Z
PRODUCT_ID = "H4590_0000_IR4.TIF"
RELEASE_ID = 0007
REVISION_ID = 0000
/* QUALITY DATA ELEMENTS */
DATA_QUALITY_ID = 1
DATA_QUALITY_DESC = "Data calculated based on original SPICE kernels"
/* TIME DATA ELEMENTS */
SPACECRAFT_CLOCK_START_COUNT = "1/0134000909.07574"
SPACECRAFT_CLOCK_STOP_COUNT = "1/0134001183.49103"
START_TIME = 2007-07-31T22:28:37.660Z
STOP_TIME = 2007-07-31T22:32:03.652Z
/* ORBITAL DATA ELEMENTS */
ASCENDING_NODE_LONGITUDE = 132.34
MAXIMUM_RESOLUTION = 0.0488
FOOTPRINT_POINT_LATITUDE = (-83.6892,-83.9991,-84.2128,-84.2172, -84.1654,-83.8168,-83.5826,-83.1174, -82.8793,-82.6395,-82.3986,-82.1553, -81.9115,-81.5411,-81.1725,-80.681, -80.4322,-80.1738,-79.9148,-79.6548, -79.3944,-79.1336,-78.8726,-78.6109, -78.3489,-77.9555,-77.6927,-77.2885, -77.0154,-76.7423,-76.4688,-76.1948, -75.922,-75.6487,-75.3739,-75.0928, -74.8089,-74.5251,-74.241,-73.8137, -73.5284,-73.0918,-72.7992,-72.3575, -72.0629,-71.6225,-71.3286,-71.0354, -70.8886,-70.8415,-70.7779,-70.7231, -70.6505,-70.6483,-70.6485,-70.9398, -71.3759,-71.6673,-72.1032,-72.394, -72.6848,-72.9762,-73.2669,-73.5475, -73.8288,-74.109,-74.5287,-74.8103, -75.0894,-75.3586,-75.6289,-75.8976, -76.3013,-76.5698,-76.8378,-77.105, -77.369,-77.627,-77.8841,-78.1405, -78.3963,-78.7789,-79.0333,-79.4124, -79.6641,-79.9147,-80.161,-80.4, -80.6377,-81.1057,-81.3423,-81.6961, -81.9269,-82.1555,-82.3809,-82.7117, -83.1501,-83.4742,-83.5795,-83.6892)
FOOTPRINT_POINT_LONGITUDE = (136.343,140.494,143.969,144.047, 144.665,146.429,147.487,149.309,150.153 ,150.943,151.681,152.381,153.035, 153.959,154.785,155.771,156.234,156.689 ,157.12,157.531,157.921,158.292,158.644 ,158.98,159.301,159.755,160.042,160.459 ,160.725,160.98,161.224,161.46,161.682, 161.897,162.106,162.31,162.509,162.7, 162.884,163.15,163.319,163.566,163.721, 163.95,164.096,164.303,164.436,164.563, 164.625,164.645,163.267,162.238,161.011 ,160.977,160.966,160.809,160.563, 160.393,160.124,159.937,159.742,159.541 ,159.335,159.124,158.906,158.679, 158.321,158.072,157.812,157.55,157.278, 156.994,156.546,156.231,155.903,155.56, 155.207,154.846,154.469,154.075,153.663 ,153.008,152.545,151.807,151.284, 150.734,150.164,149.577,148.96,147.626, 146.901,145.734,144.901,144.018,143.083 ,141.577,139.328,137.436,136.765, 136.343)
ORBIT_NUMBER = 4590
ORBITAL_ECCENTRICITY = 0.57
ORBITAL_INCLINATION = 86.69
ORBITAL_SEMIMAJOR_AXIS = 8530.79
PERIAPSIS_ALTITUDE = 295.08
PERIAPSIS_ARGUMENT_ANGLE = 270.21
PERIAPSIS_TIME = 2007-07-31T22:27:45.000Z
SPACECRAFT_ORIENTATION = (0.0,-1.0,0.0)
^MEX_ORIENTATION_DESC = "MEX_ORIENTATION_DESC.TXT"
SPACECRAFT_POINTING_MODE = NADIR
^MEX_POINTING_DESC = "MEX_POINTING_DESC.TXT"
RIGHT_ASCENSION = -1e+32
DECLINATION = -1e+32
OFFSET_ANGLE = -1e+32
SPACECRAFT_SOLAR_DISTANCE = 2.10096e+08
TARGET_NAME = MARS
/* CAMERA DATA ELEMENTS */
DETECTOR_TEMPERATURE = 17.351
FOCAL_PLANE_TEMPERATURE = 9.195
INST_CMPRS_NAME = "DISCRETE COSINE TRANSFORMATION (DCT)"
INST_CMPRS_RATIO = 12.443
INST_CMPRS_QUALITY = 0
INST_CMPRS_QUANTZ_TBL_ID = 0
INSTRUMENT_TEMPERATURE = 11.4379
LENS_TEMPERATURE = 10.4184
MACROPIXEL_SIZE = 4
MISSING_FRAMES = 0
PIXEL_SUBSAMPLING_FLAG = N
SIGNAL_CHAIN_ID = 2
/* RADIOMETRIC DATA ELEMENTS */
BANDWIDTH = 81.0
CENTER_FILTER_WAVELENGTH = 955.5
RADIANCE_OFFSET = 1.32192
RADIANCE_SCALING_FACTOR = 0.00469493
REFLECTANCE_SCALING_FACTOR = 0.000447089
MEX:REFLECTANCE_OFFSET = 0.125883
/* IMAGE OBJECT DEFINITIONS */
OBJECT = IMAGE
  INTERCHANGE_FORMAT = BINARY
  LINES = 16023
  LINE_SAMPLES = 5702
  SAMPLE_TYPE = UNSIGNED_INTEGER
  SAMPLE_BITS = 8
  BANDS = 1
  BAND_STORAGE_TYPE = BAND_SEQUENTIAL
  MAXIMUM = 255
  MEAN = 123.4
  MINIMUM = 1
  STANDARD_DEVIATION = 58.8626
END_OBJECT = IMAGE
/* MAP OBJECT DEFINITIONS */
OBJECT = IMAGE_MAP_PROJECTION
  ^DATA_SET_MAP_PROJECTION_CATALOG= "DSMAP.CAT"
  A_AXIS_RADIUS = 3396.0
  B_AXIS_RADIUS = 3396.0
  C_AXIS_RADIUS = 3396.0
  CENTER_LATITUDE = 0.0
  CENTER_LONGITUDE = 157.0
  COORDINATE_SYSTEM_NAME = PLANETOGRAPHIC
  COORDINATE_SYSTEM_TYPE = "BODY-FIXED ROTATING"
  EASTERNMOST_LONGITUDE = 164.645
  FIRST_STANDARD_PARALLEL = "N/A"
  LINE_FIRST_PIXEL = 1
  LINE_LAST_PIXEL = 16023
  LINE_PROJECTION_OFFSET = -83725.625
  MAP_PROJECTION_ROTATION = 0.0
  MAP_PROJECTION_TYPE = SINUSOIDAL
  MAP_RESOLUTION = 1185.42760773333
  MAP_SCALE = 0.05
  MAXIMUM_LATITUDE = -70.64830000000001
  MINIMUM_LATITUDE = -84.21720000000001
  POSITIVE_LONGITUDE_DIRECTION = EAST
  REFERENCE_LATITUDE = "N/A"
  REFERENCE_LONGITUDE = "N/A"
  SAMPLE_FIRST_PIXEL = 1
  SAMPLE_LAST_PIXEL = 5702
  SAMPLE_PROJECTION_OFFSET = 2694.625
  SECOND_STANDARD_PARALLEL = "N/A"
  WESTERNMOST_LONGITUDE = 136.343
END_OBJECT = IMAGE_MAP_PROJECTION
END
