PDS_VERSION_ID = PDS3
/* FILE DATA ELEMENTS */
RECORD_TYPE = UNDEFINED
/* POINTERS TO DATA OBJECTS */
^IMAGE = ("H4590_0000_S14.TIF")
/* IDENTIFICATION DATA ELEMENTS */
DATA_SET_ID = "MEX-M-HRSC-4-REFDR-MAPPROJECT-EXT1-V4.0"
DATA_SET_NAME = "MARS EXPRESS HRSC MAP PROJECTED REFDR EXTENSION1 V4.0"
DETECTOR_ID = MEX_HRSC_S1
EVENT_TYPE = "MARS-REGIONAL-MAPPING-Gl-Eo-La"
INSTRUMENT_HOST_ID = MEX
INSTRUMENT_HOST_NAME = "MARS EXPRESS"
INSTRUMENT_ID = HRSC
INSTRUMENT_NAME = "HIGH RESOLUTION STEREO CAMERA"
MISSION_NAME = "MARS EXPRESS"
MISSION_PHASE_NAME = ME_Phase_9
PROCESSING_LEVEL_ID = 4
PRODUCT_CREATION_TIME = 2023-02-11T00:15:54.000Z
PRODUCT_ID = "H4590_0000_S14.TIF"
RELEASE_ID = 0007
REVISION_ID = 0000
/* QUALITY DATA ELEMENTS */
DATA_QUALITY_ID = 1
DATA_QUALITY_DESC = "Data calculated based on original SPICE kernels"
/* TIME DATA ELEMENTS */
SPACECRAFT_CLOCK_START_COUNT = "1/0134000909.07574"
SPACECRAFT_CLOCK_STOP_COUNT = "1/0134001183.49103"
START_TIME = 2007-07-31T22:28:33.147Z
STOP_TIME = 2007-07-31T22:31:58.529Z
/* ORBITAL DATA ELEMENTS */
ASCENDING_NODE_LONGITUDE = 132.34
MAXIMUM_RESOLUTION = 0.0248
FOOTPRINT_POINT_LATITUDE = (-83.7122,-83.9369,-84.2386,-84.2432, -84.1785,-83.8277,-83.592,-83.1263, -82.8871,-82.6462,-82.4042,-82.1594, -81.9143,-81.5412,-81.1708,-80.6773, -80.4271,-80.1762,-79.9169,-79.6551, -79.3931,-79.1306,-78.8678,-78.6045, -78.3406,-77.9444,-77.6797,-77.4145, -77.0076,-76.7325,-76.4567,-76.1773, -75.9025,-75.627,-75.3498,-75.0733, -74.7897,-74.5038,-74.2172,-73.9295, -73.6411,-73.3531,-73.0667,-72.7716, -72.3255,-72.0278,-71.7314,-71.4347, -70.99,-70.8419,-70.8375,-70.7637, -70.6466,-70.6442,-70.6439,-70.9383, -71.2316,-71.5256,-71.8206,-72.1131, -72.5535,-72.8467,-73.135,-73.4182, -73.7018,-73.9855,-74.268,-74.5509, -74.8316,-75.1045,-75.3752,-75.6481, -75.919,-76.1934,-76.5995,-77.003, -77.263,-77.523,-77.7824,-78.0407, -78.2986,-78.5541,-78.8122,-79.0683, -79.4495,-79.7025,-79.9488,-80.1907, -80.6695,-81.1383,-81.3766,-81.616, -81.8489,-82.3068,-82.6398,-83.0796, -83.3008,-83.5152,-83.6203,-83.7122)
FOOTPRINT_POINT_LONGITUDE = (136.199,139.11,143.848,143.93,144.633, 146.413,147.479,149.305,150.154,150.948 ,151.689,152.393,153.05,153.98,154.808, 155.796,156.26,156.702,157.132,157.545, 157.937,158.309,158.663,159.001,159.323 ,159.779,160.066,160.342,160.743, 160.998,161.244,161.483,161.706,161.921 ,162.131,162.332,162.53,162.721,162.905 ,163.085,163.259,163.426,163.585, 163.741,163.97,164.117,164.256,164.392, 164.586,164.648,164.65,163.081,161.031, 160.995,160.982,160.824,160.66,160.49, 160.314,160.131,159.845,159.644,159.444 ,159.235,159.018,158.793,158.559, 158.316,158.065,157.811,157.546,157.27, 156.984,156.681,156.208,155.706,155.363 ,155.006,154.633,154.243,153.835, 153.409,152.961,152.492,151.744,151.214 ,150.67,150.105,148.887,147.54,146.804, 146.023,145.201,143.41,141.929,139.721, 138.493,137.191,136.509,136.199)
ORBIT_NUMBER = 4590
ORBITAL_ECCENTRICITY = 0.57
ORBITAL_INCLINATION = 86.69
ORBITAL_SEMIMAJOR_AXIS = 8530.79
PERIAPSIS_ALTITUDE = 295.08
PERIAPSIS_ARGUMENT_ANGLE = 270.21
PERIAPSIS_TIME = 2007-07-31T22:27:45.000Z
SPACECRAFT_ORIENTATION = (0.0,-1.0,0.0)
^MEX_ORIENTATION_DESC = "MEX_ORIENTATION_DESC.TXT"
SPACECRAFT_POINTING_MODE = NADIR
^MEX_POINTING_DESC = "MEX_POINTING_DESC.TXT"
RIGHT_ASCENSION = -1e+32
DECLINATION = -1e+32
OFFSET_ANGLE = -1e+32
SPACECRAFT_SOLAR_DISTANCE = 2.10096e+08
TARGET_NAME = MARS
/* CAMERA DATA ELEMENTS */
DETECTOR_TEMPERATURE = 17.351
FOCAL_PLANE_TEMPERATURE = 9.195
INST_CMPRS_NAME = "DISCRETE COSINE TRANSFORMATION (DCT)"
INST_CMPRS_RATIO = 11.0856
INST_CMPRS_QUALITY = 0
INST_CMPRS_QUANTZ_TBL_ID = 0
INSTRUMENT_TEMPERATURE = 11.4379
LENS_TEMPERATURE = 10.4184
MACROPIXEL_SIZE = 2
MISSING_FRAMES = 1
PIXEL_SUBSAMPLING_FLAG = N
SIGNAL_CHAIN_ID = 1
/* RADIOMETRIC DATA ELEMENTS */
BANDWIDTH = 180.0
CENTER_FILTER_WAVELENGTH = 677.0
RADIANCE_OFFSET = 6.50307
RADIANCE_SCALING_FACTOR = 0.0170015
REFLECTANCE_SCALING_FACTOR = 0.00039153
MEX:REFLECTANCE_OFFSET = 0.14976
/* IMAGE OBJECT DEFINITIONS */
OBJECT = IMAGE
  INTERCHANGE_FORMAT = BINARY
  LINES = 32045
  LINE_SAMPLES = 11403
  SAMPLE_TYPE = UNSIGNED_INTEGER
  SAMPLE_BITS = 8
  BANDS = 1
  BAND_STORAGE_TYPE = BAND_SEQUENTIAL
  MAXIMUM = 255
  MEAN = 124.005
  MINIMUM = 1
  STANDARD_DEVIATION = 57.5996
END_OBJECT = IMAGE
/* MAP OBJECT DEFINITIONS */
OBJECT = IMAGE_MAP_PROJECTION
  ^DATA_SET_MAP_PROJECTION_CATALOG= "DSMAP.CAT"
  A_AXIS_RADIUS = 3396.0
  B_AXIS_RADIUS = 3396.0
  C_AXIS_RADIUS = 3396.0
  CENTER_LATITUDE = 0.0
  CENTER_LONGITUDE = 157.0
  COORDINATE_SYSTEM_NAME = PLANETOGRAPHIC
  COORDINATE_SYSTEM_TYPE = "BODY-FIXED ROTATING"
  EASTERNMOST_LONGITUDE = 164.65
  FIRST_STANDARD_PARALLEL = "N/A"
  LINE_FIRST_PIXEL = 1
  LINE_LAST_PIXEL = 32045
  LINE_PROJECTION_OFFSET = -167450.75
  MAP_PROJECTION_ROTATION = 0.0
  MAP_PROJECTION_TYPE = SINUSOIDAL
  MAP_RESOLUTION = 2370.85521546667
  MAP_SCALE = 0.025
  MAXIMUM_LATITUDE = -70.6439
  MINIMUM_LATITUDE = -84.2432
  POSITIVE_LONGITUDE_DIRECTION = EAST
  REFERENCE_LATITUDE = "N/A"
  REFERENCE_LONGITUDE = "N/A"
  SAMPLE_FIRST_PIXEL = 1
  SAMPLE_LAST_PIXEL = 11403
  SAMPLE_PROJECTION_OFFSET = 5389.75
  SECOND_STANDARD_PARALLEL = "N/A"
  WESTERNMOST_LONGITUDE = 136.199
END_OBJECT = IMAGE_MAP_PROJECTION
END
