PDS_VERSION_ID = PDS3
/* FILE DATA ELEMENTS */
RECORD_TYPE = UNDEFINED
/* POINTERS TO DATA OBJECTS */
^IMAGE = ("H4591_0000_ND4.TIF")
/* IDENTIFICATION DATA ELEMENTS */
DATA_SET_ID = "MEX-M-HRSC-4-REFDR-MAPPROJECT-EXT1-V4.0"
DATA_SET_NAME = "MARS EXPRESS HRSC MAP PROJECTED REFDR EXTENSION1 V4.0"
DETECTOR_ID = MEX_HRSC_NADIR
EVENT_TYPE = "MARS-REGIONAL-MAPPING-Gl-Eo-La"
INSTRUMENT_HOST_ID = MEX
INSTRUMENT_HOST_NAME = "MARS EXPRESS"
INSTRUMENT_ID = HRSC
INSTRUMENT_NAME = "HIGH RESOLUTION STEREO CAMERA"
MISSION_NAME = "MARS EXPRESS"
MISSION_PHASE_NAME = ME_Phase_9
PROCESSING_LEVEL_ID = 4
PRODUCT_CREATION_TIME = 2023-02-11T00:15:54.000Z
PRODUCT_ID = "H4591_0000_ND4.TIF"
RELEASE_ID = 0007
REVISION_ID = 0000
/* QUALITY DATA ELEMENTS */
DATA_QUALITY_ID = 1
DATA_QUALITY_DESC = "Data calculated based on original SPICE kernels"
/* TIME DATA ELEMENTS */
SPACECRAFT_CLOCK_START_COUNT = "1/0134025094.09076"
SPACECRAFT_CLOCK_STOP_COUNT = "1/0134025257.39884"
START_TIME = 2007-08-01T05:12:04.040Z
STOP_TIME = 2007-08-01T05:13:50.029Z
/* ORBITAL DATA ELEMENTS */
ASCENDING_NODE_LONGITUDE = 132.32
MAXIMUM_RESOLUTION = 0.0117
FOOTPRINT_POINT_LATITUDE = (-84.2818,-84.3688,-84.4593,-84.6065, -84.7307,-84.8196,-84.8244,-84.848, -84.7278,-84.6069,-84.4851,-84.3014, -84.1161,-83.9915,-83.8665,-83.7411, -83.6152,-83.4889,-83.3621,-83.235, -83.1075,-82.9797,-82.723,-82.4652, -82.2063,-81.9465,-81.8122,-81.6769, -81.5414,-81.4058,-81.27,-81.134, -80.9979,-80.8616,-80.7252,-80.5887, -80.452,-80.3153,-80.1785,-80.0415, -79.9045,-79.7673,-79.6301,-79.4928, -79.3555,-79.218,-79.0054,-78.8631, -78.7204,-78.5777,-78.4352,-78.2926, -78.2213,-78.2209,-78.1813,-78.1339, -78.0888,-78.0089,-77.951,-77.9479, -77.9465,-78.0861,-78.2257,-78.4348, -78.5742,-78.7134,-78.9209,-79.1217, -79.2554,-79.3891,-79.5225,-79.6557, -79.7888,-79.9217,-80.0543,-80.1868, -80.319,-80.4509,-80.5826,-80.7141, -80.8452,-80.9761,-81.1066,-81.2368, -81.3667,-81.5602,-81.8085,-82.0552, -82.3001,-82.543,-82.7837,-83.0219, -83.2574,-83.4898,-83.7188,-83.944, -84.0551,-84.2196,-84.2738,-84.2818)
FOOTPRINT_POINT_LONGITUDE = (36.6523,37.796,39.0586,41.2952,43.3958 ,45.0468,45.1403,45.5683,46.3044,47.01, 47.6825,48.642,49.5372,50.0978,50.6381, 51.1572,51.656,52.1361,52.5969,53.0416, 53.4685,53.8809,54.6613,55.3873,56.0627 ,56.695,57.0059,57.3067,57.5978,57.8793 ,58.152,58.4168,58.6725,58.9206,59.1611 ,59.3949,59.6213,59.8422,60.0569, 60.2638,60.4658,60.6623,60.8528,61.039, 61.219,61.3952,61.6589,61.8329,61.9966, 62.1552,62.3151,62.469,62.5446,62.545, 61.6434,60.6468,59.7662,58.3359,57.3823 ,57.3324,57.3077,57.1084,56.9051, 56.5908,56.3768,56.1572,55.8128,55.4639 ,55.2258,54.982,54.7316,54.4741,54.2093 ,53.9374,53.6579,53.3704,53.0748, 52.7708,52.4578,52.1356,51.8039,51.462, 51.1098,50.747,50.3728,49.7911,48.9992, 48.1571,47.2588,46.3014,45.2772,44.1812 ,43.0067,41.7457,40.3896,38.9305, 38.1599,36.948,36.5283,36.6523)
ORBIT_NUMBER = 4591
ORBITAL_ECCENTRICITY = 0.57
ORBITAL_INCLINATION = 86.7
ORBITAL_SEMIMAJOR_AXIS = 8529.56
PERIAPSIS_ALTITUDE = 293.8
PERIAPSIS_ARGUMENT_ANGLE = 270.05
PERIAPSIS_TIME = 2007-08-01T05:10:57.000Z
SPACECRAFT_ORIENTATION = (0.0,-1.0,0.0)
^MEX_ORIENTATION_DESC = "MEX_ORIENTATION_DESC.TXT"
SPACECRAFT_POINTING_MODE = ACROSSTRACK
^MEX_POINTING_DESC = "MEX_POINTING_DESC.TXT"
RIGHT_ASCENSION = -1e+32
DECLINATION = -1e+32
OFFSET_ANGLE = -0.229
SPACECRAFT_SOLAR_DISTANCE = 2.10129e+08
TARGET_NAME = MARS
/* CAMERA DATA ELEMENTS */
DETECTOR_TEMPERATURE = 18.3705
FOCAL_PLANE_TEMPERATURE = 9.195
INST_CMPRS_NAME = "DISCRETE COSINE TRANSFORMATION (DCT)"
INST_CMPRS_RATIO = 7.26937
INST_CMPRS_QUALITY = 0
INST_CMPRS_QUANTZ_TBL_ID = 0
INSTRUMENT_TEMPERATURE = 11.6418
LENS_TEMPERATURE = 9.3989
MACROPIXEL_SIZE = 1
MISSING_FRAMES = 0
PIXEL_SUBSAMPLING_FLAG = N
SIGNAL_CHAIN_ID = 0
/* RADIOMETRIC DATA ELEMENTS */
BANDWIDTH = 177.0
CENTER_FILTER_WAVELENGTH = 677.5
RADIANCE_OFFSET = 5.73708
RADIANCE_SCALING_FACTOR = 0.0143908
REFLECTANCE_SCALING_FACTOR = 0.000337551
MEX:REFLECTANCE_OFFSET = 0.134569
/* IMAGE OBJECT DEFINITIONS */
OBJECT = IMAGE
  INTERCHANGE_FORMAT = BINARY
  LINES = 32727
  LINE_SAMPLES = 16538
  SAMPLE_TYPE = UNSIGNED_INTEGER
  SAMPLE_BITS = 8
  BANDS = 1
  BAND_STORAGE_TYPE = BAND_SEQUENTIAL
  MAXIMUM = 255
  MEAN = 71.7965
  MINIMUM = 1
  STANDARD_DEVIATION = 34.7174
END_OBJECT = IMAGE
/* MAP OBJECT DEFINITIONS */
OBJECT = IMAGE_MAP_PROJECTION
  ^DATA_SET_MAP_PROJECTION_CATALOG= "DSMAP.CAT"
  A_AXIS_RADIUS = 3396.0
  B_AXIS_RADIUS = 3396.0
  C_AXIS_RADIUS = 3396.0
  CENTER_LATITUDE = 0.0
  CENTER_LONGITUDE = 54.0
  COORDINATE_SYSTEM_NAME = PLANETOGRAPHIC
  COORDINATE_SYSTEM_TYPE = "BODY-FIXED ROTATING"
  EASTERNMOST_LONGITUDE = 62.545
  FIRST_STANDARD_PARALLEL = "N/A"
  LINE_FIRST_PIXEL = 1
  LINE_LAST_PIXEL = 32727
  LINE_PROJECTION_OFFSET = -369600.0
  MAP_PROJECTION_ROTATION = 0.0
  MAP_PROJECTION_TYPE = SINUSOIDAL
  MAP_RESOLUTION = 4741.71043093333
  MAP_SCALE = 0.0125
  MAXIMUM_LATITUDE = -77.9465
  MINIMUM_LATITUDE = -84.848
  POSITIVE_LONGITUDE_DIRECTION = EAST
  REFERENCE_LATITUDE = "N/A"
  REFERENCE_LONGITUDE = "N/A"
  SAMPLE_FIRST_PIXEL = 1
  SAMPLE_LAST_PIXEL = 16538
  SAMPLE_PROJECTION_OFFSET = 8266.0
  SECOND_STANDARD_PARALLEL = "N/A"
  WESTERNMOST_LONGITUDE = 36.5283
END_OBJECT = IMAGE_MAP_PROJECTION
END
