PDS_VERSION_ID = PDS3
/* FILE DATA ELEMENTS */
RECORD_TYPE = UNDEFINED
/* POINTERS TO DATA OBJECTS */
^IMAGE = ("H4591_0004_SR4.TIF")
/* IDENTIFICATION DATA ELEMENTS */
DATA_SET_ID = "MEX-M-HRSC-4-REFDR-MAPPROJECT-EXT1-V4.0"
DATA_SET_NAME = "MARS EXPRESS HRSC MAP PROJECTED REFDR EXTENSION1 V4.0"
DETECTOR_ID = MEX_HRSC_SRC
EVENT_TYPE = "MARS-REGIONAL-MAPPING-Gl-Eo-La"
INSTRUMENT_HOST_ID = MEX
INSTRUMENT_HOST_NAME = "MARS EXPRESS"
INSTRUMENT_ID = HRSC
INSTRUMENT_NAME = "HIGH RESOLUTION STEREO CAMERA"
MISSION_NAME = "MARS EXPRESS"
MISSION_PHASE_NAME = ME_Phase_9
PROCESSING_LEVEL_ID = 4
PRODUCT_CREATION_TIME = 2023-02-11T00:15:54.000Z
PRODUCT_ID = "H4591_0004_SR4.TIF"
RELEASE_ID = 0007
REVISION_ID = 0000
/* QUALITY DATA ELEMENTS */
DATA_QUALITY_ID = 1
DATA_QUALITY_DESC = "Data calculated based on original SPICE kernels"
/* TIME DATA ELEMENTS */
SPACECRAFT_CLOCK_START_COUNT = "1/0134025094.09076"
SPACECRAFT_CLOCK_STOP_COUNT = "1/0134025257.39884"
IMAGE_TIME = 2007-08-01T05:12:50.824Z
START_TIME = 2007-08-01T05:12:50.821Z
STOP_TIME = 2007-08-01T05:12:50.826Z
/* ORBITAL DATA ELEMENTS */
ASCENDING_NODE_LONGITUDE = 132.32
MAXIMUM_RESOLUTION = 0.002761
FOOTPRINT_POINT_LATITUDE = (-81.78,-81.782,-81.7837,-81.7866, -81.7892,-81.7909,-81.7937,-81.7956, -81.7977,-81.7993,-81.8011,-81.8038, -81.8066,-81.8088,-81.8104,-81.8137, -81.8161,-81.8175,-81.8192,-81.8205, -81.822,-81.8239,-81.824,-81.8239, -81.8231,-81.8224,-81.8217,-81.821, -81.8204,-81.8197,-81.819,-81.8183, -81.8176,-81.8169,-81.8162,-81.8156, -81.8149,-81.8143,-81.8137,-81.813, -81.8123,-81.8116,-81.8109,-81.8102, -81.8095,-81.8088,-81.8081,-81.8075, -81.8068,-81.8066,-81.8065,-81.8044, -81.8028,-81.8007,-81.7985,-81.796, -81.7933,-81.7915,-81.7886,-81.7866, -81.7844,-81.7829,-81.7808,-81.7781, -81.7766,-81.7747,-81.7729,-81.7707, -81.7678,-81.7661,-81.7627,-81.7627, -81.7627,-81.7634,-81.7642,-81.7649, -81.7656,-81.7663,-81.767,-81.7676, -81.7683,-81.769,-81.7697,-81.7704, -81.7711,-81.7718,-81.7724,-81.7731, -81.7738,-81.7745,-81.7752,-81.7758, -81.7765,-81.7772,-81.7779,-81.7786, -81.7792,-81.7797,-81.7799,-81.78)
FOOTPRINT_POINT_LONGITUDE = (53.262,53.2566,53.2519,53.2442,53.2371 ,53.2324,53.2247,53.2197,53.2138, 53.2096,53.2047,53.1971,53.1896,53.1835 ,53.1792,53.1703,53.1636,53.1596, 53.1552,53.1516,53.1474,53.1422,53.142, 53.1417,53.1264,53.1141,53.1018,53.0895 ,53.0773,53.065,53.0527,53.0405,53.0282 ,53.0159,53.0037,52.9914,52.9792,52.97, 52.9578,52.9455,52.9333,52.921,52.9088, 52.8966,52.8843,52.8721,52.8599,52.8476 ,52.8354,52.8324,52.8305,52.8363, 52.8407,52.8465,52.8528,52.8597,52.8673 ,52.8722,52.8802,52.8856,52.8919,52.896 ,52.9019,52.9092,52.9133,52.9187, 52.9236,52.9297,52.9375,52.9425,52.9517 ,52.9518,52.9521,52.9643,52.9795, 52.9917,53.0038,53.016,53.0282,53.0404, 53.0526,53.0648,53.077,53.0892,53.1013, 53.1135,53.1258,53.138,53.1502,53.1624, 53.1746,53.1868,53.199,53.2112,53.2235, 53.2357,53.2479,53.2571,53.2601,53.262)
ORBIT_NUMBER = 4591
ORBITAL_ECCENTRICITY = 0.57
ORBITAL_INCLINATION = 86.7
ORBITAL_SEMIMAJOR_AXIS = 8529.56
PERIAPSIS_ALTITUDE = 293.8
PERIAPSIS_ARGUMENT_ANGLE = 270.05
PERIAPSIS_TIME = 2007-08-01T05:10:57.000Z
SPACECRAFT_ORIENTATION = (0.0,-1.0,0.0)
^MEX_ORIENTATION_DESC = "MEX_ORIENTATION_DESC.TXT"
SPACECRAFT_POINTING_MODE = ACROSSTRACK
^MEX_POINTING_DESC = "MEX_POINTING_DESC.TXT"
RIGHT_ASCENSION = -1e+32
DECLINATION = -1e+32
OFFSET_ANGLE = -0.229
SPACECRAFT_SOLAR_DISTANCE = 2.10129e+08
TARGET_NAME = MARS
/* CAMERA DATA ELEMENTS */
BUFFER_MODE_ID = BUFFER_8
EXPOSURE_DURATION = 5.04
INST_CMPRS_NAME = NONE
INST_CMPRS_RATIO = 1.0
INST_CMPRS_QUALITY = -2147483648
INST_CMPRS_QUANTZ_TBL_ID = -2147483648
INSTRUMENT_TEMPERATURE = 8.18182
MISSING_FRAMES = 0
START_BIT = 0
/* RADIOMETRIC DATA ELEMENTS */
BANDWIDTH = 250.0
CENTER_FILTER_WAVELENGTH = 600.0
RADIANCE_OFFSET = -9.99e+31
RADIANCE_SCALING_FACTOR = -9.99e+31
REFLECTANCE_SCALING_FACTOR = -9.99e+31
MEX:REFLECTANCE_OFFSET = -9.99e+31
/* IMAGE OBJECT DEFINITIONS */
OBJECT = IMAGE
  INTERCHANGE_FORMAT = BINARY
  LINES = 1587
  LINE_SAMPLES = 1595
  SAMPLE_TYPE = UNSIGNED_INTEGER
  SAMPLE_BITS = 8
  BANDS = 1
  BAND_STORAGE_TYPE = BAND_SEQUENTIAL
  MAXIMUM = 246
  MEAN = 153.049
  MINIMUM = 20
  STANDARD_DEVIATION = 18.0107
END_OBJECT = IMAGE
/* MAP OBJECT DEFINITIONS */
OBJECT = IMAGE_MAP_PROJECTION
  ^DATA_SET_MAP_PROJECTION_CATALOG= "DSMAP.CAT"
  A_AXIS_RADIUS = 3396.19
  B_AXIS_RADIUS = 3396.19
  C_AXIS_RADIUS = 3396.19
  CENTER_LATITUDE = 0.0
  CENTER_LONGITUDE = 53.0
  COORDINATE_SYSTEM_NAME = PLANETOGRAPHIC
  COORDINATE_SYSTEM_TYPE = "BODY-FIXED ROTATING"
  EASTERNMOST_LONGITUDE = 53.262
  FIRST_STANDARD_PARALLEL = "N/A"
  LINE_FIRST_PIXEL = 1
  LINE_LAST_PIXEL = 1587
  LINE_PROJECTION_OFFSET = -1933545.0
  MAP_PROJECTION_ROTATION = 0.0
  MAP_PROJECTION_TYPE = SINUSOIDAL
  MAP_RESOLUTION = 23709.8786048756
  MAP_SCALE = 0.0025
  MAXIMUM_LATITUDE = -81.7627
  MINIMUM_LATITUDE = -81.824
  POSITIVE_LONGITUDE_DIRECTION = EAST
  REFERENCE_LATITUDE = "N/A"
  REFERENCE_LONGITUDE = "N/A"
  SAMPLE_FIRST_PIXEL = 1
  SAMPLE_LAST_PIXEL = 1595
  SAMPLE_PROJECTION_OFFSET = 273.0
  SECOND_STANDARD_PARALLEL = "N/A"
  WESTERNMOST_LONGITUDE = 52.8305
END_OBJECT = IMAGE_MAP_PROJECTION
END
