PDS_VERSION_ID = PDS3
/* FILE DATA ELEMENTS */
RECORD_TYPE = UNDEFINED
/* POINTERS TO DATA OBJECTS */
^IMAGE = ("H4592_0000_S14.TIF")
/* IDENTIFICATION DATA ELEMENTS */
DATA_SET_ID = "MEX-M-HRSC-4-REFDR-MAPPROJECT-EXT1-V4.0"
DATA_SET_NAME = "MARS EXPRESS HRSC MAP PROJECTED REFDR EXTENSION1 V4.0"
DETECTOR_ID = MEX_HRSC_S1
EVENT_TYPE = "MARS-REGIONAL-MAPPING-Gl-Eo-La"
INSTRUMENT_HOST_ID = MEX
INSTRUMENT_HOST_NAME = "MARS EXPRESS"
INSTRUMENT_ID = HRSC
INSTRUMENT_NAME = "HIGH RESOLUTION STEREO CAMERA"
MISSION_NAME = "MARS EXPRESS"
MISSION_PHASE_NAME = ME_Phase_9
PROCESSING_LEVEL_ID = 4
PRODUCT_CREATION_TIME = 2023-02-11T00:15:54.000Z
PRODUCT_ID = "H4592_0000_S14.TIF"
RELEASE_ID = 0007
REVISION_ID = 0000
/* QUALITY DATA ELEMENTS */
DATA_QUALITY_ID = 1
DATA_QUALITY_DESC = "Data calculated based on original SPICE kernels"
/* TIME DATA ELEMENTS */
SPACECRAFT_CLOCK_START_COUNT = "1/0134049213.07282"
SPACECRAFT_CLOCK_STOP_COUNT = "1/0134049329.07359"
START_TIME = 2007-08-01T11:53:37.141Z
STOP_TIME = 2007-08-01T11:54:38.288Z
/* ORBITAL DATA ELEMENTS */
ASCENDING_NODE_LONGITUDE = 132.3
MAXIMUM_RESOLUTION = 0.0246
FOOTPRINT_POINT_LATITUDE = (-85.6664,-85.8752,-86.0255,-86.1744, -86.3217,-86.4677,-86.6125,-86.6215, -86.6394,-86.6516,-86.6663,-86.6765, -86.6809,-86.6833,-86.6837,-86.6821, -86.6785,-86.6729,-86.6654,-86.6559, -86.6445,-86.6237,-86.6076,-86.5798, -86.5482,-86.5247,-86.4864,-86.444, -86.3822,-86.3319,-86.2781,-86.2403, -86.2012,-86.1607,-86.1189,-86.076, -86.0317,-85.9863,-85.9397,-85.8679, -85.8186,-85.7682,-85.7169,-85.6644, -85.6114,-85.5574,-85.5006,-85.4448, -85.3603,-85.2739,-85.1862,-85.1568, -85.1551,-85.0773,-84.9752,-84.8643, -84.7445,-84.6439,-84.5729,-84.4687, -84.3787,-84.3705,-84.3678,-84.4194, -84.4701,-84.5201,-84.5936,-84.6416, -84.691,-84.7375,-84.8055,-84.8498, -84.8928,-84.9352,-84.9968,-85.0366, -85.0947,-85.1321,-85.2027,-85.2526, -85.2995,-85.3573,-85.3852,-85.4243, -85.4712,-85.4939,-85.5248,-85.5526, -85.5883,-85.6116,-85.6213,-85.6361, -85.6451,-85.6457,-85.641,-85.6366, -85.6313,-85.6244,-85.6201,-85.6664)
FOOTPRINT_POINT_LONGITUDE = (239.053,238.512,238.089,237.638, 237.157,236.642,236.088,236.052,237.567 ,238.938,241.006,243.091,244.489, 245.892,247.295,248.697,250.098,251.492 ,252.88,254.261,255.635,257.675,259.021 ,261.013,262.965,264.25,266.145,268.005 ,270.401,272.14,273.839,274.946,276.028 ,277.091,278.13,279.144,280.141,281.113 ,282.063,283.448,284.344,285.223, 286.079,286.918,287.731,288.527,289.33, 290.088,291.183,292.241,293.258,293.587 ,293.606,292.732,291.654,290.527, 289.361,288.452,287.842,286.984,286.279 ,286.216,286.19,285.546,284.891,284.223 ,283.198,282.5,281.76,281.035,279.923, 279.166,278.398,277.614,276.416,275.601 ,274.352,273.502,271.772,270.442, 269.089,267.247,266.301,264.865,262.921 ,261.918,260.405,258.87,256.323,254.24, 253.187,251.071,248.432,246.313,244.183 ,243.115,242.033,240.954,240.423, 239.053)
ORBIT_NUMBER = 4592
ORBITAL_ECCENTRICITY = 0.57
ORBITAL_INCLINATION = 86.7
ORBITAL_SEMIMAJOR_AXIS = 8529.36
PERIAPSIS_ALTITUDE = 294.54
PERIAPSIS_ARGUMENT_ANGLE = 269.88
PERIAPSIS_TIME = 2007-08-01T11:54:08.000Z
SPACECRAFT_ORIENTATION = (0.0,-1.0,0.0)
^MEX_ORIENTATION_DESC = "MEX_ORIENTATION_DESC.TXT"
SPACECRAFT_POINTING_MODE = ACROSSTRACK
^MEX_POINTING_DESC = "MEX_POINTING_DESC.TXT"
RIGHT_ASCENSION = -1e+32
DECLINATION = -1e+32
OFFSET_ANGLE = 0.5
SPACECRAFT_SOLAR_DISTANCE = 2.10161e+08
TARGET_NAME = MARS
/* CAMERA DATA ELEMENTS */
DETECTOR_TEMPERATURE = 17.7588
FOCAL_PLANE_TEMPERATURE = 9.195
INST_CMPRS_NAME = "DISCRETE COSINE TRANSFORMATION (DCT)"
INST_CMPRS_RATIO = 13.5813
INST_CMPRS_QUALITY = 0
INST_CMPRS_QUANTZ_TBL_ID = 0
INSTRUMENT_TEMPERATURE = 11.4379
LENS_TEMPERATURE = 9.3989
MACROPIXEL_SIZE = 2
MISSING_FRAMES = 1
PIXEL_SUBSAMPLING_FLAG = N
SIGNAL_CHAIN_ID = 1
/* RADIOMETRIC DATA ELEMENTS */
BANDWIDTH = 180.0
CENTER_FILTER_WAVELENGTH = 677.0
RADIANCE_OFFSET = 5.68092
RADIANCE_SCALING_FACTOR = 0.0337354
REFLECTANCE_SCALING_FACTOR = 0.000777379
MEX:REFLECTANCE_OFFSET = 0.130908
/* IMAGE OBJECT DEFINITIONS */
OBJECT = IMAGE
  INTERCHANGE_FORMAT = BINARY
  LINES = 9816
  LINE_SAMPLES = 6051
  SAMPLE_TYPE = UNSIGNED_INTEGER
  SAMPLE_BITS = 8
  BANDS = 1
  BAND_STORAGE_TYPE = BAND_SEQUENTIAL
  MAXIMUM = 255
  MEAN = 178.4
  MINIMUM = 1
  STANDARD_DEVIATION = 88.868
END_OBJECT = IMAGE
/* MAP OBJECT DEFINITIONS */
OBJECT = IMAGE_MAP_PROJECTION
  ^DATA_SET_MAP_PROJECTION_CATALOG= "DSMAP.CAT"
  A_AXIS_RADIUS = 3396.0
  B_AXIS_RADIUS = 3396.0
  C_AXIS_RADIUS = 3396.0
  CENTER_LATITUDE = -90.0
  CENTER_LONGITUDE = 0.0
  COORDINATE_SYSTEM_NAME = PLANETOGRAPHIC
  COORDINATE_SYSTEM_TYPE = "BODY-FIXED ROTATING"
  EASTERNMOST_LONGITUDE = 293.606
  FIRST_STANDARD_PARALLEL = "N/A"
  LINE_FIRST_PIXEL = 1
  LINE_LAST_PIXEL = 9816
  LINE_PROJECTION_OFFSET = 4697.25
  MAP_PROJECTION_ROTATION = 0.0
  MAP_PROJECTION_TYPE = STEREOGRAPHIC
  MAP_RESOLUTION = 2370.85521546667
  MAP_SCALE = 0.025
  MAXIMUM_LATITUDE = -84.3678
  MINIMUM_LATITUDE = -86.6837
  POSITIVE_LONGITUDE_DIRECTION = EAST
  REFERENCE_LATITUDE = "N/A"
  REFERENCE_LONGITUDE = "N/A"
  SAMPLE_FIRST_PIXEL = 1
  SAMPLE_LAST_PIXEL = 6051
  SAMPLE_PROJECTION_OFFSET = 12832.25
  SECOND_STANDARD_PARALLEL = "N/A"
  WESTERNMOST_LONGITUDE = 236.052
END_OBJECT = IMAGE_MAP_PROJECTION
END
