PDS_VERSION_ID = PDS3
/* FILE DATA ELEMENTS */
RECORD_TYPE = UNDEFINED
/* POINTERS TO DATA OBJECTS */
^IMAGE = ("H4592_0006_SR4.TIF")
/* IDENTIFICATION DATA ELEMENTS */
DATA_SET_ID = "MEX-M-HRSC-4-REFDR-MAPPROJECT-EXT1-V4.0"
DATA_SET_NAME = "MARS EXPRESS HRSC MAP PROJECTED REFDR EXTENSION1 V4.0"
DETECTOR_ID = MEX_HRSC_SRC
EVENT_TYPE = "MARS-REGIONAL-MAPPING-Gl-Eo-La"
INSTRUMENT_HOST_ID = MEX
INSTRUMENT_HOST_NAME = "MARS EXPRESS"
INSTRUMENT_ID = HRSC
INSTRUMENT_NAME = "HIGH RESOLUTION STEREO CAMERA"
MISSION_NAME = "MARS EXPRESS"
MISSION_PHASE_NAME = ME_Phase_9
PROCESSING_LEVEL_ID = 4
PRODUCT_CREATION_TIME = 2023-02-11T00:15:54.000Z
PRODUCT_ID = "H4592_0006_SR4.TIF"
RELEASE_ID = 0007
REVISION_ID = 0000
/* QUALITY DATA ELEMENTS */
DATA_QUALITY_ID = 1
DATA_QUALITY_DESC = "Data calculated based on original SPICE kernels"
/* TIME DATA ELEMENTS */
SPACECRAFT_CLOCK_START_COUNT = "1/0134049213.07282"
SPACECRAFT_CLOCK_STOP_COUNT = "1/0134049329.07359"
IMAGE_TIME = 2007-08-01T11:54:59.711Z
START_TIME = 2007-08-01T11:54:59.708Z
STOP_TIME = 2007-08-01T11:54:59.714Z
/* ORBITAL DATA ELEMENTS */
ASCENDING_NODE_LONGITUDE = 132.3
MAXIMUM_RESOLUTION = 0.002685
FOOTPRINT_POINT_LATITUDE = (-84.9523,-84.9546,-84.9561,-84.9579, -84.9591,-84.9601,-84.9614,-84.9635, -84.965,-84.9666,-84.9679,-84.9695, -84.9705,-84.9721,-84.974,-84.9754, -84.9774,-84.9785,-84.9802,-84.9813, -84.9824,-84.9824,-84.9824,-84.981, -84.9796,-84.9782,-84.9768,-84.9755, -84.9741,-84.9727,-84.9713,-84.9699, -84.9685,-84.9671,-84.9657,-84.9643, -84.963,-84.9616,-84.9602,-84.9588, -84.9574,-84.956,-84.9546,-84.9532, -84.9518,-84.9504,-84.949,-84.9476, -84.9473,-84.9471,-84.9447,-84.9428, -84.9415,-84.9403,-84.9392,-84.9378, -84.936,-84.9351,-84.9334,-84.9316, -84.9307,-84.9292,-84.9282,-84.9272, -84.9258,-84.924,-84.9231,-84.9218, -84.9208,-84.9193,-84.9172,-84.9172, -84.9172,-84.9186,-84.92,-84.9214, -84.9227,-84.9241,-84.9255,-84.9269, -84.9283,-84.9297,-84.9311,-84.9324, -84.9338,-84.9352,-84.9366,-84.938, -84.9393,-84.9407,-84.9421,-84.9435, -84.9449,-84.9462,-84.9476,-84.949, -84.9504,-84.9518,-84.9521,-84.9523)
FOOTPRINT_POINT_LONGITUDE = (287.848,287.818,287.798,287.775,287.76 ,287.746,287.729,287.702,287.683, 287.662,287.644,287.624,287.611,287.59, 287.564,287.546,287.52,287.506,287.483, 287.468,287.454,287.454,287.454,287.44, 287.426,287.412,287.399,287.385,287.371 ,287.358,287.344,287.33,287.317,287.303 ,287.289,287.276,287.262,287.249, 287.235,287.221,287.208,287.194,287.18, 287.167,287.153,287.14,287.126,287.113, 287.109,287.107,287.139,287.164,287.181 ,287.197,287.212,287.23,287.253,287.266 ,287.289,287.312,287.324,287.344, 287.356,287.369,287.388,287.412,287.424 ,287.44,287.453,287.472,287.5,287.501, 287.501,287.515,287.528,287.542,287.555 ,287.569,287.583,287.596,287.61,287.623 ,287.637,287.651,287.664,287.678, 287.692,287.705,287.719,287.733,287.746 ,287.76,287.774,287.787,287.801,287.815 ,287.829,287.842,287.846,287.848)
ORBIT_NUMBER = 4592
ORBITAL_ECCENTRICITY = 0.57
ORBITAL_INCLINATION = 86.7
ORBITAL_SEMIMAJOR_AXIS = 8529.36
PERIAPSIS_ALTITUDE = 294.54
PERIAPSIS_ARGUMENT_ANGLE = 269.88
PERIAPSIS_TIME = 2007-08-01T11:54:08.000Z
SPACECRAFT_ORIENTATION = (0.0,-1.0,0.0)
^MEX_ORIENTATION_DESC = "MEX_ORIENTATION_DESC.TXT"
SPACECRAFT_POINTING_MODE = ACROSSTRACK
^MEX_POINTING_DESC = "MEX_POINTING_DESC.TXT"
RIGHT_ASCENSION = -1e+32
DECLINATION = -1e+32
OFFSET_ANGLE = 0.5
SPACECRAFT_SOLAR_DISTANCE = 2.10161e+08
TARGET_NAME = MARS
/* CAMERA DATA ELEMENTS */
BUFFER_MODE_ID = BUFFER_8
EXPOSURE_DURATION = 5.04
INST_CMPRS_NAME = NONE
INST_CMPRS_RATIO = 1.0
INST_CMPRS_QUALITY = -2147483648
INST_CMPRS_QUANTZ_TBL_ID = -2147483648
INSTRUMENT_TEMPERATURE = 6.94296
MISSING_FRAMES = 0
START_BIT = 0
/* RADIOMETRIC DATA ELEMENTS */
BANDWIDTH = 250.0
CENTER_FILTER_WAVELENGTH = 600.0
RADIANCE_OFFSET = -9.99e+31
RADIANCE_SCALING_FACTOR = -9.99e+31
REFLECTANCE_SCALING_FACTOR = -9.99e+31
MEX:REFLECTANCE_OFFSET = -9.99e+31
/* IMAGE OBJECT DEFINITIONS */
OBJECT = IMAGE
  INTERCHANGE_FORMAT = BINARY
  LINES = 1691
  LINE_SAMPLES = 1690
  SAMPLE_TYPE = UNSIGNED_INTEGER
  SAMPLE_BITS = 8
  BANDS = 1
  BAND_STORAGE_TYPE = BAND_SEQUENTIAL
  MAXIMUM = 255
  MEAN = 182.96
  MINIMUM = 7
  STANDARD_DEVIATION = 35.2185
END_OBJECT = IMAGE
/* MAP OBJECT DEFINITIONS */
OBJECT = IMAGE_MAP_PROJECTION
  ^DATA_SET_MAP_PROJECTION_CATALOG= "DSMAP.CAT"
  A_AXIS_RADIUS = 3396.19
  B_AXIS_RADIUS = 3396.19
  C_AXIS_RADIUS = 3396.19
  CENTER_LATITUDE = 0.0
  CENTER_LONGITUDE = 287.0
  COORDINATE_SYSTEM_NAME = PLANETOGRAPHIC
  COORDINATE_SYSTEM_TYPE = "BODY-FIXED ROTATING"
  EASTERNMOST_LONGITUDE = 287.848
  FIRST_STANDARD_PARALLEL = "N/A"
  LINE_FIRST_PIXEL = 1
  LINE_LAST_PIXEL = 1691
  LINE_PROJECTION_OFFSET = -2007043.0
  MAP_PROJECTION_ROTATION = 0.0
  MAP_PROJECTION_TYPE = SINUSOIDAL
  MAP_RESOLUTION = 23709.8786048756
  MAP_SCALE = 0.0025
  MAXIMUM_LATITUDE = -84.91719999999999
  MINIMUM_LATITUDE = -84.9824
  POSITIVE_LONGITUDE_DIRECTION = EAST
  REFERENCE_LATITUDE = "N/A"
  REFERENCE_LONGITUDE = "N/A"
  SAMPLE_FIRST_PIXEL = 1
  SAMPLE_LAST_PIXEL = 1690
  SAMPLE_PROJECTION_OFFSET = 470.0
  SECOND_STANDARD_PARALLEL = "N/A"
  WESTERNMOST_LONGITUDE = 287.107
END_OBJECT = IMAGE_MAP_PROJECTION
END
