PDS_VERSION_ID = PDS3
/* FILE DATA ELEMENTS */
RECORD_TYPE = UNDEFINED
/* POINTERS TO DATA OBJECTS */
^IMAGE = ("H4596_0002_SR4.TIF")
/* IDENTIFICATION DATA ELEMENTS */
DATA_SET_ID = "MEX-M-HRSC-4-REFDR-MAPPROJECT-EXT1-V4.0"
DATA_SET_NAME = "MARS EXPRESS HRSC MAP PROJECTED REFDR EXTENSION1 V4.0"
DETECTOR_ID = MEX_HRSC_SRC
EVENT_TYPE = "MARS-REGIONAL-MAPPING-Gl-Pf-La"
INSTRUMENT_HOST_ID = MEX
INSTRUMENT_HOST_NAME = "MARS EXPRESS"
INSTRUMENT_ID = HRSC
INSTRUMENT_NAME = "HIGH RESOLUTION STEREO CAMERA"
MISSION_NAME = "MARS EXPRESS"
MISSION_PHASE_NAME = ME_Phase_9
PROCESSING_LEVEL_ID = 4
PRODUCT_CREATION_TIME = 2023-02-11T00:15:54.000Z
PRODUCT_ID = "H4596_0002_SR4.TIF"
RELEASE_ID = 0007
REVISION_ID = 0000
/* QUALITY DATA ELEMENTS */
DATA_QUALITY_ID = 1
DATA_QUALITY_DESC = "Data calculated based on original SPICE kernels"
/* TIME DATA ELEMENTS */
SPACECRAFT_CLOCK_START_COUNT = "1/0134146086.09087"
SPACECRAFT_CLOCK_STOP_COUNT = "1/0134146328.31795"
IMAGE_TIME = 2007-08-02T14:48:57.205Z
START_TIME = 2007-08-02T14:48:57.203Z
STOP_TIME = 2007-08-02T14:48:57.208Z
/* ORBITAL DATA ELEMENTS */
ASCENDING_NODE_LONGITUDE = 132.22
MAXIMUM_RESOLUTION = 0.002781
FOOTPRINT_POINT_LATITUDE = (-82.3246,-82.3274,-82.3289,-82.3307, -82.3326,-82.334,-82.3364,-82.3378, -82.3396,-82.3424,-82.3442,-82.3465, -82.348,-82.3501,-82.3527,-82.3548, -82.3573,-82.3602,-82.3622,-82.3645, -82.3666,-82.3689,-82.3689,-82.3689, -82.3679,-82.3672,-82.3665,-82.3658, -82.3651,-82.3644,-82.3632,-82.3625, -82.3618,-82.3611,-82.3604,-82.3597, -82.359,-82.3583,-82.3576,-82.3569, -82.3562,-82.3555,-82.3548,-82.3541, -82.3534,-82.3527,-82.352,-82.3513, -82.3512,-82.3511,-82.3489,-82.346, -82.3441,-82.3423,-82.3407,-82.3389, -82.3366,-82.3332,-82.331,-82.329, -82.3267,-82.3252,-82.3234,-82.322, -82.3198,-82.317,-82.3143,-82.312, -82.3099,-82.3085,-82.307,-82.3069, -82.3069,-82.3076,-82.3083,-82.309, -82.3097,-82.3104,-82.3111,-82.3118, -82.3125,-82.3133,-82.314,-82.3147, -82.3154,-82.3161,-82.3167,-82.3174, -82.3181,-82.3188,-82.3195,-82.3202, -82.3209,-82.3216,-82.3223,-82.3229, -82.3236,-82.3243,-82.3245,-82.3246)
FOOTPRINT_POINT_LONGITUDE = (281.975,281.966,281.962,281.957, 281.951,281.947,281.94,281.936,281.931, 281.923,281.918,281.911,281.907,281.9, 281.893,281.887,281.879,281.871,281.865 ,281.858,281.852,281.845,281.845, 281.845,281.825,281.812,281.798,281.785 ,281.772,281.759,281.736,281.723, 281.709,281.696,281.683,281.669,281.656 ,281.643,281.63,281.616,281.603,281.59, 281.577,281.563,281.55,281.537,281.524, 281.51,281.507,281.505,281.512,281.52, 281.526,281.531,281.536,281.541,281.548 ,281.558,281.565,281.571,281.577, 281.582,281.587,281.592,281.598,281.606 ,281.614,281.621,281.627,281.631, 281.636,281.636,281.636,281.649,281.663 ,281.676,281.689,281.702,281.715, 281.728,281.742,281.758,281.771,281.784 ,281.797,281.81,281.824,281.837,281.85, 281.863,281.877,281.89,281.903,281.916, 281.93,281.943,281.956,281.969,281.973, 281.975)
ORBIT_NUMBER = 4596
ORBITAL_ECCENTRICITY = 0.57
ORBITAL_INCLINATION = 86.69
ORBITAL_SEMIMAJOR_AXIS = 8530.45
PERIAPSIS_ALTITUDE = 294.69
PERIAPSIS_ARGUMENT_ANGLE = 269.19
PERIAPSIS_TIME = 2007-08-02T14:46:58.000Z
SPACECRAFT_ORIENTATION = (0.0,-1.0,0.0)
^MEX_ORIENTATION_DESC = "MEX_ORIENTATION_DESC.TXT"
SPACECRAFT_POINTING_MODE = ACROSSTRACK
^MEX_POINTING_DESC = "MEX_POINTING_DESC.TXT"
RIGHT_ASCENSION = -1e+32
DECLINATION = -1e+32
OFFSET_ANGLE = -0.44
SPACECRAFT_SOLAR_DISTANCE = 2.10292e+08
TARGET_NAME = MARS
/* CAMERA DATA ELEMENTS */
BUFFER_MODE_ID = BUFFER_8
EXPOSURE_DURATION = 5.04
INST_CMPRS_NAME = NONE
INST_CMPRS_RATIO = 1.0
INST_CMPRS_QUALITY = -2147483648
INST_CMPRS_QUANTZ_TBL_ID = -2147483648
INSTRUMENT_TEMPERATURE = 5.55787
MISSING_FRAMES = 0
START_BIT = 0
/* RADIOMETRIC DATA ELEMENTS */
BANDWIDTH = 250.0
CENTER_FILTER_WAVELENGTH = 600.0
RADIANCE_OFFSET = -9.99e+31
RADIANCE_SCALING_FACTOR = -9.99e+31
REFLECTANCE_SCALING_FACTOR = -9.99e+31
MEX:REFLECTANCE_OFFSET = -9.99e+31
/* IMAGE OBJECT DEFINITIONS */
OBJECT = IMAGE
  INTERCHANGE_FORMAT = BINARY
  LINES = 1598
  LINE_SAMPLES = 1607
  SAMPLE_TYPE = UNSIGNED_INTEGER
  SAMPLE_BITS = 8
  BANDS = 1
  BAND_STORAGE_TYPE = BAND_SEQUENTIAL
  MAXIMUM = 252
  MEAN = 138.928
  MINIMUM = 2
  STANDARD_DEVIATION = 31.3853
END_OBJECT = IMAGE
/* MAP OBJECT DEFINITIONS */
OBJECT = IMAGE_MAP_PROJECTION
  ^DATA_SET_MAP_PROJECTION_CATALOG= "DSMAP.CAT"
  A_AXIS_RADIUS = 3396.19
  B_AXIS_RADIUS = 3396.19
  C_AXIS_RADIUS = 3396.19
  CENTER_LATITUDE = 0.0
  CENTER_LONGITUDE = 282.0
  COORDINATE_SYSTEM_NAME = PLANETOGRAPHIC
  COORDINATE_SYSTEM_TYPE = "BODY-FIXED ROTATING"
  EASTERNMOST_LONGITUDE = 281.975
  FIRST_STANDARD_PARALLEL = "N/A"
  LINE_FIRST_PIXEL = 1
  LINE_LAST_PIXEL = 1598
  LINE_PROJECTION_OFFSET = -1946511.0
  MAP_PROJECTION_ROTATION = 0.0
  MAP_PROJECTION_TYPE = SINUSOIDAL
  MAP_RESOLUTION = 23709.8786048756
  MAP_SCALE = 0.0025
  MAXIMUM_LATITUDE = -82.3069
  MINIMUM_LATITUDE = -82.3689
  POSITIVE_LONGITUDE_DIRECTION = EAST
  REFERENCE_LATITUDE = "N/A"
  REFERENCE_LONGITUDE = "N/A"
  SAMPLE_FIRST_PIXEL = 1
  SAMPLE_LAST_PIXEL = 1607
  SAMPLE_PROJECTION_OFFSET = 913.0
  SECOND_STANDARD_PARALLEL = "N/A"
  WESTERNMOST_LONGITUDE = 281.505
END_OBJECT = IMAGE_MAP_PROJECTION
END
