PDS_VERSION_ID = PDS3
/* FILE DATA ELEMENTS */
RECORD_TYPE = UNDEFINED
/* POINTERS TO DATA OBJECTS */
^IMAGE = ("H4600_0000_S14.TIF")
/* IDENTIFICATION DATA ELEMENTS */
DATA_SET_ID = "MEX-M-HRSC-4-REFDR-MAPPROJECT-EXT1-V4.0"
DATA_SET_NAME = "MARS EXPRESS HRSC MAP PROJECTED REFDR EXTENSION1 V4.0"
DETECTOR_ID = MEX_HRSC_S1
EVENT_TYPE = "MARS-REGIONAL-MAPPING-Im-Eo"
INSTRUMENT_HOST_ID = MEX
INSTRUMENT_HOST_NAME = "MARS EXPRESS"
INSTRUMENT_ID = HRSC
INSTRUMENT_NAME = "HIGH RESOLUTION STEREO CAMERA"
MISSION_NAME = "MARS EXPRESS"
MISSION_PHASE_NAME = ME_Phase_9
PROCESSING_LEVEL_ID = 4
PRODUCT_CREATION_TIME = 2023-02-11T00:15:54.000Z
PRODUCT_ID = "H4600_0000_S14.TIF"
RELEASE_ID = 0007
REVISION_ID = 0000
/* QUALITY DATA ELEMENTS */
DATA_QUALITY_ID = 1
DATA_QUALITY_DESC = "Data calculated based on original SPICE kernels"
/* TIME DATA ELEMENTS */
SPACECRAFT_CLOCK_START_COUNT = "1/0134243120.08262"
SPACECRAFT_CLOCK_STOP_COUNT = "1/0134243343.13694"
START_TIME = 2007-08-03T17:45:24.151Z
STOP_TIME = 2007-08-03T17:47:22.801Z
/* ORBITAL DATA ELEMENTS */
ASCENDING_NODE_LONGITUDE = 132.14
MAXIMUM_RESOLUTION = 0.0332
FOOTPRINT_POINT_LATITUDE = (-66.9712,-66.9928,-67.0127,-67.0308, -67.0469,-67.0611,-67.0775,-67.0782, -66.9929,-66.7746,-66.5568,-66.2662, -65.9761,-65.5411,-65.1702,-64.8729, -64.5762,-64.4274,-64.2748,-64.1223, -63.9704,-63.8175,-63.5889,-63.4393, -63.2843,-63.1278,-62.9724,-62.8174, -62.6616,-62.506,-62.3479,-62.1884, -62.0295,-61.8705,-61.7116,-61.5529, -61.3906,-61.2281,-61.0654,-60.9027, -60.74,-60.5757,-60.409,-60.1593, -59.9932,-59.8274,-59.6583,-59.4885, -59.3189,-59.2343,-59.2087,-59.2007, -59.1924,-59.183,-59.1732,-59.1638, -59.1512,-59.1379,-59.1367,-59.1369, -59.3048,-59.4738,-59.6425,-59.8931, -60.1414,-60.3895,-60.5553,-60.7166, -60.8787,-61.1214,-61.2819,-61.444, -61.6028,-61.7603,-61.9184,-62.0771, -62.3147,-62.5489,-62.7038,-62.8592, -63.092,-63.2471,-63.4002,-63.5512, -63.7029,-63.9297,-64.0809,-64.2326, -64.4575,-64.7528,-64.9736,-65.1219, -65.4178,-65.634,-65.8503,-66.1389, -66.428,-66.7896,-66.8619,-66.9712)
FOOTPRINT_POINT_LONGITUDE = (260.966,261.481,262.0,262.524,263.05, 263.58,264.316,264.35,264.497,264.547, 264.595,264.657,264.718,264.806,264.878 ,264.934,264.988,265.015,265.043,265.07 ,265.096,265.123,265.162,265.183, 265.208,265.234,265.258,265.282,265.306 ,265.33,265.354,265.378,265.401,265.424 ,265.446,265.469,265.491,265.513, 265.536,265.558,265.579,265.601,265.623 ,265.656,265.677,265.697,265.718, 265.739,265.759,265.769,265.772,265.072 ,264.566,264.158,263.719,263.376, 262.973,262.572,262.541,262.53,262.507, 262.485,262.462,262.427,262.391,262.355 ,262.33,262.305,262.28,262.242,262.215, 262.189,262.162,262.135,262.108,262.08, 262.037,261.994,261.965,261.936,261.891 ,261.86,261.829,261.798,261.766,261.718 ,261.685,261.652,261.602,261.534, 261.481,261.446,261.373,261.318,261.262 ,261.185,261.106,261.003,260.982, 260.966)
ORBIT_NUMBER = 4600
ORBITAL_ECCENTRICITY = 0.57
ORBITAL_INCLINATION = 86.69
ORBITAL_SEMIMAJOR_AXIS = 8530.56
PERIAPSIS_ALTITUDE = 294.37
PERIAPSIS_ARGUMENT_ANGLE = 268.48
PERIAPSIS_TIME = 2007-08-03T17:39:46.000Z
SPACECRAFT_ORIENTATION = (0.0,-1.0,0.0)
^MEX_ORIENTATION_DESC = "MEX_ORIENTATION_DESC.TXT"
SPACECRAFT_POINTING_MODE = ACROSSTRACK
^MEX_POINTING_DESC = "MEX_POINTING_DESC.TXT"
RIGHT_ASCENSION = -1e+32
DECLINATION = -1e+32
OFFSET_ANGLE = -0.458
SPACECRAFT_SOLAR_DISTANCE = 2.10425e+08
TARGET_NAME = MARS
/* CAMERA DATA ELEMENTS */
DETECTOR_TEMPERATURE = 17.351
FOCAL_PLANE_TEMPERATURE = 7.7677
INST_CMPRS_NAME = "DISCRETE COSINE TRANSFORMATION (DCT)"
INST_CMPRS_RATIO = 10.5074
INST_CMPRS_QUALITY = 0
INST_CMPRS_QUANTZ_TBL_ID = 0
INSTRUMENT_TEMPERATURE = 11.0301
LENS_TEMPERATURE = 8.3794
MACROPIXEL_SIZE = 2
MISSING_FRAMES = 0
PIXEL_SUBSAMPLING_FLAG = N
SIGNAL_CHAIN_ID = 1
/* RADIOMETRIC DATA ELEMENTS */
BANDWIDTH = 180.0
CENTER_FILTER_WAVELENGTH = 677.0
RADIANCE_OFFSET = 9.68268
RADIANCE_SCALING_FACTOR = 0.010138
REFLECTANCE_SCALING_FACTOR = 0.000234201
MEX:REFLECTANCE_OFFSET = 0.223683
/* IMAGE OBJECT DEFINITIONS */
OBJECT = IMAGE
  INTERCHANGE_FORMAT = BINARY
  LINES = 18704
  LINE_SAMPLES = 5183
  SAMPLE_TYPE = UNSIGNED_INTEGER
  SAMPLE_BITS = 8
  BANDS = 1
  BAND_STORAGE_TYPE = BAND_SEQUENTIAL
  MAXIMUM = 255
  MEAN = 170.897
  MINIMUM = 1
  STANDARD_DEVIATION = 35.7942
END_OBJECT = IMAGE
/* MAP OBJECT DEFINITIONS */
OBJECT = IMAGE_MAP_PROJECTION
  ^DATA_SET_MAP_PROJECTION_CATALOG= "DSMAP.CAT"
  A_AXIS_RADIUS = 3396.0
  B_AXIS_RADIUS = 3396.0
  C_AXIS_RADIUS = 3396.0
  CENTER_LATITUDE = 0.0
  CENTER_LONGITUDE = 264.0
  COORDINATE_SYSTEM_NAME = PLANETOGRAPHIC
  COORDINATE_SYSTEM_TYPE = "BODY-FIXED ROTATING"
  EASTERNMOST_LONGITUDE = 265.772
  FIRST_STANDARD_PARALLEL = "N/A"
  LINE_FIRST_PIXEL = 1
  LINE_LAST_PIXEL = 18704
  LINE_PROJECTION_OFFSET = -140116.25
  MAP_PROJECTION_ROTATION = 0.0
  MAP_PROJECTION_TYPE = SINUSOIDAL
  MAP_RESOLUTION = 2370.85521546667
  MAP_SCALE = 0.025
  MAXIMUM_LATITUDE = -59.1367
  MINIMUM_LATITUDE = -67.0782
  POSITIVE_LONGITUDE_DIRECTION = EAST
  REFERENCE_LATITUDE = "N/A"
  REFERENCE_LONGITUDE = "N/A"
  SAMPLE_FIRST_PIXEL = 1
  SAMPLE_LAST_PIXEL = 5183
  SAMPLE_PROJECTION_OFFSET = 2916.25
  SECOND_STANDARD_PARALLEL = "N/A"
  WESTERNMOST_LONGITUDE = 260.966
END_OBJECT = IMAGE_MAP_PROJECTION
END
