PDS_VERSION_ID = PDS3
/* FILE DATA ELEMENTS */
RECORD_TYPE = UNDEFINED
/* POINTERS TO DATA OBJECTS */
^IMAGE = ("H4602_0000_S14.TIF")
/* IDENTIFICATION DATA ELEMENTS */
DATA_SET_ID = "MEX-M-HRSC-4-REFDR-MAPPROJECT-EXT1-V4.0"
DATA_SET_NAME = "MARS EXPRESS HRSC MAP PROJECTED REFDR EXTENSION1 V4.0"
DETECTOR_ID = MEX_HRSC_S1
EVENT_TYPE = "MARS-REGIONAL-MAPPING-Im-Gl-Pf"
INSTRUMENT_HOST_ID = MEX
INSTRUMENT_HOST_NAME = "MARS EXPRESS"
INSTRUMENT_ID = HRSC
INSTRUMENT_NAME = "HIGH RESOLUTION STEREO CAMERA"
MISSION_NAME = "MARS EXPRESS"
MISSION_PHASE_NAME = ME_Phase_9
PROCESSING_LEVEL_ID = 4
PRODUCT_CREATION_TIME = 2023-02-11T00:15:54.000Z
PRODUCT_ID = "H4602_0000_S14.TIF"
RELEASE_ID = 0007
REVISION_ID = 0000
/* QUALITY DATA ELEMENTS */
DATA_QUALITY_ID = 1
DATA_QUALITY_DESC = "Data calculated based on original SPICE kernels"
/* TIME DATA ELEMENTS */
SPACECRAFT_CLOCK_START_COUNT = "1/0134291308.08248"
SPACECRAFT_CLOCK_STOP_COUNT = "1/0134291537.64027"
START_TIME = 2007-08-04T07:08:32.147Z
STOP_TIME = 2007-08-04T07:11:06.627Z
/* ORBITAL DATA ELEMENTS */
ASCENDING_NODE_LONGITUDE = 132.1
MAXIMUM_RESOLUTION = 0.0262
FOOTPRINT_POINT_LATITUDE = (-79.7961,-79.9578,-80.0823,-80.1964, -80.1998,-80.1095,-79.6543,-79.3801, -79.0016,-78.7164,-78.5257,-78.3344, -78.1431,-77.9523,-77.6645,-77.3835, -77.1915,-76.9949,-76.795,-76.4961, -76.2967,-76.0967,-75.8972,-75.6971, -75.4974,-75.194,-74.9899,-74.7805, -74.5723,-74.3647,-74.1571,-73.9501, -73.7472,-73.5365,-73.3279,-73.1201, -72.9123,-72.7028,-72.3908,-72.1812, -71.975,-71.7652,-71.4519,-71.1397, -70.9316,-70.7245,-70.371,-70.1224, -70.0029,-69.987,-69.9302,-69.8883, -69.7962,-69.7368,-69.7339,-69.7333, -69.9801,-70.2282,-70.4539,-70.6578, -70.8635,-71.0705,-71.277,-71.5843, -71.8931,-72.0986,-72.3048,-72.6137, -72.8201,-73.0276,-73.2367,-73.4384, -73.6434,-73.9486,-74.255,-74.5635, -74.7715,-74.9725,-75.1689,-75.4632, -75.6601,-75.8566,-76.0523,-76.2466, -76.4419,-76.7337,-76.923,-77.1107, -77.2985,-77.5776,-77.7666,-77.953, -78.1391,-78.3256,-78.5114,-78.9716, -79.3261,-79.589,-79.6744,-79.7961)
FOOTPRINT_POINT_LONGITUDE = (49.3419,51.3259,53.0232,54.744,54.7981 ,55.0377,55.8885,56.3636,56.9785, 57.4125,57.6901,57.959,58.2186,58.4687, 58.8307,59.1648,59.3857,59.6052,59.8214 ,60.1315,60.3306,60.5243,60.7116,60.894 ,61.0706,61.3305,61.4974,61.6656, 61.8277,61.9846,62.137,62.2847,62.4242, 62.5679,62.7056,62.839,62.9689,63.0971, 63.2813,63.4017,63.5163,63.631,63.797, 63.9561,64.0591,64.159,64.3263,64.4391, 64.4908,64.498,63.5318,62.8867,61.593, 60.8369,60.8009,60.7876,60.6545,60.5186 ,60.3903,60.2672,60.1424,60.0158, 59.8855,59.6821,59.4724,59.3278,59.18, 58.9509,58.7935,58.6329,58.4694,58.2954 ,58.1195,57.8447,57.5597,57.2643, 57.0623,56.853,56.6422,56.3145,56.089, 55.8564,55.6166,55.3686,55.1141,54.7169 ,54.4504,54.1767,53.8946,53.4536, 53.1501,52.8352,52.5101,52.1747,51.8278 ,50.9105,50.1436,49.5324,49.3207, 49.3419)
ORBIT_NUMBER = 4602
ORBITAL_ECCENTRICITY = 0.57
ORBITAL_INCLINATION = 86.7
ORBITAL_SEMIMAJOR_AXIS = 8529.57
PERIAPSIS_ALTITUDE = 294.05
PERIAPSIS_ARGUMENT_ANGLE = 268.15
PERIAPSIS_TIME = 2007-08-04T07:06:10.000Z
SPACECRAFT_ORIENTATION = (0.0,-1.0,0.0)
^MEX_ORIENTATION_DESC = "MEX_ORIENTATION_DESC.TXT"
SPACECRAFT_POINTING_MODE = ACROSSTRACK
^MEX_POINTING_DESC = "MEX_POINTING_DESC.TXT"
RIGHT_ASCENSION = -1e+32
DECLINATION = -1e+32
OFFSET_ANGLE = 0.39
SPACECRAFT_SOLAR_DISTANCE = 2.10492e+08
TARGET_NAME = MARS
/* CAMERA DATA ELEMENTS */
DETECTOR_TEMPERATURE = 17.351
FOCAL_PLANE_TEMPERATURE = 8.9911
INST_CMPRS_NAME = "DISCRETE COSINE TRANSFORMATION (DCT)"
INST_CMPRS_RATIO = 10.8341
INST_CMPRS_QUALITY = 0
INST_CMPRS_QUANTZ_TBL_ID = 0
INSTRUMENT_TEMPERATURE = 11.234
LENS_TEMPERATURE = 9.195
MACROPIXEL_SIZE = 2
MISSING_FRAMES = 0
PIXEL_SUBSAMPLING_FLAG = N
SIGNAL_CHAIN_ID = 1
/* RADIOMETRIC DATA ELEMENTS */
BANDWIDTH = 180.0
CENTER_FILTER_WAVELENGTH = 677.0
RADIANCE_OFFSET = 7.49267
RADIANCE_SCALING_FACTOR = 0.0109031
REFLECTANCE_SCALING_FACTOR = 0.000252036
MEX:REFLECTANCE_OFFSET = 0.1732
/* IMAGE OBJECT DEFINITIONS */
OBJECT = IMAGE
  INTERCHANGE_FORMAT = BINARY
  LINES = 24547
  LINE_SAMPLES = 8705
  SAMPLE_TYPE = UNSIGNED_INTEGER
  SAMPLE_BITS = 8
  BANDS = 1
  BAND_STORAGE_TYPE = BAND_SEQUENTIAL
  MAXIMUM = 255
  MEAN = 148.343
  MINIMUM = 1
  STANDARD_DEVIATION = 43.3049
END_OBJECT = IMAGE
/* MAP OBJECT DEFINITIONS */
OBJECT = IMAGE_MAP_PROJECTION
  ^DATA_SET_MAP_PROJECTION_CATALOG= "DSMAP.CAT"
  A_AXIS_RADIUS = 3396.0
  B_AXIS_RADIUS = 3396.0
  C_AXIS_RADIUS = 3396.0
  CENTER_LATITUDE = 0.0
  CENTER_LONGITUDE = 59.0
  COORDINATE_SYSTEM_NAME = PLANETOGRAPHIC
  COORDINATE_SYSTEM_TYPE = "BODY-FIXED ROTATING"
  EASTERNMOST_LONGITUDE = 64.498
  FIRST_STANDARD_PARALLEL = "N/A"
  LINE_FIRST_PIXEL = 1
  LINE_LAST_PIXEL = 24547
  LINE_PROJECTION_OFFSET = -165301.25
  MAP_PROJECTION_ROTATION = 0.0
  MAP_PROJECTION_TYPE = SINUSOIDAL
  MAP_RESOLUTION = 2370.85521546667
  MAP_SCALE = 0.025
  MAXIMUM_LATITUDE = -69.7333
  MINIMUM_LATITUDE = -80.1998
  POSITIVE_LONGITUDE_DIRECTION = EAST
  REFERENCE_LATITUDE = "N/A"
  REFERENCE_LONGITUDE = "N/A"
  SAMPLE_FIRST_PIXEL = 1
  SAMPLE_LAST_PIXEL = 8705
  SAMPLE_PROJECTION_OFFSET = 4148.25
  SECOND_STANDARD_PARALLEL = "N/A"
  WESTERNMOST_LONGITUDE = 49.3207
END_OBJECT = IMAGE_MAP_PROJECTION
END
