PDS_VERSION_ID = PDS3
/* FILE DATA ELEMENTS */
RECORD_TYPE = UNDEFINED
/* POINTERS TO DATA OBJECTS */
^IMAGE = ("H4604_0000_RE4.TIF")
/* IDENTIFICATION DATA ELEMENTS */
DATA_SET_ID = "MEX-M-HRSC-4-REFDR-MAPPROJECT-EXT1-V4.0"
DATA_SET_NAME = "MARS EXPRESS HRSC MAP PROJECTED REFDR EXTENSION1 V4.0"
DETECTOR_ID = MEX_HRSC_RED
EVENT_TYPE = "MARS-REGIONAL-MAPPING-Gl-Eo-La"
INSTRUMENT_HOST_ID = MEX
INSTRUMENT_HOST_NAME = "MARS EXPRESS"
INSTRUMENT_ID = HRSC
INSTRUMENT_NAME = "HIGH RESOLUTION STEREO CAMERA"
MISSION_NAME = "MARS EXPRESS"
MISSION_PHASE_NAME = ME_Phase_9
PROCESSING_LEVEL_ID = 4
PRODUCT_CREATION_TIME = 2023-02-11T00:15:54.000Z
PRODUCT_ID = "H4604_0000_RE4.TIF"
RELEASE_ID = 0007
REVISION_ID = 0000
/* QUALITY DATA ELEMENTS */
DATA_QUALITY_ID = 1
DATA_QUALITY_DESC = "Data calculated based on original SPICE kernels"
/* TIME DATA ELEMENTS */
SPACECRAFT_CLOCK_START_COUNT = "1/0134339648.08577"
SPACECRAFT_CLOCK_STOP_COUNT = "1/0134339796.22689"
START_TIME = 2007-08-04T20:35:02.043Z
STOP_TIME = 2007-08-04T20:36:32.771Z
/* ORBITAL DATA ELEMENTS */
ASCENDING_NODE_LONGITUDE = 132.06
MAXIMUM_RESOLUTION = 0.0259
FOOTPRINT_POINT_LATITUDE = (-82.5681,-82.6572,-82.7709,-82.8478, -82.9635,-83.0283,-83.0323,-83.1169, -82.8639,-82.6605,-82.502,-82.3961, -82.2902,-82.1307,-82.0243,-81.8643, -81.7041,-81.5971,-81.49,-81.3828, -81.2756,-81.1144,-81.0069,-80.8993, -80.6838,-80.574,-80.4626,-80.2959, -80.1844,-80.0726,-79.9608,-79.7929, -79.6806,-79.5686,-79.4566,-79.3446, -79.2326,-79.0644,-78.952,-78.7793, -78.6635,-78.4898,-78.3743,-78.2584, -78.1427,-77.9697,-77.7959,-77.6801, -77.6222,-77.6084,-77.5575,-77.4969, -77.4536,-77.4207,-77.3672,-77.3146, -77.3112,-77.3104,-77.4237,-77.5369, -77.6494,-77.7626,-77.8762,-78.046, -78.1594,-78.2754,-78.3888,-78.5001, -78.6105,-78.7189,-78.8824,-78.9912, -79.1004,-79.2636,-79.3716,-79.4801, -79.5894,-79.6986,-79.807,-79.9686, -80.076,-80.1837,-80.2901,-80.4977, -80.7047,-80.911,-81.1167,-81.2192, -81.3215,-81.4236,-81.5254,-81.6776, -81.7788,-81.8797,-81.9803,-82.2289, -82.4206,-82.5634,-82.6108,-82.5681)
FOOTPRINT_POINT_LONGITUDE = (206.466,207.688,209.361,210.576, 212.556,213.763,213.839,213.823,214.712 ,215.377,215.868,216.184,216.492, 216.936,217.223,217.638,218.036,218.293 ,218.544,218.788,219.025,219.371, 219.594,219.812,220.232,220.439,220.643 ,220.941,221.134,221.322,221.506, 221.773,221.947,222.116,222.282,222.444 ,222.603,222.835,222.985,223.21,223.357 ,223.572,223.712,223.848,223.982, 224.178,224.368,224.492,224.552,224.567 ,223.453,222.297,221.514,220.943, 220.067,219.248,219.197,219.178,219.023 ,218.866,218.708,218.545,218.376, 218.118,217.941,217.75,217.565,217.384, 217.201,217.015,216.724,216.526,216.322 ,216.008,215.797,215.578,215.35,215.117 ,214.882,214.523,214.278,214.025, 213.769,213.25,212.707,212.137,211.539, 211.229,210.911,210.585,210.252,209.735 ,209.38,209.015,208.64,207.667,206.864, 206.234,206.019,206.466)
ORBIT_NUMBER = 4604
ORBITAL_ECCENTRICITY = 0.57
ORBITAL_INCLINATION = 86.7
ORBITAL_SEMIMAJOR_AXIS = 8530.07
PERIAPSIS_ALTITUDE = 293.94
PERIAPSIS_ARGUMENT_ANGLE = 267.79
PERIAPSIS_TIME = 2007-08-04T20:32:31.000Z
SPACECRAFT_ORIENTATION = (0.0,-1.0,0.0)
^MEX_ORIENTATION_DESC = "MEX_ORIENTATION_DESC.TXT"
SPACECRAFT_POINTING_MODE = NADIR
^MEX_POINTING_DESC = "MEX_POINTING_DESC.TXT"
RIGHT_ASCENSION = -1e+32
DECLINATION = -1e+32
OFFSET_ANGLE = -1e+32
SPACECRAFT_SOLAR_DISTANCE = 2.1056e+08
TARGET_NAME = MARS
/* CAMERA DATA ELEMENTS */
DETECTOR_TEMPERATURE = 18.7783
FOCAL_PLANE_TEMPERATURE = 9.3989
INST_CMPRS_NAME = "DISCRETE COSINE TRANSFORMATION (DCT)"
INST_CMPRS_RATIO = 7.34297
INST_CMPRS_QUALITY = 0
INST_CMPRS_QUANTZ_TBL_ID = 0
INSTRUMENT_TEMPERATURE = 11.4379
LENS_TEMPERATURE = 9.3989
MACROPIXEL_SIZE = 2
MISSING_FRAMES = 0
PIXEL_SUBSAMPLING_FLAG = N
SIGNAL_CHAIN_ID = 3
/* RADIOMETRIC DATA ELEMENTS */
BANDWIDTH = 48.0
CENTER_FILTER_WAVELENGTH = 748.0
RADIANCE_OFFSET = 1.30416
RADIANCE_SCALING_FACTOR = 0.00285223
REFLECTANCE_SCALING_FACTOR = 0.000288576
MEX:REFLECTANCE_OFFSET = 0.131949
/* IMAGE OBJECT DEFINITIONS */
OBJECT = IMAGE
  INTERCHANGE_FORMAT = BINARY
  LINES = 13758
  LINE_SAMPLES = 7129
  SAMPLE_TYPE = UNSIGNED_INTEGER
  SAMPLE_BITS = 8
  BANDS = 1
  BAND_STORAGE_TYPE = BAND_SEQUENTIAL
  MAXIMUM = 255
  MEAN = 114.539
  MINIMUM = 1
  STANDARD_DEVIATION = 42.6566
END_OBJECT = IMAGE
/* MAP OBJECT DEFINITIONS */
OBJECT = IMAGE_MAP_PROJECTION
  ^DATA_SET_MAP_PROJECTION_CATALOG= "DSMAP.CAT"
  A_AXIS_RADIUS = 3396.0
  B_AXIS_RADIUS = 3396.0
  C_AXIS_RADIUS = 3396.0
  CENTER_LATITUDE = 0.0
  CENTER_LONGITUDE = 217.0
  COORDINATE_SYSTEM_NAME = PLANETOGRAPHIC
  COORDINATE_SYSTEM_TYPE = "BODY-FIXED ROTATING"
  EASTERNMOST_LONGITUDE = 224.567
  FIRST_STANDARD_PARALLEL = "N/A"
  LINE_FIRST_PIXEL = 1
  LINE_LAST_PIXEL = 13758
  LINE_PROJECTION_OFFSET = -183335.25
  MAP_PROJECTION_ROTATION = 0.0
  MAP_PROJECTION_TYPE = SINUSOIDAL
  MAP_RESOLUTION = 2370.85521546667
  MAP_SCALE = 0.025
  MAXIMUM_LATITUDE = -77.3104
  MINIMUM_LATITUDE = -83.1169
  POSITIVE_LONGITUDE_DIRECTION = EAST
  REFERENCE_LATITUDE = "N/A"
  REFERENCE_LONGITUDE = "N/A"
  SAMPLE_FIRST_PIXEL = 1
  SAMPLE_LAST_PIXEL = 7129
  SAMPLE_PROJECTION_OFFSET = 3354.25
  SECOND_STANDARD_PARALLEL = "N/A"
  WESTERNMOST_LONGITUDE = 206.019
END_OBJECT = IMAGE_MAP_PROJECTION
END
