PDS_VERSION_ID = PDS3
/* FILE DATA ELEMENTS */
RECORD_TYPE = UNDEFINED
/* POINTERS TO DATA OBJECTS */
^IMAGE = ("H4608_0000_BL4.TIF")
/* IDENTIFICATION DATA ELEMENTS */
DATA_SET_ID = "MEX-M-HRSC-4-REFDR-MAPPROJECT-EXT1-V4.0"
DATA_SET_NAME = "MARS EXPRESS HRSC MAP PROJECTED REFDR EXTENSION1 V4.0"
DETECTOR_ID = MEX_HRSC_BLUE
EVENT_TYPE = "MARS-REGIONAL-MAPPING-Im-Fl-Pf"
INSTRUMENT_HOST_ID = MEX
INSTRUMENT_HOST_NAME = "MARS EXPRESS"
INSTRUMENT_ID = HRSC
INSTRUMENT_NAME = "HIGH RESOLUTION STEREO CAMERA"
MISSION_NAME = "MARS EXPRESS"
MISSION_PHASE_NAME = ME_Phase_9
PROCESSING_LEVEL_ID = 4
PRODUCT_CREATION_TIME = 2023-02-11T00:15:54.000Z
PRODUCT_ID = "H4608_0000_BL4.TIF"
RELEASE_ID = 0007
REVISION_ID = 0000
/* QUALITY DATA ELEMENTS */
DATA_QUALITY_ID = 1
DATA_QUALITY_DESC = "Data calculated based on original SPICE kernels"
/* TIME DATA ELEMENTS */
SPACECRAFT_CLOCK_START_COUNT = "1/0134436526.09067"
SPACECRAFT_CLOCK_STOP_COUNT = "1/0134436819.21104"
START_TIME = 2007-08-05T23:29:25.393Z
STOP_TIME = 2007-08-05T23:32:58.861Z
/* ORBITAL DATA ELEMENTS */
ASCENDING_NODE_LONGITUDE = 131.98
MAXIMUM_RESOLUTION = 0.0549
FOOTPRINT_POINT_LATITUDE = (-76.578,-76.6997,-76.8456,-76.8477, -76.87,-76.5362,-76.2021,-75.7574, -75.5338,-75.3114,-74.8668,-74.4237, -73.8071,-73.5431,-73.1469,-72.8835, -72.6208,-72.3572,-72.0944,-71.8314, -71.5689,-71.3064,-71.0445,-70.7828, -70.5214,-70.2602,-69.9995,-69.7394, -69.34,-69.0733,-68.807,-68.4002, -68.1279,-67.856,-67.5793,-67.3012, -67.0235,-66.7425,-66.4588,-66.1756, -65.889,-65.6002,-65.3116,-65.0191, -64.7246,-64.2808,-63.9811,-63.8314, -63.7444,-63.7143,-63.6606,-63.6291, -63.5826,-63.5807,-63.5811,-63.8788, -64.3247,-64.617,-64.9104,-65.3441, -65.6314,-65.917,-66.1981,-66.4799, -66.761,-67.0368,-67.3129,-67.5891, -67.8593,-68.1307,-68.537,-68.8013, -69.1982,-69.4628,-69.7214,-69.9801, -70.239,-70.4982,-70.7576,-71.0173, -71.2771,-71.537,-71.7975,-72.0577, -72.3183,-72.5787,-72.8396,-73.1007, -73.362,-73.6235,-74.003,-74.4412, -74.8803,-75.2089,-75.6471,-75.8664, -76.0855,-76.4141,-76.5236,-76.578)
FOOTPRINT_POINT_LONGITUDE = (187.084,189.04,191.852,191.898,192.013 ,192.318,192.606,192.971,193.138, 193.305,193.623,193.926,194.305,194.462 ,194.687,194.832,194.974,195.107, 195.238,195.363,195.485,195.602,195.717 ,195.828,195.935,196.039,196.141, 196.241,196.386,196.48,196.572,196.707, 196.794,196.879,196.963,197.046,197.125 ,197.205,197.283,197.358,197.431, 197.505,197.577,197.647,197.716,197.816 ,197.882,197.914,197.933,197.071, 195.797,195.144,194.289,194.254,194.243 ,194.169,194.056,193.978,193.895, 193.768,193.683,193.6,193.513,193.423, 193.33,193.235,193.137,193.039,192.937, 192.826,192.659,192.548,192.377,192.261 ,192.143,192.019,191.891,191.759, 191.623,191.482,191.338,191.189,191.033 ,190.875,190.709,190.541,190.365, 190.182,189.991,189.793,189.493,189.129 ,188.732,188.426,187.993,187.762, 187.524,187.152,187.023,187.084)
ORBIT_NUMBER = 4608
ORBITAL_ECCENTRICITY = 0.57
ORBITAL_INCLINATION = 86.69
ORBITAL_SEMIMAJOR_AXIS = 8530.75
PERIAPSIS_ALTITUDE = 294.55
PERIAPSIS_ARGUMENT_ANGLE = 267.1
PERIAPSIS_TIME = 2007-08-05T23:25:22.000Z
SPACECRAFT_ORIENTATION = (0.0,-1.0,0.0)
^MEX_ORIENTATION_DESC = "MEX_ORIENTATION_DESC.TXT"
SPACECRAFT_POINTING_MODE = NADIR
^MEX_POINTING_DESC = "MEX_POINTING_DESC.TXT"
RIGHT_ASCENSION = -1e+32
DECLINATION = -1e+32
OFFSET_ANGLE = -1e+32
SPACECRAFT_SOLAR_DISTANCE = 2.10697e+08
TARGET_NAME = MARS
/* CAMERA DATA ELEMENTS */
DETECTOR_TEMPERATURE = 18.1666
FOCAL_PLANE_TEMPERATURE = 8.3794
INST_CMPRS_NAME = "DISCRETE COSINE TRANSFORMATION (DCT)"
INST_CMPRS_RATIO = 15.8696
INST_CMPRS_QUALITY = 0
INST_CMPRS_QUANTZ_TBL_ID = 0
INSTRUMENT_TEMPERATURE = 11.234
LENS_TEMPERATURE = 8.7872
MACROPIXEL_SIZE = 4
MISSING_FRAMES = 0
PIXEL_SUBSAMPLING_FLAG = N
SIGNAL_CHAIN_ID = 2
/* RADIOMETRIC DATA ELEMENTS */
BANDWIDTH = 76.0
CENTER_FILTER_WAVELENGTH = 444.0
RADIANCE_OFFSET = 0.969838
RADIANCE_SCALING_FACTOR = 0.0013293
REFLECTANCE_SCALING_FACTOR = 6.06313e-05
MEX:REFLECTANCE_OFFSET = 0.0442356
/* IMAGE OBJECT DEFINITIONS */
OBJECT = IMAGE
  INTERCHANGE_FORMAT = BINARY
  LINES = 15758
  LINE_SAMPLES = 3997
  SAMPLE_TYPE = UNSIGNED_INTEGER
  SAMPLE_BITS = 8
  BANDS = 1
  BAND_STORAGE_TYPE = BAND_SEQUENTIAL
  MAXIMUM = 254
  MEAN = 155.159
  MINIMUM = 4
  STANDARD_DEVIATION = 48.5187
END_OBJECT = IMAGE
/* MAP OBJECT DEFINITIONS */
OBJECT = IMAGE_MAP_PROJECTION
  ^DATA_SET_MAP_PROJECTION_CATALOG= "DSMAP.CAT"
  A_AXIS_RADIUS = 3396.0
  B_AXIS_RADIUS = 3396.0
  C_AXIS_RADIUS = 3396.0
  CENTER_LATITUDE = 0.0
  CENTER_LONGITUDE = 194.0
  COORDINATE_SYSTEM_NAME = PLANETOGRAPHIC
  COORDINATE_SYSTEM_TYPE = "BODY-FIXED ROTATING"
  EASTERNMOST_LONGITUDE = 197.933
  FIRST_STANDARD_PARALLEL = "N/A"
  LINE_FIRST_PIXEL = 1
  LINE_LAST_PIXEL = 15758
  LINE_PROJECTION_OFFSET = -75370.125
  MAP_PROJECTION_ROTATION = 0.0
  MAP_PROJECTION_TYPE = SINUSOIDAL
  MAP_RESOLUTION = 1185.42760773333
  MAP_SCALE = 0.05
  MAXIMUM_LATITUDE = -63.5807
  MINIMUM_LATITUDE = -76.87
  POSITIVE_LONGITUDE_DIRECTION = EAST
  REFERENCE_LATITUDE = "N/A"
  REFERENCE_LONGITUDE = "N/A"
  SAMPLE_FIRST_PIXEL = 1
  SAMPLE_LAST_PIXEL = 3997
  SAMPLE_PROJECTION_OFFSET = 1933.875
  SECOND_STANDARD_PARALLEL = "N/A"
  WESTERNMOST_LONGITUDE = 187.023
END_OBJECT = IMAGE_MAP_PROJECTION
END
