PDS_VERSION_ID = PDS3
/* FILE DATA ELEMENTS */
RECORD_TYPE = UNDEFINED
/* POINTERS TO DATA OBJECTS */
^IMAGE = ("H4611_0001_SR4.TIF")
/* IDENTIFICATION DATA ELEMENTS */
DATA_SET_ID = "MEX-M-HRSC-4-REFDR-MAPPROJECT-EXT1-V4.0"
DATA_SET_NAME = "MARS EXPRESS HRSC MAP PROJECTED REFDR EXTENSION1 V4.0"
DETECTOR_ID = MEX_HRSC_SRC
EVENT_TYPE = "MARS-REGIONAL-MAPPING-Gl-Pf-Eo"
INSTRUMENT_HOST_ID = MEX
INSTRUMENT_HOST_NAME = "MARS EXPRESS"
INSTRUMENT_ID = HRSC
INSTRUMENT_NAME = "HIGH RESOLUTION STEREO CAMERA"
MISSION_NAME = "MARS EXPRESS"
MISSION_PHASE_NAME = ME_Phase_9
PROCESSING_LEVEL_ID = 4
PRODUCT_CREATION_TIME = 2023-02-11T00:15:54.000Z
PRODUCT_ID = "H4611_0001_SR4.TIF"
RELEASE_ID = 0007
REVISION_ID = 0000
/* QUALITY DATA ELEMENTS */
DATA_QUALITY_ID = 1
DATA_QUALITY_DESC = "Data calculated based on original SPICE kernels"
/* TIME DATA ELEMENTS */
SPACECRAFT_CLOCK_START_COUNT = "1/0134509040.08246"
SPACECRAFT_CLOCK_STOP_COUNT = "1/0134509307.55976"
IMAGE_TIME = 2007-08-06T19:38:23.924Z
START_TIME = 2007-08-06T19:38:23.666Z
STOP_TIME = 2007-08-06T19:38:24.182Z
/* ORBITAL DATA ELEMENTS */
ASCENDING_NODE_LONGITUDE = 131.92
MAXIMUM_RESOLUTION = 0.003014
FOOTPRINT_POINT_LATITUDE = (-79.5287,-79.5313,-79.5345,-79.5366, -79.5383,-79.5407,-79.5437,-79.5457, -79.5486,-79.5503,-79.5525,-79.555, -79.5569,-79.5597,-79.5615,-79.5637, -79.5654,-79.5675,-79.5706,-79.5739, -79.5765,-79.5785,-79.5786,-79.5786, -79.5777,-79.5771,-79.5766,-79.5761, -79.5756,-79.5751,-79.5745,-79.5739, -79.5734,-79.5729,-79.5723,-79.5718, -79.5713,-79.5708,-79.5703,-79.5697, -79.5692,-79.5687,-79.5682,-79.5676, -79.5671,-79.5666,-79.5661,-79.5655, -79.5654,-79.5653,-79.5612,-79.5584, -79.5566,-79.5545,-79.5529,-79.5504, -79.5486,-79.5466,-79.544,-79.5422, -79.5401,-79.5367,-79.5345,-79.5315, -79.5294,-79.5272,-79.5249,-79.523, -79.5199,-79.5174,-79.5156,-79.5156, -79.5156,-79.5161,-79.5166,-79.5171, -79.5177,-79.5182,-79.5187,-79.5192, -79.5197,-79.5203,-79.5208,-79.5213, -79.5218,-79.5223,-79.5228,-79.5234, -79.5239,-79.5244,-79.5249,-79.5254, -79.5259,-79.5264,-79.527,-79.5275, -79.528,-79.5285,-79.5286,-79.5287)
FOOTPRINT_POINT_LONGITUDE = (254.244,254.241,254.236,254.233, 254.231,254.227,254.223,254.22,254.216, 254.214,254.211,254.207,254.204,254.2, 254.198,254.195,254.192,254.189,254.185 ,254.18,254.176,254.173,254.173,254.173 ,254.154,254.143,254.132,254.121,254.11 ,254.099,254.088,254.074,254.063, 254.052,254.041,254.03,254.019,254.008, 253.997,253.986,253.975,253.964,253.953 ,253.942,253.931,253.92,253.909,253.898 ,253.895,253.894,253.9,253.904,253.906, 253.91,253.912,253.915,253.918,253.921, 253.925,253.927,253.93,253.935,253.938, 253.943,253.946,253.949,253.952,253.955 ,253.96,253.963,253.966,253.966,253.966 ,253.977,253.988,253.999,254.01,254.021 ,254.032,254.043,254.054,254.065, 254.075,254.086,254.097,254.108,254.119 ,254.13,254.141,254.152,254.163,254.174 ,254.185,254.196,254.207,254.218, 254.229,254.24,254.243,254.244)
ORBIT_NUMBER = 4611
ORBITAL_ECCENTRICITY = 0.57
ORBITAL_INCLINATION = 86.69
ORBITAL_SEMIMAJOR_AXIS = 8530.97
PERIAPSIS_ALTITUDE = 294.58
PERIAPSIS_ARGUMENT_ANGLE = 266.58
PERIAPSIS_TIME = 2007-08-06T19:35:00.000Z
SPACECRAFT_ORIENTATION = (0.0,-1.0,0.0)
^MEX_ORIENTATION_DESC = "MEX_ORIENTATION_DESC.TXT"
SPACECRAFT_POINTING_MODE = ACROSSTRACK
^MEX_POINTING_DESC = "MEX_POINTING_DESC.TXT"
RIGHT_ASCENSION = -1e+32
DECLINATION = -1e+32
OFFSET_ANGLE = -0.55
SPACECRAFT_SOLAR_DISTANCE = 2.10801e+08
TARGET_NAME = MARS
/* CAMERA DATA ELEMENTS */
BUFFER_MODE_ID = BUFFER_8
EXPOSURE_DURATION = 516.096
INST_CMPRS_NAME = NONE
INST_CMPRS_RATIO = 1.0
INST_CMPRS_QUALITY = -2147483648
INST_CMPRS_QUANTZ_TBL_ID = -2147483648
INSTRUMENT_TEMPERATURE = 7.61082
MISSING_FRAMES = 0
START_BIT = 0
/* RADIOMETRIC DATA ELEMENTS */
BANDWIDTH = 250.0
CENTER_FILTER_WAVELENGTH = 600.0
RADIANCE_OFFSET = -9.99e+31
RADIANCE_SCALING_FACTOR = -9.99e+31
REFLECTANCE_SCALING_FACTOR = -9.99e+31
MEX:REFLECTANCE_OFFSET = -9.99e+31
/* IMAGE OBJECT DEFINITIONS */
OBJECT = IMAGE
  INTERCHANGE_FORMAT = BINARY
  LINES = 1619
  LINE_SAMPLES = 1638
  SAMPLE_TYPE = UNSIGNED_INTEGER
  SAMPLE_BITS = 8
  BANDS = 1
  BAND_STORAGE_TYPE = BAND_SEQUENTIAL
  MAXIMUM = 255
  MEAN = 255.0
  MINIMUM = 255
  STANDARD_DEVIATION = 0.0
END_OBJECT = IMAGE
/* MAP OBJECT DEFINITIONS */
OBJECT = IMAGE_MAP_PROJECTION
  ^DATA_SET_MAP_PROJECTION_CATALOG= "DSMAP.CAT"
  A_AXIS_RADIUS = 3396.19
  B_AXIS_RADIUS = 3396.19
  C_AXIS_RADIUS = 3396.19
  CENTER_LATITUDE = 0.0
  CENTER_LONGITUDE = 254.0
  COORDINATE_SYSTEM_NAME = PLANETOGRAPHIC
  COORDINATE_SYSTEM_TYPE = "BODY-FIXED ROTATING"
  EASTERNMOST_LONGITUDE = 254.244
  FIRST_STANDARD_PARALLEL = "N/A"
  LINE_FIRST_PIXEL = 1
  LINE_LAST_PIXEL = 1619
  LINE_PROJECTION_OFFSET = -1880645.0
  MAP_PROJECTION_ROTATION = 0.0
  MAP_PROJECTION_TYPE = SINUSOIDAL
  MAP_RESOLUTION = 23709.8786048756
  MAP_SCALE = 0.0025
  MAXIMUM_LATITUDE = -79.51560000000001
  MINIMUM_LATITUDE = -79.57859999999999
  POSITIVE_LONGITUDE_DIRECTION = EAST
  REFERENCE_LATITUDE = "N/A"
  REFERENCE_LONGITUDE = "N/A"
  SAMPLE_FIRST_PIXEL = 1
  SAMPLE_LAST_PIXEL = 1638
  SAMPLE_PROJECTION_OFFSET = -327.0
  SECOND_STANDARD_PARALLEL = "N/A"
  WESTERNMOST_LONGITUDE = 253.894
END_OBJECT = IMAGE_MAP_PROJECTION
END
