PDS_VERSION_ID = PDS3
/* FILE DATA ELEMENTS */
RECORD_TYPE = UNDEFINED
/* POINTERS TO DATA OBJECTS */
^IMAGE = ("H4615_0000_RE4.TIF")
/* IDENTIFICATION DATA ELEMENTS */
DATA_SET_ID = "MEX-M-HRSC-4-REFDR-MAPPROJECT-EXT1-V4.0"
DATA_SET_NAME = "MARS EXPRESS HRSC MAP PROJECTED REFDR EXTENSION1 V4.0"
DETECTOR_ID = MEX_HRSC_RED
EVENT_TYPE = "MARS-REGIONAL-MAPPING-Im-Pf-Eo"
INSTRUMENT_HOST_ID = MEX
INSTRUMENT_HOST_NAME = "MARS EXPRESS"
INSTRUMENT_ID = HRSC
INSTRUMENT_NAME = "HIGH RESOLUTION STEREO CAMERA"
MISSION_NAME = "MARS EXPRESS"
MISSION_PHASE_NAME = ME_Phase_9
PROCESSING_LEVEL_ID = 4
PRODUCT_CREATION_TIME = 2023-02-11T00:15:54.000Z
PRODUCT_ID = "H4615_0000_RE4.TIF"
RELEASE_ID = 0007
REVISION_ID = 0000
/* QUALITY DATA ELEMENTS */
DATA_QUALITY_ID = 1
DATA_QUALITY_DESC = "Data calculated based on original SPICE kernels"
/* TIME DATA ELEMENTS */
SPACECRAFT_CLOCK_START_COUNT = "1/0134605873.07303"
SPACECRAFT_CLOCK_STOP_COUNT = "1/0134606052.21565"
START_TIME = 2007-08-07T22:32:14.409Z
STOP_TIME = 2007-08-07T22:34:07.172Z
/* ORBITAL DATA ELEMENTS */
ASCENDING_NODE_LONGITUDE = 131.84
MAXIMUM_RESOLUTION = 0.0594
FOOTPRINT_POINT_LATITUDE = (-77.3972,-77.4451,-77.4939,-77.5687, -77.6092,-77.6452,-77.6938,-77.6962, -77.7816,-77.5487,-77.3736,-77.1989, -77.025,-76.7926,-76.5599,-76.2895, -76.0808,-75.9425,-75.8041,-75.666, -75.529,-75.391,-75.184,-75.0459, -74.9083,-74.7707,-74.6324,-74.4258, -74.2167,-74.0795,-73.9417,-73.8042, -73.668,-73.4642,-73.3276,-73.1879, -73.0516,-72.7814,-72.6454,-72.5094, -72.3734,-72.1683,-72.0293,-71.8905, -71.752,-71.6132,-71.4738,-71.1976, -71.1301,-71.0754,-71.0429,-71.0044, -70.9746,-70.9538,-70.9277,-70.8932, -70.8488,-70.8465,-70.8466,-70.9857, -71.1929,-71.33,-71.537,-71.7438, -71.8816,-72.0189,-72.1532,-72.2877, -72.4223,-72.5567,-72.6914,-72.8264, -72.9613,-73.1639,-73.2992,-73.4345, -73.6377,-73.7732,-73.9085,-74.1122, -74.248,-74.3837,-74.5194,-74.6552, -74.8589,-74.9948,-75.1307,-75.3347, -75.5387,-75.6752,-75.8794,-76.0154, -76.1518,-76.394,-76.5657,-76.7941, -77.1361,-77.3632,-77.4198,-77.3972)
FOOTPRINT_POINT_LONGITUDE = (217.694,218.428,219.215,220.505, 221.255,221.958,222.972,223.022,223.075 ,223.327,223.509,223.686,223.859, 224.081,224.295,224.534,224.711,224.826 ,224.939,225.049,225.158,225.263, 225.418,225.519,225.618,225.714,225.809 ,225.947,226.081,226.168,226.254, 226.339,226.422,226.545,226.624,226.7, 226.777,226.928,227.0,227.072,227.142, 227.246,227.315,227.383,227.451,227.516 ,227.58,227.71,227.743,227.769,227.18, 226.304,225.68,225.264,224.767,224.146, 223.359,223.317,223.303,223.228,223.113 ,223.035,222.912,222.787,222.702, 222.617,222.531,222.444,222.355,222.266 ,222.174,222.08,221.984,221.837,221.737 ,221.635,221.478,221.371,221.262, 221.094,220.979,220.862,220.743,220.621 ,220.435,220.307,220.177,219.976, 219.769,219.626,219.408,219.259,219.105 ,218.824,218.617,218.334,217.891, 217.584,217.506,217.694)
ORBIT_NUMBER = 4615
ORBITAL_ECCENTRICITY = 0.57
ORBITAL_INCLINATION = 86.7
ORBITAL_SEMIMAJOR_AXIS = 8530.53
PERIAPSIS_ALTITUDE = 294.15
PERIAPSIS_ARGUMENT_ANGLE = 265.89
PERIAPSIS_TIME = 2007-08-07T22:27:45.000Z
SPACECRAFT_ORIENTATION = (0.0,-1.0,0.0)
^MEX_ORIENTATION_DESC = "MEX_ORIENTATION_DESC.TXT"
SPACECRAFT_POINTING_MODE = ACROSSTRACK
^MEX_POINTING_DESC = "MEX_POINTING_DESC.TXT"
RIGHT_ASCENSION = -1e+32
DECLINATION = -1e+32
OFFSET_ANGLE = 0.06
SPACECRAFT_SOLAR_DISTANCE = 2.10941e+08
TARGET_NAME = MARS
/* CAMERA DATA ELEMENTS */
DETECTOR_TEMPERATURE = 18.7783
FOCAL_PLANE_TEMPERATURE = 8.9911
INST_CMPRS_NAME = "DISCRETE COSINE TRANSFORMATION (DCT)"
INST_CMPRS_RATIO = 25.9891
INST_CMPRS_QUALITY = 0
INST_CMPRS_QUANTZ_TBL_ID = 0
INSTRUMENT_TEMPERATURE = 11.234
LENS_TEMPERATURE = 9.195
MACROPIXEL_SIZE = 4
MISSING_FRAMES = 0
PIXEL_SUBSAMPLING_FLAG = N
SIGNAL_CHAIN_ID = 2
/* RADIOMETRIC DATA ELEMENTS */
BANDWIDTH = 48.0
CENTER_FILTER_WAVELENGTH = 748.0
RADIANCE_OFFSET = 1.58801
RADIANCE_SCALING_FACTOR = 0.00340648
REFLECTANCE_SCALING_FACTOR = 0.000345906
MEX:REFLECTANCE_OFFSET = 0.161252
/* IMAGE OBJECT DEFINITIONS */
OBJECT = IMAGE
  INTERCHANGE_FORMAT = BINARY
  LINES = 8226
  LINE_SAMPLES = 3191
  SAMPLE_TYPE = UNSIGNED_INTEGER
  SAMPLE_BITS = 8
  BANDS = 1
  BAND_STORAGE_TYPE = BAND_SEQUENTIAL
  MAXIMUM = 255
  MEAN = 124.414
  MINIMUM = 1
  STANDARD_DEVIATION = 37.9017
END_OBJECT = IMAGE
/* MAP OBJECT DEFINITIONS */
OBJECT = IMAGE_MAP_PROJECTION
  ^DATA_SET_MAP_PROJECTION_CATALOG= "DSMAP.CAT"
  A_AXIS_RADIUS = 3396.0
  B_AXIS_RADIUS = 3396.0
  C_AXIS_RADIUS = 3396.0
  CENTER_LATITUDE = 0.0
  CENTER_LONGITUDE = 223.0
  COORDINATE_SYSTEM_NAME = PLANETOGRAPHIC
  COORDINATE_SYSTEM_TYPE = "BODY-FIXED ROTATING"
  EASTERNMOST_LONGITUDE = 227.769
  FIRST_STANDARD_PARALLEL = "N/A"
  LINE_FIRST_PIXEL = 1
  LINE_LAST_PIXEL = 8226
  LINE_PROJECTION_OFFSET = -84009.625
  MAP_PROJECTION_ROTATION = 0.0
  MAP_PROJECTION_TYPE = SINUSOIDAL
  MAP_RESOLUTION = 1185.42760773333
  MAP_SCALE = 0.05
  MAXIMUM_LATITUDE = -70.84650000000001
  MINIMUM_LATITUDE = -77.7816
  POSITIVE_LONGITUDE_DIRECTION = EAST
  REFERENCE_LATITUDE = "N/A"
  REFERENCE_LONGITUDE = "N/A"
  SAMPLE_FIRST_PIXEL = 1
  SAMPLE_LAST_PIXEL = 3191
  SAMPLE_PROJECTION_OFFSET = 1412.875
  SECOND_STANDARD_PARALLEL = "N/A"
  WESTERNMOST_LONGITUDE = 217.506
END_OBJECT = IMAGE_MAP_PROJECTION
END
