PDS_VERSION_ID = PDS3
/* FILE DATA ELEMENTS */
RECORD_TYPE = UNDEFINED
/* POINTERS TO DATA OBJECTS */
^IMAGE = ("H4615_0006_SR4.TIF")
/* IDENTIFICATION DATA ELEMENTS */
DATA_SET_ID = "MEX-M-HRSC-4-REFDR-MAPPROJECT-EXT1-V4.0"
DATA_SET_NAME = "MARS EXPRESS HRSC MAP PROJECTED REFDR EXTENSION1 V4.0"
DETECTOR_ID = MEX_HRSC_SRC
EVENT_TYPE = "MARS-REGIONAL-MAPPING-Im-Pf-Eo"
INSTRUMENT_HOST_ID = MEX
INSTRUMENT_HOST_NAME = "MARS EXPRESS"
INSTRUMENT_ID = HRSC
INSTRUMENT_NAME = "HIGH RESOLUTION STEREO CAMERA"
MISSION_NAME = "MARS EXPRESS"
MISSION_PHASE_NAME = ME_Phase_9
PROCESSING_LEVEL_ID = 4
PRODUCT_CREATION_TIME = 2023-02-11T00:15:54.000Z
PRODUCT_ID = "H4615_0006_SR4.TIF"
RELEASE_ID = 0007
REVISION_ID = 0000
/* QUALITY DATA ELEMENTS */
DATA_QUALITY_ID = 1
DATA_QUALITY_DESC = "Data calculated based on original SPICE kernels"
/* TIME DATA ELEMENTS */
SPACECRAFT_CLOCK_START_COUNT = "1/0134605873.07303"
SPACECRAFT_CLOCK_STOP_COUNT = "1/0134606052.21565"
IMAGE_TIME = 2007-08-07T22:33:02.595Z
START_TIME = 2007-08-07T22:33:02.592Z
STOP_TIME = 2007-08-07T22:33:02.597Z
/* ORBITAL DATA ELEMENTS */
ASCENDING_NODE_LONGITUDE = 131.84
MAXIMUM_RESOLUTION = 0.003462
FOOTPRINT_POINT_LATITUDE = (-72.9046,-72.9072,-72.9112,-72.9138, -72.9157,-72.9181,-72.9213,-72.9235, -72.9265,-72.9287,-72.9317,-72.9341, -72.9379,-72.9403,-72.9437,-72.947, -72.9497,-72.9527,-72.9548,-72.9568, -72.9601,-72.9626,-72.9627,-72.9627, -72.9622,-72.9618,-72.9614,-72.961, -72.9605,-72.9601,-72.9597,-72.9593, -72.9589,-72.9584,-72.958,-72.9576, -72.9572,-72.9567,-72.9563,-72.9559, -72.9555,-72.955,-72.9546,-72.9542, -72.9538,-72.9533,-72.9529,-72.9525, -72.952,-72.9519,-72.9519,-72.9499, -72.9479,-72.9459,-72.9431,-72.9407, -72.9375,-72.9338,-72.9314,-72.9284, -72.9246,-72.9219,-72.92,-72.9171, -72.9134,-72.9096,-72.9066,-72.9042, -72.9005,-72.8982,-72.8961,-72.8938, -72.8938,-72.8938,-72.8945,-72.895, -72.8954,-72.8958,-72.8962,-72.8967, -72.8971,-72.8975,-72.8981,-72.8985, -72.8989,-72.8993,-72.8997,-72.9002, -72.9006,-72.901,-72.9014,-72.9019, -72.9023,-72.9027,-72.9031,-72.9035, -72.904,-72.9044,-72.9045,-72.9046)
FOOTPRINT_POINT_LONGITUDE = (224.521,224.52,224.517,224.516,224.515 ,224.513,224.511,224.51,224.508,224.507 ,224.505,224.503,224.501,224.499, 224.497,224.495,224.493,224.492,224.49, 224.489,224.487,224.485,224.485,224.485 ,224.477,224.469,224.462,224.454, 224.446,224.438,224.43,224.422,224.414, 224.406,224.399,224.391,224.383,224.375 ,224.367,224.359,224.351,224.343, 224.336,224.328,224.32,224.312,224.304, 224.296,224.288,224.286,224.285,224.286 ,224.288,224.289,224.291,224.292, 224.294,224.297,224.298,224.3,224.302, 224.304,224.305,224.307,224.31,224.312, 224.314,224.315,224.318,224.319,224.32, 224.322,224.322,224.322,224.336,224.344 ,224.352,224.359,224.367,224.375, 224.383,224.391,224.401,224.408,224.416 ,224.424,224.432,224.44,224.448,224.456 ,224.463,224.471,224.479,224.487, 224.495,224.503,224.51,224.518,224.52, 224.521)
ORBIT_NUMBER = 4615
ORBITAL_ECCENTRICITY = 0.57
ORBITAL_INCLINATION = 86.7
ORBITAL_SEMIMAJOR_AXIS = 8530.53
PERIAPSIS_ALTITUDE = 294.15
PERIAPSIS_ARGUMENT_ANGLE = 265.89
PERIAPSIS_TIME = 2007-08-07T22:27:45.000Z
SPACECRAFT_ORIENTATION = (0.0,-1.0,0.0)
^MEX_ORIENTATION_DESC = "MEX_ORIENTATION_DESC.TXT"
SPACECRAFT_POINTING_MODE = ACROSSTRACK
^MEX_POINTING_DESC = "MEX_POINTING_DESC.TXT"
RIGHT_ASCENSION = -1e+32
DECLINATION = -1e+32
OFFSET_ANGLE = 0.06
SPACECRAFT_SOLAR_DISTANCE = 2.10941e+08
TARGET_NAME = MARS
/* CAMERA DATA ELEMENTS */
BUFFER_MODE_ID = BUFFER_8
EXPOSURE_DURATION = 5.04
INST_CMPRS_NAME = NONE
INST_CMPRS_RATIO = 1.0
INST_CMPRS_QUALITY = -2147483648
INST_CMPRS_QUANTZ_TBL_ID = -2147483648
INSTRUMENT_TEMPERATURE = 7.20077
MISSING_FRAMES = 0
START_BIT = 0
/* RADIOMETRIC DATA ELEMENTS */
BANDWIDTH = 250.0
CENTER_FILTER_WAVELENGTH = 600.0
RADIANCE_OFFSET = -9.99e+31
RADIANCE_SCALING_FACTOR = -9.99e+31
REFLECTANCE_SCALING_FACTOR = -9.99e+31
MEX:REFLECTANCE_OFFSET = -9.99e+31
/* IMAGE OBJECT DEFINITIONS */
OBJECT = IMAGE
  INTERCHANGE_FORMAT = BINARY
  LINES = 1753
  LINE_SAMPLES = 1772
  SAMPLE_TYPE = UNSIGNED_INTEGER
  SAMPLE_BITS = 8
  BANDS = 1
  BAND_STORAGE_TYPE = BAND_SEQUENTIAL
  MAXIMUM = 249
  MEAN = 149.849
  MINIMUM = 12
  STANDARD_DEVIATION = 20.3466
END_OBJECT = IMAGE
/* MAP OBJECT DEFINITIONS */
OBJECT = IMAGE_MAP_PROJECTION
  ^DATA_SET_MAP_PROJECTION_CATALOG= "DSMAP.CAT"
  A_AXIS_RADIUS = 3396.19
  B_AXIS_RADIUS = 3396.19
  C_AXIS_RADIUS = 3396.19
  CENTER_LATITUDE = 0.0
  CENTER_LONGITUDE = 224.0
  COORDINATE_SYSTEM_NAME = PLANETOGRAPHIC
  COORDINATE_SYSTEM_TYPE = "BODY-FIXED ROTATING"
  EASTERNMOST_LONGITUDE = 224.521
  FIRST_STANDARD_PARALLEL = "N/A"
  LINE_FIRST_PIXEL = 1
  LINE_LAST_PIXEL = 1753
  LINE_PROJECTION_OFFSET = -1724282.0
  MAP_PROJECTION_ROTATION = 0.0
  MAP_PROJECTION_TYPE = SINUSOIDAL
  MAP_RESOLUTION = 23709.8786048756
  MAP_SCALE = 0.0025
  MAXIMUM_LATITUDE = -72.8938
  MINIMUM_LATITUDE = -72.9627
  POSITIVE_LONGITUDE_DIRECTION = EAST
  REFERENCE_LATITUDE = "N/A"
  REFERENCE_LONGITUDE = "N/A"
  SAMPLE_FIRST_PIXEL = 1
  SAMPLE_LAST_PIXEL = 1772
  SAMPLE_PROJECTION_OFFSET = -1823.0
  SECOND_STANDARD_PARALLEL = "N/A"
  WESTERNMOST_LONGITUDE = 224.285
END_OBJECT = IMAGE_MAP_PROJECTION
END
