PDS_VERSION_ID = PDS3
/* FILE DATA ELEMENTS */
RECORD_TYPE = UNDEFINED
/* POINTERS TO DATA OBJECTS */
^IMAGE = ("H4615_0009_IR4.TIF")
/* IDENTIFICATION DATA ELEMENTS */
DATA_SET_ID = "MEX-M-HRSC-4-REFDR-MAPPROJECT-EXT1-V4.0"
DATA_SET_NAME = "MARS EXPRESS HRSC MAP PROJECTED REFDR EXTENSION1 V4.0"
DETECTOR_ID = MEX_HRSC_IR
EVENT_TYPE = "MARS-REGIONAL-MAPPING-Vo-Te-Fl"
INSTRUMENT_HOST_ID = MEX
INSTRUMENT_HOST_NAME = "MARS EXPRESS"
INSTRUMENT_ID = HRSC
INSTRUMENT_NAME = "HIGH RESOLUTION STEREO CAMERA"
MISSION_NAME = "MARS EXPRESS"
MISSION_PHASE_NAME = ME_Phase_9
PROCESSING_LEVEL_ID = 4
PRODUCT_CREATION_TIME = 2023-02-11T00:15:54.000Z
PRODUCT_ID = "H4615_0009_IR4.TIF"
RELEASE_ID = 0007
REVISION_ID = 0000
/* QUALITY DATA ELEMENTS */
DATA_QUALITY_ID = 1
DATA_QUALITY_DESC = "Data calculated based on original SPICE kernels"
/* TIME DATA ELEMENTS */
SPACECRAFT_CLOCK_START_COUNT = "1/0134606376.08251"
SPACECRAFT_CLOCK_STOP_COUNT = "1/0134606791.64027"
START_TIME = 2007-08-07T22:39:52.452Z
STOP_TIME = 2007-08-07T22:42:17.027Z
/* ORBITAL DATA ELEMENTS */
ASCENDING_NODE_LONGITUDE = 131.84
MAXIMUM_RESOLUTION = 0.0606
FOOTPRINT_POINT_LATITUDE = (-45.5718,-45.5922,-45.609,-45.6191, -45.6283,-45.6366,-45.644,-45.6505, -45.6561,-45.6608,-45.665,-45.6689, -45.6691,-45.6264,-45.4585,-45.2914, -45.1249,-44.9572,-44.7065,-44.4564, -44.2899,-44.124,-43.9582,-43.7922, -43.6264,-43.4612,-43.2963,-43.1295, -42.9669,-42.8023,-42.5559,-42.2311, -42.0674,-41.9019,-41.7383,-41.5753, -41.4124,-41.0876,-40.7743,-40.6062, -40.4434,-40.2786,-39.9512,-39.7088, -39.3086,-38.9088,-38.6771,-38.2813, -37.8827,-37.5656,-37.4859,-37.4195, -37.4215,-37.4233,-37.4188,-37.4162, -37.4137,-37.4132,-37.4119,-37.4026, -37.39,-37.3819,-37.371,-37.3601, -37.3586,-37.3588,-37.6736,-37.9101, -38.1471,-38.384,-38.7004,-39.0142, -39.3381,-39.6566,-40.0582,-40.3809, -40.7844,-41.109,-41.4318,-41.756, -42.1624,-42.4878,-42.7331,-42.8967, -43.0604,-43.2247,-43.4708,-43.6357, -43.8002,-43.9654,-44.1296,-44.2957, -44.4623,-44.6277,-44.7938,-44.9603, -45.1263,-45.3761,-45.4596,-45.5718)
FOOTPRINT_POINT_LONGITUDE = (228.274,228.726,229.143,229.422,229.7, 229.978,230.256,230.534,230.812,231.09, 231.404,231.822,231.857,231.89,231.9, 231.909,231.917,231.927,231.94,231.953, 231.962,231.97,231.978,231.986,231.995, 232.003,232.01,232.019,232.025,232.033, 232.044,232.057,232.064,232.072,232.079 ,232.086,232.093,232.105,232.113, 232.122,232.129,232.137,232.151,232.16, 232.174,232.187,232.192,232.203,232.217 ,232.227,232.229,232.231,231.85,231.582 ,231.163,230.857,230.551,230.131, 229.864,229.558,229.137,228.907,228.6, 228.331,228.293,228.279,228.285,228.288 ,228.292,228.295,228.298,228.3,228.305, 228.307,228.309,228.311,228.312,228.313 ,228.312,228.311,228.309,228.306, 228.304,228.302,228.3,228.298,228.295, 228.293,228.29,228.288,228.284,228.282, 228.279,228.276,228.272,228.269,228.265 ,228.259,228.257,228.274)
ORBIT_NUMBER = 4615
ORBITAL_ECCENTRICITY = 0.57
ORBITAL_INCLINATION = 86.7
ORBITAL_SEMIMAJOR_AXIS = 8530.53
PERIAPSIS_ALTITUDE = 294.15
PERIAPSIS_ARGUMENT_ANGLE = 265.89
PERIAPSIS_TIME = 2007-08-07T22:27:45.000Z
SPACECRAFT_ORIENTATION = (0.0,-1.0,0.0)
^MEX_ORIENTATION_DESC = "MEX_ORIENTATION_DESC.TXT"
SPACECRAFT_POINTING_MODE = ACROSSTRACK
^MEX_POINTING_DESC = "MEX_POINTING_DESC.TXT"
RIGHT_ASCENSION = -1e+32
DECLINATION = -1e+32
OFFSET_ANGLE = 0.06
SPACECRAFT_SOLAR_DISTANCE = 2.10941e+08
TARGET_NAME = MARS
/* CAMERA DATA ELEMENTS */
DETECTOR_TEMPERATURE = 19.1861
FOCAL_PLANE_TEMPERATURE = 9.3989
INST_CMPRS_NAME = "DISCRETE COSINE TRANSFORMATION (DCT)"
INST_CMPRS_RATIO = 9.2565
INST_CMPRS_QUALITY = 0
INST_CMPRS_QUANTZ_TBL_ID = 0
INSTRUMENT_TEMPERATURE = 13.0691
LENS_TEMPERATURE = 9.8067
MACROPIXEL_SIZE = 2
MISSING_FRAMES = 0
PIXEL_SUBSAMPLING_FLAG = N
SIGNAL_CHAIN_ID = 3
/* RADIOMETRIC DATA ELEMENTS */
BANDWIDTH = 81.0
CENTER_FILTER_WAVELENGTH = 955.5
RADIANCE_OFFSET = 2.36905
RADIANCE_SCALING_FACTOR = 0.00242358
REFLECTANCE_SCALING_FACTOR = 0.000232656
MEX:REFLECTANCE_OFFSET = 0.227421
/* IMAGE OBJECT DEFINITIONS */
OBJECT = IMAGE
  INTERCHANGE_FORMAT = BINARY
  LINES = 9758
  LINE_SAMPLES = 4172
  SAMPLE_TYPE = UNSIGNED_INTEGER
  SAMPLE_BITS = 8
  BANDS = 1
  BAND_STORAGE_TYPE = BAND_SEQUENTIAL
  MAXIMUM = 254
  MEAN = 121.079
  MINIMUM = 4
  STANDARD_DEVIATION = 41.1718
END_OBJECT = IMAGE
/* MAP OBJECT DEFINITIONS */
OBJECT = IMAGE_MAP_PROJECTION
  ^DATA_SET_MAP_PROJECTION_CATALOG= "DSMAP.CAT"
  A_AXIS_RADIUS = 3396.0
  B_AXIS_RADIUS = 3396.0
  C_AXIS_RADIUS = 3396.0
  CENTER_LATITUDE = 0.0
  CENTER_LONGITUDE = 230.0
  COORDINATE_SYSTEM_NAME = PLANETOGRAPHIC
  COORDINATE_SYSTEM_TYPE = "BODY-FIXED ROTATING"
  EASTERNMOST_LONGITUDE = 232.231
  FIRST_STANDARD_PARALLEL = "N/A"
  LINE_FIRST_PIXEL = 1
  LINE_LAST_PIXEL = 9758
  LINE_PROJECTION_OFFSET = -44312.75
  MAP_PROJECTION_ROTATION = 0.0
  MAP_PROJECTION_TYPE = SINUSOIDAL
  MAP_RESOLUTION = 1185.42760773333
  MAP_SCALE = 0.05
  MAXIMUM_LATITUDE = -37.3586
  MINIMUM_LATITUDE = -45.6691
  POSITIVE_LONGITUDE_DIRECTION = EAST
  REFERENCE_LATITUDE = "N/A"
  REFERENCE_LONGITUDE = "N/A"
  SAMPLE_FIRST_PIXEL = 1
  SAMPLE_LAST_PIXEL = 4172
  SAMPLE_PROJECTION_OFFSET = 1871.75
  SECOND_STANDARD_PARALLEL = "N/A"
  WESTERNMOST_LONGITUDE = 228.257
END_OBJECT = IMAGE_MAP_PROJECTION
END
