PDS_VERSION_ID = PDS3
/* FILE DATA ELEMENTS */
RECORD_TYPE = UNDEFINED
/* POINTERS TO DATA OBJECTS */
^IMAGE = ("H4616_0001_IR4.TIF")
/* IDENTIFICATION DATA ELEMENTS */
DATA_SET_ID = "MEX-M-HRSC-4-REFDR-MAPPROJECT-EXT1-V4.0"
DATA_SET_NAME = "MARS EXPRESS HRSC MAP PROJECTED REFDR EXTENSION1 V4.0"
DETECTOR_ID = MEX_HRSC_IR
EVENT_TYPE = "MARS-REGIONAL-MAPPING-Im-Fl"
INSTRUMENT_HOST_ID = MEX
INSTRUMENT_HOST_NAME = "MARS EXPRESS"
INSTRUMENT_ID = HRSC
INSTRUMENT_NAME = "HIGH RESOLUTION STEREO CAMERA"
MISSION_NAME = "MARS EXPRESS"
MISSION_PHASE_NAME = ME_Phase_9
PROCESSING_LEVEL_ID = 4
PRODUCT_CREATION_TIME = 2023-02-11T00:15:54.000Z
PRODUCT_ID = "H4616_0001_IR4.TIF"
RELEASE_ID = 0007
REVISION_ID = 0000
/* QUALITY DATA ELEMENTS */
DATA_QUALITY_ID = 1
DATA_QUALITY_DESC = "Data calculated based on original SPICE kernels"
/* TIME DATA ELEMENTS */
SPACECRAFT_CLOCK_START_COUNT = "1/0134630482.09061"
SPACECRAFT_CLOCK_STOP_COUNT = "1/0134630844.14864"
START_TIME = 2007-08-08T05:21:36.357Z
STOP_TIME = 2007-08-08T05:24:00.495Z
/* ORBITAL DATA ELEMENTS */
ASCENDING_NODE_LONGITUDE = 131.82
MAXIMUM_RESOLUTION = 0.0528
FOOTPRINT_POINT_LATITUDE = (-51.1112,-51.128,-51.1433,-51.1535, -51.163,-51.1728,-51.186,-51.1925, -51.1982,-51.2031,-51.2073,-51.211, -51.2114,-51.1535,-50.767,-50.4541, -50.138,-49.7402,-49.4195,-49.0952, -48.6874,-48.3602,-47.9461,-47.6944, -47.3579,-47.1879,-47.0178,-46.8485, -46.6779,-46.503,-46.3279,-46.1535, -45.9844,-45.8092,-45.6318,-45.4545, -45.2791,-45.0167,-44.7537,-44.5783, -44.4037,-44.2293,-44.0555,-43.8813, -43.7083,-43.5363,-43.3632,-43.1857, -42.8441,-42.7573,-42.6738,-42.6755, -42.6735,-42.6713,-42.6683,-42.6634, -42.6516,-42.6403,-42.6293,-42.6116, -42.6105,-42.6111,-42.7807,-42.9531, -43.125,-43.2976,-43.4699,-43.6433, -43.8159,-43.9893,-44.1632,-44.3332, -44.5066,-44.6848,-44.8586,-45.1182, -45.2924,-45.4683,-45.733,-45.9933, -46.1669,-46.3395,-46.5098,-46.681, -47.0169,-47.19,-47.3618,-47.6961, -47.9454,-48.1927,-48.5209,-48.9287, -49.3316,-49.6508,-50.1266,-50.4405, -50.6731,-50.9064,-50.9832,-51.1112)
FOOTPRINT_POINT_LONGITUDE = (130.007,130.376,130.744,131.012, 131.281,131.583,132.054,132.323,132.592 ,132.862,133.133,133.437,133.471, 133.522,133.549,133.572,133.595,133.622 ,133.644,133.665,133.691,133.711, 133.735,133.75,133.77,133.779,133.789, 133.797,133.806,133.817,133.828,133.837 ,133.843,133.852,133.862,133.872, 133.881,133.893,133.906,133.915,133.923 ,133.931,133.939,133.947,133.954, 133.961,133.968,133.978,133.991,133.995 ,133.998,133.488,133.014,132.723, 132.469,132.106,131.525,131.089,130.763 ,130.291,130.255,130.242,130.24,130.24, 130.238,130.237,130.236,130.234,130.232 ,130.23,130.229,130.225,130.222,130.221 ,130.218,130.213,130.209,130.206, 130.201,130.195,130.191,130.186,130.181 ,130.176,130.164,130.16,130.156,130.145 ,130.136,130.126,130.113,130.096, 130.078,130.063,130.039,130.022,130.008 ,129.995,129.99,130.007)
ORBIT_NUMBER = 4616
ORBITAL_ECCENTRICITY = 0.57
ORBITAL_INCLINATION = 86.69
ORBITAL_SEMIMAJOR_AXIS = 8530.76
PERIAPSIS_ALTITUDE = 295.21
PERIAPSIS_ARGUMENT_ANGLE = 265.71
PERIAPSIS_TIME = 2007-08-08T05:10:59.000Z
SPACECRAFT_ORIENTATION = (0.0,-1.0,0.0)
^MEX_ORIENTATION_DESC = "MEX_ORIENTATION_DESC.TXT"
SPACECRAFT_POINTING_MODE = ACROSSTRACK
^MEX_POINTING_DESC = "MEX_POINTING_DESC.TXT"
RIGHT_ASCENSION = -1e+32
DECLINATION = -1e+32
OFFSET_ANGLE = -0.12
SPACECRAFT_SOLAR_DISTANCE = 2.10977e+08
TARGET_NAME = MARS
/* CAMERA DATA ELEMENTS */
DETECTOR_TEMPERATURE = 18.9822
FOCAL_PLANE_TEMPERATURE = 9.3989
INST_CMPRS_NAME = "DISCRETE COSINE TRANSFORMATION (DCT)"
INST_CMPRS_RATIO = 9.12978
INST_CMPRS_QUALITY = 0
INST_CMPRS_QUANTZ_TBL_ID = 0
INSTRUMENT_TEMPERATURE = 13.273
LENS_TEMPERATURE = 10.0106
MACROPIXEL_SIZE = 2
MISSING_FRAMES = 0
PIXEL_SUBSAMPLING_FLAG = N
SIGNAL_CHAIN_ID = 3
/* RADIOMETRIC DATA ELEMENTS */
BANDWIDTH = 81.0
CENTER_FILTER_WAVELENGTH = 955.5
RADIANCE_OFFSET = 2.47494
RADIANCE_SCALING_FACTOR = 0.00347832
REFLECTANCE_SCALING_FACTOR = 0.00033402
MEX:REFLECTANCE_OFFSET = 0.237666
/* IMAGE OBJECT DEFINITIONS */
OBJECT = IMAGE
  INTERCHANGE_FORMAT = BINARY
  LINES = 10134
  LINE_SAMPLES = 3627
  SAMPLE_TYPE = UNSIGNED_INTEGER
  SAMPLE_BITS = 8
  BANDS = 1
  BAND_STORAGE_TYPE = BAND_SEQUENTIAL
  MAXIMUM = 255
  MEAN = 156.65
  MINIMUM = 1
  STANDARD_DEVIATION = 47.2534
END_OBJECT = IMAGE
/* MAP OBJECT DEFINITIONS */
OBJECT = IMAGE_MAP_PROJECTION
  ^DATA_SET_MAP_PROJECTION_CATALOG= "DSMAP.CAT"
  A_AXIS_RADIUS = 3396.0
  B_AXIS_RADIUS = 3396.0
  C_AXIS_RADIUS = 3396.0
  CENTER_LATITUDE = 0.0
  CENTER_LONGITUDE = 132.0
  COORDINATE_SYSTEM_NAME = PLANETOGRAPHIC
  COORDINATE_SYSTEM_TYPE = "BODY-FIXED ROTATING"
  EASTERNMOST_LONGITUDE = 133.998
  FIRST_STANDARD_PARALLEL = "N/A"
  LINE_FIRST_PIXEL = 1
  LINE_LAST_PIXEL = 10134
  LINE_PROJECTION_OFFSET = -50504.25
  MAP_PROJECTION_ROTATION = 0.0
  MAP_PROJECTION_TYPE = SINUSOIDAL
  MAP_RESOLUTION = 1185.42760773333
  MAP_SCALE = 0.05
  MAXIMUM_LATITUDE = -42.6105
  MINIMUM_LATITUDE = -51.2114
  POSITIVE_LONGITUDE_DIRECTION = EAST
  REFERENCE_LATITUDE = "N/A"
  REFERENCE_LONGITUDE = "N/A"
  SAMPLE_FIRST_PIXEL = 1
  SAMPLE_LAST_PIXEL = 3627
  SAMPLE_PROJECTION_OFFSET = 1730.75
  SECOND_STANDARD_PARALLEL = "N/A"
  WESTERNMOST_LONGITUDE = 129.99
END_OBJECT = IMAGE_MAP_PROJECTION
END
