PDS_VERSION_ID = PDS3
/* FILE DATA ELEMENTS */
RECORD_TYPE = UNDEFINED
/* POINTERS TO DATA OBJECTS */
^IMAGE = ("H4616_0001_S14.TIF")
/* IDENTIFICATION DATA ELEMENTS */
DATA_SET_ID = "MEX-M-HRSC-4-REFDR-MAPPROJECT-EXT1-V4.0"
DATA_SET_NAME = "MARS EXPRESS HRSC MAP PROJECTED REFDR EXTENSION1 V4.0"
DETECTOR_ID = MEX_HRSC_S1
EVENT_TYPE = "MARS-REGIONAL-MAPPING-Im-Fl"
INSTRUMENT_HOST_ID = MEX
INSTRUMENT_HOST_NAME = "MARS EXPRESS"
INSTRUMENT_ID = HRSC
INSTRUMENT_NAME = "HIGH RESOLUTION STEREO CAMERA"
MISSION_NAME = "MARS EXPRESS"
MISSION_PHASE_NAME = ME_Phase_9
PROCESSING_LEVEL_ID = 4
PRODUCT_CREATION_TIME = 2023-02-11T00:15:54.000Z
PRODUCT_ID = "H4616_0001_S14.TIF"
RELEASE_ID = 0007
REVISION_ID = 0000
/* QUALITY DATA ELEMENTS */
DATA_QUALITY_ID = 1
DATA_QUALITY_DESC = "Data calculated based on original SPICE kernels"
/* TIME DATA ELEMENTS */
SPACECRAFT_CLOCK_START_COUNT = "1/0134630482.09061"
SPACECRAFT_CLOCK_STOP_COUNT = "1/0134630844.14864"
START_TIME = 2007-08-08T05:21:26.216Z
STOP_TIME = 2007-08-08T05:23:47.102Z
/* ORBITAL DATA ELEMENTS */
ASCENDING_NODE_LONGITUDE = 131.82
MAXIMUM_RESOLUTION = 0.0529
FOOTPRINT_POINT_LATITUDE = (-51.1148,-51.1386,-51.1583,-51.1762, -51.1849,-51.1979,-51.2033,-51.2078, -51.214,-51.2143,-51.1442,-50.9148, -50.6008,-50.3653,-50.1272,-49.6486, -49.3266,-49.0011,-48.5919,-48.2634, -47.931,-47.7638,-47.5104,-47.3412, -47.0866,-46.916,-46.7471,-46.4832, -46.3071,-46.133,-45.9655,-45.7904, -45.6125,-45.4331,-45.2558,-44.9877, -44.7181,-44.5386,-44.3596,-44.1809, -44.0027,-43.7362,-43.5602,-43.3827, -43.2015,-43.0215,-42.7612,-42.6717, -42.6662,-42.6678,-42.6676,-42.6648, -42.6627,-42.6581,-42.6549,-42.648, -42.6398,-42.6243,-42.6142,-42.6019, -42.6006,-42.601,-42.8644,-43.0405, -43.3057,-43.4829,-43.6608,-43.8392, -44.016,-44.1948,-44.3699,-44.5504, -44.8179,-44.9964,-45.1721,-45.3486, -45.5278,-45.7049,-45.9652,-46.1401, -46.3114,-46.4825,-46.654,-46.9909, -47.1657,-47.3371,-47.5051,-47.8389, -48.0063,-48.333,-48.6659,-49.1517, -49.5521,-49.8709,-50.1089,-50.4235, -50.6567,-50.9673,-51.044,-51.1148)
FOOTPRINT_POINT_LONGITUDE = (130.039,130.567,131.063,131.592,131.89 ,132.42,132.686,132.952,133.419,133.452 ,133.504,133.52,133.543,133.56,133.576, 133.609,133.63,133.651,133.677,133.696, 133.716,133.726,133.741,133.75,133.765, 133.774,133.782,133.798,133.809,133.818 ,133.823,133.832,133.842,133.852,133.86 ,133.873,133.886,133.895,133.903, 133.911,133.919,133.931,133.938,133.945 ,133.954,133.963,133.971,133.975, 133.976,133.725,133.295,132.902,132.616 ,132.33,132.08,131.723,131.367,130.903, 130.654,130.333,130.297,130.284,130.282 ,130.281,130.279,130.277,130.275, 130.273,130.271,130.269,130.265,130.263 ,130.258,130.255,130.251,130.247, 130.244,130.24,130.234,130.229,130.224, 130.219,130.214,130.202,130.198,130.194 ,130.188,130.176,130.17,130.156,130.143 ,130.121,130.102,130.086,130.073, 130.056,130.042,130.024,130.019, 130.039)
ORBIT_NUMBER = 4616
ORBITAL_ECCENTRICITY = 0.57
ORBITAL_INCLINATION = 86.69
ORBITAL_SEMIMAJOR_AXIS = 8530.76
PERIAPSIS_ALTITUDE = 295.21
PERIAPSIS_ARGUMENT_ANGLE = 265.71
PERIAPSIS_TIME = 2007-08-08T05:10:59.000Z
SPACECRAFT_ORIENTATION = (0.0,-1.0,0.0)
^MEX_ORIENTATION_DESC = "MEX_ORIENTATION_DESC.TXT"
SPACECRAFT_POINTING_MODE = ACROSSTRACK
^MEX_POINTING_DESC = "MEX_POINTING_DESC.TXT"
RIGHT_ASCENSION = -1e+32
DECLINATION = -1e+32
OFFSET_ANGLE = -0.12
SPACECRAFT_SOLAR_DISTANCE = 2.10977e+08
TARGET_NAME = MARS
/* CAMERA DATA ELEMENTS */
DETECTOR_TEMPERATURE = 18.9822
FOCAL_PLANE_TEMPERATURE = 9.3989
INST_CMPRS_NAME = "DISCRETE COSINE TRANSFORMATION (DCT)"
INST_CMPRS_RATIO = 12.5018
INST_CMPRS_QUALITY = 0
INST_CMPRS_QUANTZ_TBL_ID = 0
INSTRUMENT_TEMPERATURE = 13.273
LENS_TEMPERATURE = 10.0106
MACROPIXEL_SIZE = 2
MISSING_FRAMES = 0
PIXEL_SUBSAMPLING_FLAG = N
SIGNAL_CHAIN_ID = 1
/* RADIOMETRIC DATA ELEMENTS */
BANDWIDTH = 180.0
CENTER_FILTER_WAVELENGTH = 677.0
RADIANCE_OFFSET = 11.1769
RADIANCE_SCALING_FACTOR = 0.0115226
REFLECTANCE_SCALING_FACTOR = 0.000267588
MEX:REFLECTANCE_OFFSET = 0.25956
/* IMAGE OBJECT DEFINITIONS */
OBJECT = IMAGE
  INTERCHANGE_FORMAT = BINARY
  LINES = 10134
  LINE_SAMPLES = 3627
  SAMPLE_TYPE = UNSIGNED_INTEGER
  SAMPLE_BITS = 8
  BANDS = 1
  BAND_STORAGE_TYPE = BAND_SEQUENTIAL
  MAXIMUM = 255
  MEAN = 156.631
  MINIMUM = 1
  STANDARD_DEVIATION = 49.2374
END_OBJECT = IMAGE
/* MAP OBJECT DEFINITIONS */
OBJECT = IMAGE_MAP_PROJECTION
  ^DATA_SET_MAP_PROJECTION_CATALOG= "DSMAP.CAT"
  A_AXIS_RADIUS = 3396.0
  B_AXIS_RADIUS = 3396.0
  C_AXIS_RADIUS = 3396.0
  CENTER_LATITUDE = 0.0
  CENTER_LONGITUDE = 132.0
  COORDINATE_SYSTEM_NAME = PLANETOGRAPHIC
  COORDINATE_SYSTEM_TYPE = "BODY-FIXED ROTATING"
  EASTERNMOST_LONGITUDE = 133.976
  FIRST_STANDARD_PARALLEL = "N/A"
  LINE_FIRST_PIXEL = 1
  LINE_LAST_PIXEL = 10134
  LINE_PROJECTION_OFFSET = -50504.25
  MAP_PROJECTION_ROTATION = 0.0
  MAP_PROJECTION_TYPE = SINUSOIDAL
  MAP_RESOLUTION = 1185.42760773333
  MAP_SCALE = 0.05
  MAXIMUM_LATITUDE = -42.6006
  MINIMUM_LATITUDE = -51.2143
  POSITIVE_LONGITUDE_DIRECTION = EAST
  REFERENCE_LATITUDE = "N/A"
  REFERENCE_LONGITUDE = "N/A"
  SAMPLE_FIRST_PIXEL = 1
  SAMPLE_LAST_PIXEL = 3627
  SAMPLE_PROJECTION_OFFSET = 1730.75
  SECOND_STANDARD_PARALLEL = "N/A"
  WESTERNMOST_LONGITUDE = 130.019
END_OBJECT = IMAGE_MAP_PROJECTION
END
