PDS_VERSION_ID = PDS3
/* FILE DATA ELEMENTS */
RECORD_TYPE = UNDEFINED
/* POINTERS TO DATA OBJECTS */
^IMAGE = ("H4623_0002_SR4.TIF")
/* IDENTIFICATION DATA ELEMENTS */
DATA_SET_ID = "MEX-M-HRSC-4-REFDR-MAPPROJECT-EXT1-V4.0"
DATA_SET_NAME = "MARS EXPRESS HRSC MAP PROJECTED REFDR EXTENSION1 V4.0"
DETECTOR_ID = MEX_HRSC_SRC
EVENT_TYPE = "MARS-REGIONAL-MAPPING-Gl-Eo-La"
INSTRUMENT_HOST_ID = MEX
INSTRUMENT_HOST_NAME = "MARS EXPRESS"
INSTRUMENT_ID = HRSC
INSTRUMENT_NAME = "HIGH RESOLUTION STEREO CAMERA"
MISSION_NAME = "MARS EXPRESS"
MISSION_PHASE_NAME = ME_Phase_9
PROCESSING_LEVEL_ID = 4
PRODUCT_CREATION_TIME = 2023-02-11T00:15:54.000Z
PRODUCT_ID = "H4623_0002_SR4.TIF"
RELEASE_ID = 0007
REVISION_ID = 0000
/* QUALITY DATA ELEMENTS */
DATA_QUALITY_ID = 1
DATA_QUALITY_DESC = "Data calculated based on original SPICE kernels"
/* TIME DATA ELEMENTS */
SPACECRAFT_CLOCK_START_COUNT = "1/0134799325.07281"
SPACECRAFT_CLOCK_STOP_COUNT = "1/0134799638.45906"
IMAGE_TIME = 2007-08-10T04:16:50.069Z
START_TIME = 2007-08-10T04:16:50.067Z
STOP_TIME = 2007-08-10T04:16:50.072Z
/* ORBITAL DATA ELEMENTS */
ASCENDING_NODE_LONGITUDE = 131.68
MAXIMUM_RESOLUTION = 0.003012
FOOTPRINT_POINT_LATITUDE = (-81.2447,-81.2468,-81.2496,-81.2515, -81.2541,-81.2571,-81.2597,-81.2616, -81.2651,-81.2676,-81.2696,-81.2714, -81.2732,-81.2757,-81.279,-81.2812, -81.283,-81.2852,-81.2867,-81.2882, -81.2899,-81.2918,-81.2919,-81.2918, -81.291,-81.2902,-81.2894,-81.2886, -81.2878,-81.2869,-81.2861,-81.2853, -81.2845,-81.2837,-81.2829,-81.2821, -81.2812,-81.2804,-81.2798,-81.279, -81.2781,-81.2773,-81.2765,-81.2757, -81.2749,-81.274,-81.2732,-81.2724, -81.2714,-81.2711,-81.271,-81.2692, -81.2663,-81.2638,-81.261,-81.2582, -81.2555,-81.2535,-81.2516,-81.2489, -81.2461,-81.2446,-81.2421,-81.2397, -81.2382,-81.2343,-81.2314,-81.2295, -81.2278,-81.2255,-81.224,-81.224, -81.224,-81.2248,-81.2256,-81.2264, -81.2273,-81.2281,-81.2289,-81.2297, -81.2305,-81.2313,-81.2322,-81.233, -81.2338,-81.2346,-81.2354,-81.2362, -81.2371,-81.2379,-81.2387,-81.2395, -81.2403,-81.2411,-81.2419,-81.2427, -81.2435,-81.2444,-81.2446,-81.2447)
FOOTPRINT_POINT_LONGITUDE = (146.086,146.08,146.072,146.066,146.059 ,146.051,146.043,146.038,146.028, 146.021,146.015,146.01,146.005,145.998, 145.988,145.982,145.977,145.971,145.966 ,145.962,145.957,145.952,145.951, 145.951,145.939,145.926,145.914,145.902 ,145.889,145.877,145.865,145.852,145.84 ,145.827,145.815,145.803,145.79,145.778 ,145.768,145.756,145.743,145.731, 145.719,145.706,145.694,145.682,145.669 ,145.657,145.642,145.638,145.637, 145.642,145.65,145.657,145.666,145.674, 145.681,145.687,145.693,145.701,145.709 ,145.713,145.72,145.727,145.731,145.743 ,145.751,145.756,145.761,145.768, 145.773,145.773,145.773,145.786,145.798 ,145.81,145.822,145.835,145.847,145.859 ,145.872,145.884,145.896,145.909, 145.921,145.933,145.945,145.958,145.97, 145.982,145.995,146.007,146.019,146.032 ,146.044,146.056,146.069,146.081, 146.084,146.086)
ORBIT_NUMBER = 4623
ORBITAL_ECCENTRICITY = 0.57
ORBITAL_INCLINATION = 86.68
ORBITAL_SEMIMAJOR_AXIS = 8531.58
PERIAPSIS_ALTITUDE = 295.81
PERIAPSIS_ARGUMENT_ANGLE = 264.5
PERIAPSIS_TIME = 2007-08-10T04:13:27.000Z
SPACECRAFT_ORIENTATION = (0.0,-1.0,0.0)
^MEX_ORIENTATION_DESC = "MEX_ORIENTATION_DESC.TXT"
SPACECRAFT_POINTING_MODE = ACROSSTRACK
^MEX_POINTING_DESC = "MEX_POINTING_DESC.TXT"
RIGHT_ASCENSION = -1e+32
DECLINATION = -1e+32
OFFSET_ANGLE = 0.23
SPACECRAFT_SOLAR_DISTANCE = 2.11228e+08
TARGET_NAME = MARS
/* CAMERA DATA ELEMENTS */
BUFFER_MODE_ID = BUFFER_8
EXPOSURE_DURATION = 5.04
INST_CMPRS_NAME = NONE
INST_CMPRS_RATIO = 1.0
INST_CMPRS_QUALITY = -2147483648
INST_CMPRS_QUANTZ_TBL_ID = -2147483648
INSTRUMENT_TEMPERATURE = 7.14204
MISSING_FRAMES = 0
START_BIT = 0
/* RADIOMETRIC DATA ELEMENTS */
BANDWIDTH = 250.0
CENTER_FILTER_WAVELENGTH = 600.0
RADIANCE_OFFSET = -9.99e+31
RADIANCE_SCALING_FACTOR = -9.99e+31
REFLECTANCE_SCALING_FACTOR = -9.99e+31
MEX:REFLECTANCE_OFFSET = -9.99e+31
/* IMAGE OBJECT DEFINITIONS */
OBJECT = IMAGE
  INTERCHANGE_FORMAT = BINARY
  LINES = 1747
  LINE_SAMPLES = 1752
  SAMPLE_TYPE = UNSIGNED_INTEGER
  SAMPLE_BITS = 8
  BANDS = 1
  BAND_STORAGE_TYPE = BAND_SEQUENTIAL
  MAXIMUM = 247
  MEAN = 127.406
  MINIMUM = 4
  STANDARD_DEVIATION = 22.9487
END_OBJECT = IMAGE
/* MAP OBJECT DEFINITIONS */
OBJECT = IMAGE_MAP_PROJECTION
  ^DATA_SET_MAP_PROJECTION_CATALOG= "DSMAP.CAT"
  A_AXIS_RADIUS = 3396.19
  B_AXIS_RADIUS = 3396.19
  C_AXIS_RADIUS = 3396.19
  CENTER_LATITUDE = 0.0
  CENTER_LONGITUDE = 146.0
  COORDINATE_SYSTEM_NAME = PLANETOGRAPHIC
  COORDINATE_SYSTEM_TYPE = "BODY-FIXED ROTATING"
  EASTERNMOST_LONGITUDE = 146.086
  FIRST_STANDARD_PARALLEL = "N/A"
  LINE_FIRST_PIXEL = 1
  LINE_LAST_PIXEL = 1747
  LINE_PROJECTION_OFFSET = -1920538.0
  MAP_PROJECTION_ROTATION = 0.0
  MAP_PROJECTION_TYPE = SINUSOIDAL
  MAP_RESOLUTION = 23709.8786048756
  MAP_SCALE = 0.0025
  MAXIMUM_LATITUDE = -81.224
  MINIMUM_LATITUDE = -81.2919
  POSITIVE_LONGITUDE_DIRECTION = EAST
  REFERENCE_LATITUDE = "N/A"
  REFERENCE_LONGITUDE = "N/A"
  SAMPLE_FIRST_PIXEL = 1
  SAMPLE_LAST_PIXEL = 1752
  SAMPLE_PROJECTION_OFFSET = 1723.0
  SECOND_STANDARD_PARALLEL = "N/A"
  WESTERNMOST_LONGITUDE = 145.637
END_OBJECT = IMAGE_MAP_PROJECTION
END
