PDS_VERSION_ID = PDS3
/* FILE DATA ELEMENTS */
RECORD_TYPE = UNDEFINED
/* POINTERS TO DATA OBJECTS */
^IMAGE = ("H4629_0002_SR4.TIF")
/* IDENTIFICATION DATA ELEMENTS */
DATA_SET_ID = "MEX-M-HRSC-4-REFDR-MAPPROJECT-EXT1-V4.0"
DATA_SET_NAME = "MARS EXPRESS HRSC MAP PROJECTED REFDR EXTENSION1 V4.0"
DETECTOR_ID = MEX_HRSC_SRC
EVENT_TYPE = "MARS-REGIONAL-MAPPING-Gl-Pf-La"
INSTRUMENT_HOST_ID = MEX
INSTRUMENT_HOST_NAME = "MARS EXPRESS"
INSTRUMENT_ID = HRSC
INSTRUMENT_NAME = "HIGH RESOLUTION STEREO CAMERA"
MISSION_NAME = "MARS EXPRESS"
MISSION_PHASE_NAME = ME_Phase_9
PROCESSING_LEVEL_ID = 4
PRODUCT_CREATION_TIME = 2023-02-11T00:15:54.000Z
PRODUCT_ID = "H4629_0002_SR4.TIF"
RELEASE_ID = 0007
REVISION_ID = 0000
/* QUALITY DATA ELEMENTS */
DATA_QUALITY_ID = 1
DATA_QUALITY_DESC = "Data calculated based on original SPICE kernels"
/* TIME DATA ELEMENTS */
SPACECRAFT_CLOCK_START_COUNT = "1/0134944510.09060"
SPACECRAFT_CLOCK_STOP_COUNT = "1/0134944790.25763"
IMAGE_TIME = 2007-08-11T20:36:26.875Z
START_TIME = 2007-08-11T20:36:26.873Z
STOP_TIME = 2007-08-11T20:36:26.878Z
/* ORBITAL DATA ELEMENTS */
ASCENDING_NODE_LONGITUDE = 131.56
MAXIMUM_RESOLUTION = 0.003089
FOOTPRINT_POINT_LATITUDE = (-80.8037,-80.8057,-80.8087,-80.8106, -80.8126,-80.8153,-80.817,-80.8198, -80.8216,-80.8246,-80.8269,-80.8288, -80.8319,-80.8347,-80.8367,-80.8387, -80.8413,-80.8443,-80.8463,-80.8485, -80.8502,-80.8519,-80.852,-80.8519, -80.8511,-80.8502,-80.8494,-80.8485, -80.8477,-80.8468,-80.846,-80.8451, -80.8443,-80.8436,-80.8428,-80.8419, -80.841,-80.8402,-80.8393,-80.8385, -80.8376,-80.8368,-80.8359,-80.835, -80.8342,-80.8333,-80.8325,-80.8316, -80.8305,-80.8303,-80.8302,-80.8274, -80.8236,-80.8219,-80.8198,-80.8182, -80.816,-80.8142,-80.812,-80.8105, -80.8081,-80.8062,-80.8035,-80.8008, -80.798,-80.7959,-80.7944,-80.7923, -80.7896,-80.7872,-80.7842,-80.7821, -80.782,-80.782,-80.7833,-80.7842, -80.785,-80.7859,-80.7872,-80.7881, -80.7889,-80.7898,-80.7906,-80.7915, -80.7923,-80.7932,-80.794,-80.7949, -80.7957,-80.7966,-80.7974,-80.7983, -80.7991,-80.8,-80.8008,-80.8017, -80.8025,-80.8034,-80.8036,-80.8037)
FOOTPRINT_POINT_LONGITUDE = (275.931,275.925,275.917,275.912, 275.906,275.899,275.894,275.886,275.881 ,275.873,275.867,275.861,275.853, 275.845,275.84,275.834,275.827,275.818, 275.813,275.807,275.802,275.797,275.797 ,275.797,275.785,275.773,275.761, 275.749,275.737,275.724,275.712,275.7, 275.688,275.679,275.667,275.655,275.642 ,275.63,275.618,275.606,275.594,275.582 ,275.57,275.558,275.546,275.534,275.522 ,275.51,275.495,275.491,275.49,275.498, 275.508,275.513,275.519,275.523,275.529 ,275.535,275.541,275.545,275.552, 275.557,275.565,275.572,275.58,275.586, 275.59,275.596,275.603,275.61,275.619, 275.624,275.625,275.625,275.643,275.655 ,275.667,275.679,275.697,275.709, 275.721,275.733,275.745,275.757,275.769 ,275.781,275.794,275.806,275.818,275.83 ,275.842,275.854,275.866,275.878,275.89 ,275.902,275.914,275.926,275.929, 275.931)
ORBIT_NUMBER = 4629
ORBITAL_ECCENTRICITY = 0.57
ORBITAL_INCLINATION = 86.68
ORBITAL_SEMIMAJOR_AXIS = 8532.17
PERIAPSIS_ALTITUDE = 295.36
PERIAPSIS_ARGUMENT_ANGLE = 263.48
PERIAPSIS_TIME = 2007-08-11T20:32:42.000Z
SPACECRAFT_ORIENTATION = (0.0,-1.0,0.0)
^MEX_ORIENTATION_DESC = "MEX_ORIENTATION_DESC.TXT"
SPACECRAFT_POINTING_MODE = ACROSSTRACK
^MEX_POINTING_DESC = "MEX_POINTING_DESC.TXT"
RIGHT_ASCENSION = -1e+32
DECLINATION = -1e+32
OFFSET_ANGLE = 0.46
SPACECRAFT_SOLAR_DISTANCE = 2.11449e+08
TARGET_NAME = MARS
/* CAMERA DATA ELEMENTS */
BUFFER_MODE_ID = BUFFER_8
EXPOSURE_DURATION = 5.04
INST_CMPRS_NAME = NONE
INST_CMPRS_RATIO = 1.0
INST_CMPRS_QUALITY = -2147483648
INST_CMPRS_QUANTZ_TBL_ID = -2147483648
INSTRUMENT_TEMPERATURE = 8.24906
MISSING_FRAMES = 0
START_BIT = 0
/* RADIOMETRIC DATA ELEMENTS */
BANDWIDTH = 250.0
CENTER_FILTER_WAVELENGTH = 600.0
RADIANCE_OFFSET = -9.99e+31
RADIANCE_SCALING_FACTOR = -9.99e+31
REFLECTANCE_SCALING_FACTOR = -9.99e+31
MEX:REFLECTANCE_OFFSET = -9.99e+31
/* IMAGE OBJECT DEFINITIONS */
OBJECT = IMAGE
  INTERCHANGE_FORMAT = BINARY
  LINES = 1796
  LINE_SAMPLES = 1801
  SAMPLE_TYPE = UNSIGNED_INTEGER
  SAMPLE_BITS = 8
  BANDS = 1
  BAND_STORAGE_TYPE = BAND_SEQUENTIAL
  MAXIMUM = 246
  MEAN = 141.599
  MINIMUM = 5
  STANDARD_DEVIATION = 31.9536
END_OBJECT = IMAGE
/* MAP OBJECT DEFINITIONS */
OBJECT = IMAGE_MAP_PROJECTION
  ^DATA_SET_MAP_PROJECTION_CATALOG= "DSMAP.CAT"
  A_AXIS_RADIUS = 3396.19
  B_AXIS_RADIUS = 3396.19
  C_AXIS_RADIUS = 3396.19
  CENTER_LATITUDE = 0.0
  CENTER_LONGITUDE = 276.0
  COORDINATE_SYSTEM_NAME = PLANETOGRAPHIC
  COORDINATE_SYSTEM_TYPE = "BODY-FIXED ROTATING"
  EASTERNMOST_LONGITUDE = 275.931
  FIRST_STANDARD_PARALLEL = "N/A"
  LINE_FIRST_PIXEL = 1
  LINE_LAST_PIXEL = 1796
  LINE_PROJECTION_OFFSET = -1909974.0
  MAP_PROJECTION_ROTATION = 0.0
  MAP_PROJECTION_TYPE = SINUSOIDAL
  MAP_RESOLUTION = 23709.8786048756
  MAP_SCALE = 0.0025
  MAXIMUM_LATITUDE = -80.782
  MINIMUM_LATITUDE = -80.852
  POSITIVE_LONGITUDE_DIRECTION = EAST
  REFERENCE_LATITUDE = "N/A"
  REFERENCE_LONGITUDE = "N/A"
  SAMPLE_FIRST_PIXEL = 1
  SAMPLE_LAST_PIXEL = 1801
  SAMPLE_PROJECTION_OFFSET = 2665.0
  SECOND_STANDARD_PARALLEL = "N/A"
  WESTERNMOST_LONGITUDE = 275.49
END_OBJECT = IMAGE_MAP_PROJECTION
END
