PDS_VERSION_ID = PDS3
/* FILE DATA ELEMENTS */
RECORD_TYPE = UNDEFINED
/* POINTERS TO DATA OBJECTS */
^IMAGE = ("H4629_0007_SR4.TIF")
/* IDENTIFICATION DATA ELEMENTS */
DATA_SET_ID = "MEX-M-HRSC-4-REFDR-MAPPROJECT-EXT1-V4.0"
DATA_SET_NAME = "MARS EXPRESS HRSC MAP PROJECTED REFDR EXTENSION1 V4.0"
DETECTOR_ID = MEX_HRSC_SRC
EVENT_TYPE = "MARS-REGIONAL-MAPPING-Gl-Pf-La"
INSTRUMENT_HOST_ID = MEX
INSTRUMENT_HOST_NAME = "MARS EXPRESS"
INSTRUMENT_ID = HRSC
INSTRUMENT_NAME = "HIGH RESOLUTION STEREO CAMERA"
MISSION_NAME = "MARS EXPRESS"
MISSION_PHASE_NAME = ME_Phase_9
PROCESSING_LEVEL_ID = 4
PRODUCT_CREATION_TIME = 2023-02-11T00:15:54.000Z
PRODUCT_ID = "H4629_0007_SR4.TIF"
RELEASE_ID = 0007
REVISION_ID = 0000
/* QUALITY DATA ELEMENTS */
DATA_QUALITY_ID = 1
DATA_QUALITY_DESC = "Data calculated based on original SPICE kernels"
/* TIME DATA ELEMENTS */
SPACECRAFT_CLOCK_START_COUNT = "1/0134944510.09060"
SPACECRAFT_CLOCK_STOP_COUNT = "1/0134944790.25763"
IMAGE_TIME = 2007-08-11T20:36:29.600Z
START_TIME = 2007-08-11T20:36:29.598Z
STOP_TIME = 2007-08-11T20:36:29.603Z
/* ORBITAL DATA ELEMENTS */
ASCENDING_NODE_LONGITUDE = 131.56
MAXIMUM_RESOLUTION = 0.003099
FOOTPRINT_POINT_LATITUDE = (-80.6418,-80.6434,-80.6455,-80.649, -80.6511,-80.6541,-80.6563,-80.6579, -80.661,-80.6632,-80.6651,-80.6674, -80.6695,-80.6725,-80.6744,-80.676, -80.6779,-80.6805,-80.6824,-80.6845, -80.6867,-80.6882,-80.6903,-80.6904, -80.6903,-80.6895,-80.6887,-80.6878, -80.687,-80.6861,-80.6853,-80.6845, -80.6836,-80.6828,-80.6819,-80.6811, -80.6803,-80.6794,-80.6786,-80.6777, -80.6769,-80.676,-80.6752,-80.6746, -80.6737,-80.6729,-80.672,-80.6712, -80.6703,-80.6693,-80.6691,-80.6689, -80.6659,-80.6627,-80.661,-80.659, -80.6565,-80.6541,-80.6525,-80.6499, -80.6477,-80.6445,-80.6424,-80.6391, -80.6367,-80.635,-80.633,-80.6302, -80.6271,-80.6243,-80.6205,-80.6204, -80.6205,-80.6215,-80.6224,-80.6232, -80.624,-80.6249,-80.6257,-80.6266, -80.6274,-80.6283,-80.6291,-80.6299, -80.6308,-80.6316,-80.6325,-80.6333, -80.6341,-80.635,-80.6358,-80.6367, -80.6375,-80.6383,-80.6392,-80.64, -80.6408,-80.6415,-80.6417,-80.6418)
FOOTPRINT_POINT_LONGITUDE = (276.369,276.365,276.359,276.35,276.345 ,276.337,276.331,276.327,276.318, 276.313,276.307,276.301,276.296,276.288 ,276.283,276.278,276.273,276.266, 276.261,276.256,276.25,276.246,276.24, 276.24,276.24,276.228,276.216,276.204, 276.192,276.18,276.168,276.156,276.144, 276.132,276.12,276.108,276.096,276.084, 276.072,276.06,276.048,276.036,276.025, 276.016,276.004,275.992,275.98,275.968, 275.956,275.941,275.938,275.936,275.944 ,275.953,275.958,275.963,275.97,275.976 ,275.981,275.988,275.994,276.002, 276.008,276.017,276.023,276.028,276.033 ,276.04,276.049,276.056,276.067,276.067 ,276.067,276.082,276.094,276.106, 276.117,276.129,276.141,276.153,276.165 ,276.177,276.189,276.201,276.213, 276.225,276.236,276.248,276.26,276.272, 276.284,276.296,276.308,276.32,276.332, 276.344,276.356,276.365,276.367, 276.369)
ORBIT_NUMBER = 4629
ORBITAL_ECCENTRICITY = 0.57
ORBITAL_INCLINATION = 86.68
ORBITAL_SEMIMAJOR_AXIS = 8532.17
PERIAPSIS_ALTITUDE = 295.36
PERIAPSIS_ARGUMENT_ANGLE = 263.48
PERIAPSIS_TIME = 2007-08-11T20:32:42.000Z
SPACECRAFT_ORIENTATION = (0.0,-1.0,0.0)
^MEX_ORIENTATION_DESC = "MEX_ORIENTATION_DESC.TXT"
SPACECRAFT_POINTING_MODE = ACROSSTRACK
^MEX_POINTING_DESC = "MEX_POINTING_DESC.TXT"
RIGHT_ASCENSION = -1e+32
DECLINATION = -1e+32
OFFSET_ANGLE = 0.46
SPACECRAFT_SOLAR_DISTANCE = 2.11449e+08
TARGET_NAME = MARS
/* CAMERA DATA ELEMENTS */
BUFFER_MODE_ID = BUFFER_8
EXPOSURE_DURATION = 5.04
INST_CMPRS_NAME = NONE
INST_CMPRS_RATIO = 1.0
INST_CMPRS_QUALITY = -2147483648
INST_CMPRS_QUANTZ_TBL_ID = -2147483648
INSTRUMENT_TEMPERATURE = 8.31357
MISSING_FRAMES = 0
START_BIT = 0
/* RADIOMETRIC DATA ELEMENTS */
BANDWIDTH = 250.0
CENTER_FILTER_WAVELENGTH = 600.0
RADIANCE_OFFSET = -9.99e+31
RADIANCE_SCALING_FACTOR = -9.99e+31
REFLECTANCE_SCALING_FACTOR = -9.99e+31
MEX:REFLECTANCE_OFFSET = -9.99e+31
/* IMAGE OBJECT DEFINITIONS */
OBJECT = IMAGE
  INTERCHANGE_FORMAT = BINARY
  LINES = 1795
  LINE_SAMPLES = 1805
  SAMPLE_TYPE = UNSIGNED_INTEGER
  SAMPLE_BITS = 8
  BANDS = 1
  BAND_STORAGE_TYPE = BAND_SEQUENTIAL
  MAXIMUM = 250
  MEAN = 147.092
  MINIMUM = 8
  STANDARD_DEVIATION = 22.335
END_OBJECT = IMAGE
/* MAP OBJECT DEFINITIONS */
OBJECT = IMAGE_MAP_PROJECTION
  ^DATA_SET_MAP_PROJECTION_CATALOG= "DSMAP.CAT"
  A_AXIS_RADIUS = 3396.19
  B_AXIS_RADIUS = 3396.19
  C_AXIS_RADIUS = 3396.19
  CENTER_LATITUDE = 0.0
  CENTER_LONGITUDE = 276.0
  COORDINATE_SYSTEM_NAME = PLANETOGRAPHIC
  COORDINATE_SYSTEM_TYPE = "BODY-FIXED ROTATING"
  EASTERNMOST_LONGITUDE = 276.369
  FIRST_STANDARD_PARALLEL = "N/A"
  LINE_FIRST_PIXEL = 1
  LINE_LAST_PIXEL = 1795
  LINE_PROJECTION_OFFSET = -1906172.0
  MAP_PROJECTION_ROTATION = 0.0
  MAP_PROJECTION_TYPE = SINUSOIDAL
  MAP_RESOLUTION = 23709.8786048756
  MAP_SCALE = 0.0025
  MAXIMUM_LATITUDE = -80.6204
  MINIMUM_LATITUDE = -80.6904
  POSITIVE_LONGITUDE_DIRECTION = EAST
  REFERENCE_LATITUDE = "N/A"
  REFERENCE_LONGITUDE = "N/A"
  SAMPLE_FIRST_PIXEL = 1
  SAMPLE_LAST_PIXEL = 1805
  SAMPLE_PROJECTION_OFFSET = 989.0
  SECOND_STANDARD_PARALLEL = "N/A"
  WESTERNMOST_LONGITUDE = 275.936
END_OBJECT = IMAGE_MAP_PROJECTION
END
