PDS_VERSION_ID = PDS3
/* FILE DATA ELEMENTS */
RECORD_TYPE = UNDEFINED
/* POINTERS TO DATA OBJECTS */
^IMAGE = ("H4632_0000_IR4.TIF")
/* IDENTIFICATION DATA ELEMENTS */
DATA_SET_ID = "MEX-M-HRSC-4-REFDR-MAPPROJECT-EXT1-V4.0"
DATA_SET_NAME = "MARS EXPRESS HRSC MAP PROJECTED REFDR EXTENSION1 V4.0"
DETECTOR_ID = MEX_HRSC_IR
EVENT_TYPE = "MARS-REGIONAL-MAPPING-Gl-Pf"
INSTRUMENT_HOST_ID = MEX
INSTRUMENT_HOST_NAME = "MARS EXPRESS"
INSTRUMENT_ID = HRSC
INSTRUMENT_NAME = "HIGH RESOLUTION STEREO CAMERA"
MISSION_NAME = "MARS EXPRESS"
MISSION_PHASE_NAME = ME_Phase_9
PROCESSING_LEVEL_ID = 4
PRODUCT_CREATION_TIME = 2023-02-11T00:15:54.000Z
PRODUCT_ID = "H4632_0000_IR4.TIF"
RELEASE_ID = 0007
REVISION_ID = 0000
/* QUALITY DATA ELEMENTS */
DATA_QUALITY_ID = 1
DATA_QUALITY_DESC = "Data calculated based on original SPICE kernels"
/* TIME DATA ELEMENTS */
SPACECRAFT_CLOCK_START_COUNT = "1/0135017144.08246"
SPACECRAFT_CLOCK_STOP_COUNT = "1/0135017408.54536"
START_TIME = 2007-08-12T16:45:52.988Z
STOP_TIME = 2007-08-12T16:48:49.549Z
/* ORBITAL DATA ELEMENTS */
ASCENDING_NODE_LONGITUDE = 131.5
MAXIMUM_RESOLUTION = 0.0558
FOOTPRINT_POINT_LATITUDE = (-80.4496,-80.6813,-80.8333,-80.8363, -80.7686,-80.4671,-80.2651,-80.063, -79.86,-79.6573,-79.453,-79.2489, -78.8429,-78.537,-78.3326,-78.1288, -77.9246,-77.72,-77.4128,-77.0042, -76.6969,-76.4917,-76.2866,-76.0539, -75.8082,-75.5648,-75.3196,-75.0749, -74.8289,-74.584,-74.2181,-73.9708, -73.7287,-73.484,-73.2394,-72.9933, -72.7498,-72.5047,-72.2609,-72.0164, -71.7723,-71.5283,-71.2793,-71.0283, -70.7751,-70.5285,-70.1465,-69.7622, -69.5058,-69.3755,-69.3114,-69.2724, -69.2347,-69.2007,-69.1465,-69.1004, -69.0979,-69.0982,-69.3563,-69.6106, -69.9913,-70.2444,-70.4918,-70.8618, -71.1113,-71.3567,-71.5985,-71.9602, -72.2007,-72.4426,-72.6861,-72.9286, -73.2902,-73.6549,-73.8955,-74.1379, -74.3797,-74.6218,-74.8629,-75.1045, -75.4654,-75.7058,-75.9452,-76.1486, -76.5493,-76.9512,-77.1522,-77.3527, -77.7509,-77.9503,-78.3486,-78.6469, -79.0417,-79.2397,-79.5355,-79.7324, -79.9287,-80.2181,-80.3161,-80.4496)
FOOTPRINT_POINT_LONGITUDE = (341.476,344.995,347.807,347.869, 348.208,348.773,349.13,349.472,349.803, 350.117,350.425,350.719,351.264,351.65, 351.897,352.132,352.36,352.582,352.9, 353.296,353.578,353.76,353.935,354.129, 354.326,354.511,354.694,354.869,355.041 ,355.205,355.438,355.593,355.734, 355.875,356.013,356.148,356.275,356.401 ,356.521,356.639,356.754,356.864, 356.974,357.083,357.192,357.288,357.437 ,357.581,357.675,357.722,357.744, 356.765,355.945,355.284,354.354,353.622 ,353.583,353.57,353.455,353.338,353.156 ,353.03,352.903,352.705,352.569,352.43, 352.289,352.069,351.916,351.759,351.598 ,351.431,351.169,350.896,350.705, 350.508,350.304,350.094,349.875,349.65, 349.295,349.048,348.795,348.574,348.107 ,347.611,347.35,347.08,346.513,346.214, 345.584,345.081,344.366,343.988,343.392 ,342.976,342.542,341.858,341.621, 341.476)
ORBIT_NUMBER = 4632
ORBITAL_ECCENTRICITY = 0.57
ORBITAL_INCLINATION = 86.69
ORBITAL_SEMIMAJOR_AXIS = 8531.25
PERIAPSIS_ALTITUDE = 295.54
PERIAPSIS_ARGUMENT_ANGLE = 262.93
PERIAPSIS_TIME = 2007-08-12T16:42:17.000Z
SPACECRAFT_ORIENTATION = (0.0,-1.0,0.0)
^MEX_ORIENTATION_DESC = "MEX_ORIENTATION_DESC.TXT"
SPACECRAFT_POINTING_MODE = NADIR
^MEX_POINTING_DESC = "MEX_POINTING_DESC.TXT"
RIGHT_ASCENSION = -1e+32
DECLINATION = -1e+32
OFFSET_ANGLE = -1e+32
SPACECRAFT_SOLAR_DISTANCE = 2.11561e+08
TARGET_NAME = MARS
/* CAMERA DATA ELEMENTS */
DETECTOR_TEMPERATURE = 17.351
FOCAL_PLANE_TEMPERATURE = 8.1755
INST_CMPRS_NAME = "DISCRETE COSINE TRANSFORMATION (DCT)"
INST_CMPRS_RATIO = 12.4708
INST_CMPRS_QUALITY = 0
INST_CMPRS_QUANTZ_TBL_ID = 0
INSTRUMENT_TEMPERATURE = 11.234
LENS_TEMPERATURE = 8.5833
MACROPIXEL_SIZE = 4
MISSING_FRAMES = 0
PIXEL_SUBSAMPLING_FLAG = N
SIGNAL_CHAIN_ID = 2
/* RADIOMETRIC DATA ELEMENTS */
BANDWIDTH = 81.0
CENTER_FILTER_WAVELENGTH = 955.5
RADIANCE_OFFSET = 1.23462
RADIANCE_SCALING_FACTOR = 0.00542851
REFLECTANCE_SCALING_FACTOR = 0.000524177
MEX:REFLECTANCE_OFFSET = 0.119215
/* IMAGE OBJECT DEFINITIONS */
OBJECT = IMAGE
  INTERCHANGE_FORMAT = BINARY
  LINES = 13821
  LINE_SAMPLES = 4552
  SAMPLE_TYPE = UNSIGNED_INTEGER
  SAMPLE_BITS = 8
  BANDS = 1
  BAND_STORAGE_TYPE = BAND_SEQUENTIAL
  MAXIMUM = 255
  MEAN = 127.277
  MINIMUM = 1
  STANDARD_DEVIATION = 31.0762
END_OBJECT = IMAGE
/* MAP OBJECT DEFINITIONS */
OBJECT = IMAGE_MAP_PROJECTION
  ^DATA_SET_MAP_PROJECTION_CATALOG= "DSMAP.CAT"
  A_AXIS_RADIUS = 3396.0
  B_AXIS_RADIUS = 3396.0
  C_AXIS_RADIUS = 3396.0
  CENTER_LATITUDE = 0.0
  CENTER_LONGITUDE = 352.0
  COORDINATE_SYSTEM_NAME = PLANETOGRAPHIC
  COORDINATE_SYSTEM_TYPE = "BODY-FIXED ROTATING"
  EASTERNMOST_LONGITUDE = 357.744
  FIRST_STANDARD_PARALLEL = "N/A"
  LINE_FIRST_PIXEL = 1
  LINE_LAST_PIXEL = 13821
  LINE_PROJECTION_OFFSET = -81896.125
  MAP_PROJECTION_ROTATION = 0.0
  MAP_PROJECTION_TYPE = SINUSOIDAL
  MAP_RESOLUTION = 1185.42760773333
  MAP_SCALE = 0.05
  MAXIMUM_LATITUDE = -69.0979
  MINIMUM_LATITUDE = -80.83629999999999
  POSITIVE_LONGITUDE_DIRECTION = EAST
  REFERENCE_LATITUDE = "N/A"
  REFERENCE_LONGITUDE = "N/A"
  SAMPLE_FIRST_PIXEL = 1
  SAMPLE_LAST_PIXEL = 4552
  SAMPLE_PROJECTION_OFFSET = 2097.375
  SECOND_STANDARD_PARALLEL = "N/A"
  WESTERNMOST_LONGITUDE = 341.476
END_OBJECT = IMAGE_MAP_PROJECTION
END
