PDS_VERSION_ID = PDS3
/* FILE DATA ELEMENTS */
RECORD_TYPE = UNDEFINED
/* POINTERS TO DATA OBJECTS */
^IMAGE = ("H4632_0000_ND4.TIF")
/* IDENTIFICATION DATA ELEMENTS */
DATA_SET_ID = "MEX-M-HRSC-4-REFDR-MAPPROJECT-EXT1-V4.0"
DATA_SET_NAME = "MARS EXPRESS HRSC MAP PROJECTED REFDR EXTENSION1 V4.0"
DETECTOR_ID = MEX_HRSC_NADIR
EVENT_TYPE = "MARS-REGIONAL-MAPPING-Gl-Pf"
INSTRUMENT_HOST_ID = MEX
INSTRUMENT_HOST_NAME = "MARS EXPRESS"
INSTRUMENT_ID = HRSC
INSTRUMENT_NAME = "HIGH RESOLUTION STEREO CAMERA"
MISSION_NAME = "MARS EXPRESS"
MISSION_PHASE_NAME = ME_Phase_9
PROCESSING_LEVEL_ID = 4
PRODUCT_CREATION_TIME = 2023-02-11T00:15:54.000Z
PRODUCT_ID = "H4632_0000_ND4.TIF"
RELEASE_ID = 0007
REVISION_ID = 0000
/* QUALITY DATA ELEMENTS */
DATA_QUALITY_ID = 1
DATA_QUALITY_DESC = "Data calculated based on original SPICE kernels"
/* TIME DATA ELEMENTS */
SPACECRAFT_CLOCK_START_COUNT = "1/0135017144.08246"
SPACECRAFT_CLOCK_STOP_COUNT = "1/0135017408.54536"
START_TIME = 2007-08-12T16:46:18.376Z
STOP_TIME = 2007-08-12T16:49:23.365Z
/* ORBITAL DATA ELEMENTS */
ASCENDING_NODE_LONGITUDE = 131.5
MAXIMUM_RESOLUTION = 0.0138
FOOTPRINT_POINT_LATITUDE = (-80.3435,-80.4842,-80.5862,-80.7305, -80.7338,-80.7451,-80.5492,-80.353, -80.1566,-79.96,-79.7633,-79.5663, -79.1723,-78.7777,-78.3828,-77.9878, -77.7582,-77.5225,-77.2867,-77.051, -76.8153,-76.5797,-76.3442,-76.1088, -75.8734,-75.6382,-75.403,-75.168, -74.9332,-74.6986,-74.464,-74.2295, -73.9954,-73.7612,-73.5274,-73.17, -72.9304,-72.6909,-72.4517,-72.2067, -71.8393,-71.5946,-71.2209,-70.9708, -70.7211,-70.34,-70.0846,-69.8295, -69.4406,-69.3104,-69.3055,-69.2599, -69.2026,-69.1564,-69.09,-69.0872, -69.0862,-69.3447,-69.6013,-69.8542, -70.1073,-70.4848,-70.7324,-70.9802, -71.3504,-71.5926,-71.835,-72.0775, -72.4354,-72.6723,-72.9092,-73.2624, -73.4935,-73.7246,-73.9558,-74.1872, -74.4185,-74.65,-74.8814,-75.1129, -75.3443,-75.5759,-75.8074,-76.039, -76.2704,-76.5016,-76.7328,-76.964, -77.1949,-77.4258,-77.6509,-78.0368, -78.4219,-78.8063,-79.1892,-79.5711, -79.9515,-80.2351,-80.3297,-80.3435)
FOOTPRINT_POINT_LONGITUDE = (341.625,343.702,345.38,348.097,348.165 ,348.369,348.738,349.091,349.429, 349.755,350.067,350.367,350.935,351.459 ,351.946,352.399,352.649,352.897, 353.132,353.36,353.579,353.79,353.994, 354.192,354.381,354.564,354.739,354.91, 355.075,355.236,355.39,355.538,355.685, 355.822,355.958,356.158,356.289,356.414 ,356.535,356.656,356.832,356.944, 357.109,357.217,357.324,357.473,357.572 ,357.667,357.81,357.857,357.858,356.72, 355.503,354.637,353.517,353.474,353.453 ,353.339,353.221,353.102,352.978, 352.787,352.656,352.522,352.315,352.175 ,352.028,351.877,351.646,351.49,351.328 ,351.073,350.903,350.725,350.54,350.352 ,350.156,349.953,349.743,349.526, 349.299,349.068,348.827,348.579,348.319 ,348.049,347.769,347.479,347.177, 346.864,346.543,345.965,345.346,344.684 ,343.966,343.198,342.369,341.695, 341.466,341.625)
ORBIT_NUMBER = 4632
ORBITAL_ECCENTRICITY = 0.57
ORBITAL_INCLINATION = 86.69
ORBITAL_SEMIMAJOR_AXIS = 8531.25
PERIAPSIS_ALTITUDE = 295.54
PERIAPSIS_ARGUMENT_ANGLE = 262.93
PERIAPSIS_TIME = 2007-08-12T16:42:17.000Z
SPACECRAFT_ORIENTATION = (0.0,-1.0,0.0)
^MEX_ORIENTATION_DESC = "MEX_ORIENTATION_DESC.TXT"
SPACECRAFT_POINTING_MODE = NADIR
^MEX_POINTING_DESC = "MEX_POINTING_DESC.TXT"
RIGHT_ASCENSION = -1e+32
DECLINATION = -1e+32
OFFSET_ANGLE = -1e+32
SPACECRAFT_SOLAR_DISTANCE = 2.11561e+08
TARGET_NAME = MARS
/* CAMERA DATA ELEMENTS */
DETECTOR_TEMPERATURE = 18.3705
FOCAL_PLANE_TEMPERATURE = 8.1755
INST_CMPRS_NAME = "DISCRETE COSINE TRANSFORMATION (DCT)"
INST_CMPRS_RATIO = 6.99146
INST_CMPRS_QUALITY = 0
INST_CMPRS_QUANTZ_TBL_ID = 0
INSTRUMENT_TEMPERATURE = 11.234
LENS_TEMPERATURE = 8.5833
MACROPIXEL_SIZE = 1
MISSING_FRAMES = 0
PIXEL_SUBSAMPLING_FLAG = N
SIGNAL_CHAIN_ID = 0
/* RADIOMETRIC DATA ELEMENTS */
BANDWIDTH = 177.0
CENTER_FILTER_WAVELENGTH = 677.5
RADIANCE_OFFSET = 4.69008
RADIANCE_SCALING_FACTOR = 0.0202886
REFLECTANCE_SCALING_FACTOR = 0.000482398
MEX:REFLECTANCE_OFFSET = 0.111515
/* IMAGE OBJECT DEFINITIONS */
OBJECT = IMAGE
  INTERCHANGE_FORMAT = BINARY
  LINES = 55284
  LINE_SAMPLES = 18207
  SAMPLE_TYPE = UNSIGNED_INTEGER
  SAMPLE_BITS = 8
  BANDS = 1
  BAND_STORAGE_TYPE = BAND_SEQUENTIAL
  MAXIMUM = 255
  MEAN = 118.881
  MINIMUM = 1
  STANDARD_DEVIATION = 31.897
END_OBJECT = IMAGE
/* MAP OBJECT DEFINITIONS */
OBJECT = IMAGE_MAP_PROJECTION
  ^DATA_SET_MAP_PROJECTION_CATALOG= "DSMAP.CAT"
  A_AXIS_RADIUS = 3396.0
  B_AXIS_RADIUS = 3396.0
  C_AXIS_RADIUS = 3396.0
  CENTER_LATITUDE = 0.0
  CENTER_LONGITUDE = 352.0
  COORDINATE_SYSTEM_NAME = PLANETOGRAPHIC
  COORDINATE_SYSTEM_TYPE = "BODY-FIXED ROTATING"
  EASTERNMOST_LONGITUDE = 357.858
  FIRST_STANDARD_PARALLEL = "N/A"
  LINE_FIRST_PIXEL = 1
  LINE_LAST_PIXEL = 55284
  LINE_PROJECTION_OFFSET = -327583.0
  MAP_PROJECTION_ROTATION = 0.0
  MAP_PROJECTION_TYPE = SINUSOIDAL
  MAP_RESOLUTION = 4741.71043093333
  MAP_SCALE = 0.0125
  MAXIMUM_LATITUDE = -69.08620000000001
  MINIMUM_LATITUDE = -80.74509999999999
  POSITIVE_LONGITUDE_DIRECTION = EAST
  REFERENCE_LATITUDE = "N/A"
  REFERENCE_LONGITUDE = "N/A"
  SAMPLE_FIRST_PIXEL = 1
  SAMPLE_LAST_PIXEL = 18207
  SAMPLE_PROJECTION_OFFSET = 8391.0
  SECOND_STANDARD_PARALLEL = "N/A"
  WESTERNMOST_LONGITUDE = 341.466
END_OBJECT = IMAGE_MAP_PROJECTION
END
