PDS_VERSION_ID = PDS3
/* FILE DATA ELEMENTS */
RECORD_TYPE = UNDEFINED
/* POINTERS TO DATA OBJECTS */
^IMAGE = ("H4632_0000_P14.TIF")
/* IDENTIFICATION DATA ELEMENTS */
DATA_SET_ID = "MEX-M-HRSC-4-REFDR-MAPPROJECT-EXT1-V4.0"
DATA_SET_NAME = "MARS EXPRESS HRSC MAP PROJECTED REFDR EXTENSION1 V4.0"
DETECTOR_ID = MEX_HRSC_P1
EVENT_TYPE = "MARS-REGIONAL-MAPPING-Gl-Pf"
INSTRUMENT_HOST_ID = MEX
INSTRUMENT_HOST_NAME = "MARS EXPRESS"
INSTRUMENT_ID = HRSC
INSTRUMENT_NAME = "HIGH RESOLUTION STEREO CAMERA"
MISSION_NAME = "MARS EXPRESS"
MISSION_PHASE_NAME = ME_Phase_9
PROCESSING_LEVEL_ID = 4
PRODUCT_CREATION_TIME = 2023-02-11T00:15:54.000Z
PRODUCT_ID = "H4632_0000_P14.TIF"
RELEASE_ID = 0007
REVISION_ID = 0000
/* QUALITY DATA ELEMENTS */
DATA_QUALITY_ID = 1
DATA_QUALITY_DESC = "Data calculated based on original SPICE kernels"
/* TIME DATA ELEMENTS */
SPACECRAFT_CLOCK_START_COUNT = "1/0135017144.08246"
SPACECRAFT_CLOCK_STOP_COUNT = "1/0135017408.54536"
START_TIME = 2007-08-12T16:45:58.268Z
STOP_TIME = 2007-08-12T16:48:55.979Z
/* ORBITAL DATA ELEMENTS */
ASCENDING_NODE_LONGITUDE = 131.5
MAXIMUM_RESOLUTION = 0.0276
FOOTPRINT_POINT_LATITUDE = (-80.4184,-80.5474,-80.7054,-80.8025, -80.8057,-80.7548,-80.4543,-80.2536, -80.0528,-79.8512,-79.6499,-79.4471, -79.2446,-79.0436,-78.8413,-78.5378, -78.2337,-77.9299,-77.7269,-77.4221, -77.118,-76.915,-76.7119,-76.4941, -76.2512,-75.8873,-75.5234,-75.2804, -74.916,-74.6733,-74.4303,-74.1891, -73.9449,-73.7044,-73.4621,-73.2199, -72.9769,-72.7354,-72.493,-72.2516, -72.0098,-71.641,-71.3932,-71.1456, -70.7698,-70.3918,-70.1385,-69.7552, -69.4956,-69.3657,-69.3275,-69.2915, -69.2406,-69.1759,-69.1155,-69.1129, -69.1125,-69.4991,-69.8803,-70.1307, -70.3816,-70.6329,-70.8768,-71.1232, -71.3688,-71.735,-71.9732,-72.2115, -72.4509,-72.6916,-72.9315,-73.2897, -73.6504,-73.889,-74.1289,-74.3684, -74.6079,-74.9665,-75.3239,-75.6826, -76.0424,-76.2811,-76.6794,-76.9787, -77.1777,-77.3768,-77.7721,-77.9699, -78.1666,-78.3653,-78.6613,-78.8585, -79.0534,-79.2498,-79.5434,-79.7389, -80.0302,-80.2216,-80.3189,-80.4184)
FOOTPRINT_POINT_LONGITUDE = (341.529,343.405,346.027,347.889, 347.953,348.265,348.826,349.179,349.518 ,349.845,350.157,350.462,350.754, 351.026,351.294,351.677,352.039,352.381 ,352.601,352.917,353.214,353.406, 353.591,353.784,353.991,354.288,354.568 ,354.748,355.006,355.171,355.331, 355.481,355.634,355.773,355.913,356.048 ,356.181,356.308,356.432,356.551, 356.667,356.839,356.95,357.057,357.218, 357.367,357.465,357.609,357.704,357.75, 357.764,356.857,355.749,354.567,353.593 ,353.553,353.538,353.364,353.185, 353.061,352.934,352.804,352.672,352.537 ,352.398,352.182,352.035,351.884, 351.728,351.569,351.403,351.144,350.874 ,350.685,350.49,350.289,350.081,349.754 ,349.409,349.047,348.665,348.397, 347.924,347.55,347.29,347.022,346.456, 346.158,345.849,345.531,345.03,344.681, 344.318,343.941,343.349,342.935,342.281 ,341.822,341.586,341.529)
ORBIT_NUMBER = 4632
ORBITAL_ECCENTRICITY = 0.57
ORBITAL_INCLINATION = 86.69
ORBITAL_SEMIMAJOR_AXIS = 8531.25
PERIAPSIS_ALTITUDE = 295.54
PERIAPSIS_ARGUMENT_ANGLE = 262.93
PERIAPSIS_TIME = 2007-08-12T16:42:17.000Z
SPACECRAFT_ORIENTATION = (0.0,-1.0,0.0)
^MEX_ORIENTATION_DESC = "MEX_ORIENTATION_DESC.TXT"
SPACECRAFT_POINTING_MODE = NADIR
^MEX_POINTING_DESC = "MEX_POINTING_DESC.TXT"
RIGHT_ASCENSION = -1e+32
DECLINATION = -1e+32
OFFSET_ANGLE = -1e+32
SPACECRAFT_SOLAR_DISTANCE = 2.11561e+08
TARGET_NAME = MARS
/* CAMERA DATA ELEMENTS */
DETECTOR_TEMPERATURE = 17.351
FOCAL_PLANE_TEMPERATURE = 8.1755
INST_CMPRS_NAME = "DISCRETE COSINE TRANSFORMATION (DCT)"
INST_CMPRS_RATIO = 11.2923
INST_CMPRS_QUALITY = 0
INST_CMPRS_QUANTZ_TBL_ID = 0
INSTRUMENT_TEMPERATURE = 11.234
LENS_TEMPERATURE = 8.5833
MACROPIXEL_SIZE = 2
MISSING_FRAMES = 0
PIXEL_SUBSAMPLING_FLAG = N
SIGNAL_CHAIN_ID = 3
/* RADIOMETRIC DATA ELEMENTS */
BANDWIDTH = 174.0
CENTER_FILTER_WAVELENGTH = 675.0
RADIANCE_OFFSET = 5.4276
RADIANCE_SCALING_FACTOR = 0.0204845
REFLECTANCE_SCALING_FACTOR = 0.000493154
MEX:REFLECTANCE_OFFSET = 0.130667
/* IMAGE OBJECT DEFINITIONS */
OBJECT = IMAGE
  INTERCHANGE_FORMAT = BINARY
  LINES = 27642
  LINE_SAMPLES = 9104
  SAMPLE_TYPE = UNSIGNED_INTEGER
  SAMPLE_BITS = 8
  BANDS = 1
  BAND_STORAGE_TYPE = BAND_SEQUENTIAL
  MAXIMUM = 255
  MEAN = 103.978
  MINIMUM = 1
  STANDARD_DEVIATION = 28.0273
END_OBJECT = IMAGE
/* MAP OBJECT DEFINITIONS */
OBJECT = IMAGE_MAP_PROJECTION
  ^DATA_SET_MAP_PROJECTION_CATALOG= "DSMAP.CAT"
  A_AXIS_RADIUS = 3396.0
  B_AXIS_RADIUS = 3396.0
  C_AXIS_RADIUS = 3396.0
  CENTER_LATITUDE = 0.0
  CENTER_LONGITUDE = 352.0
  COORDINATE_SYSTEM_NAME = PLANETOGRAPHIC
  COORDINATE_SYSTEM_TYPE = "BODY-FIXED ROTATING"
  EASTERNMOST_LONGITUDE = 357.764
  FIRST_STANDARD_PARALLEL = "N/A"
  LINE_FIRST_PIXEL = 1
  LINE_LAST_PIXEL = 27642
  LINE_PROJECTION_OFFSET = -163791.75
  MAP_PROJECTION_ROTATION = 0.0
  MAP_PROJECTION_TYPE = SINUSOIDAL
  MAP_RESOLUTION = 2370.85521546667
  MAP_SCALE = 0.025
  MAXIMUM_LATITUDE = -69.1125
  MINIMUM_LATITUDE = -80.8057
  POSITIVE_LONGITUDE_DIRECTION = EAST
  REFERENCE_LATITUDE = "N/A"
  REFERENCE_LONGITUDE = "N/A"
  SAMPLE_FIRST_PIXEL = 1
  SAMPLE_LAST_PIXEL = 9104
  SAMPLE_PROJECTION_OFFSET = 4195.25
  SECOND_STANDARD_PARALLEL = "N/A"
  WESTERNMOST_LONGITUDE = 341.529
END_OBJECT = IMAGE_MAP_PROJECTION
END
