PDS_VERSION_ID = PDS3
/* FILE DATA ELEMENTS */
RECORD_TYPE = UNDEFINED
/* POINTERS TO DATA OBJECTS */
^IMAGE = ("H4633_0000_BL4.TIF")
/* IDENTIFICATION DATA ELEMENTS */
DATA_SET_ID = "MEX-M-HRSC-4-REFDR-MAPPROJECT-EXT1-V4.0"
DATA_SET_NAME = "MARS EXPRESS HRSC MAP PROJECTED REFDR EXTENSION1 V4.0"
DETECTOR_ID = MEX_HRSC_BLUE
EVENT_TYPE = "MARS-REGIONAL-MAPPING-Gl-Pf-Eo"
INSTRUMENT_HOST_ID = MEX
INSTRUMENT_HOST_NAME = "MARS EXPRESS"
INSTRUMENT_ID = HRSC
INSTRUMENT_NAME = "HIGH RESOLUTION STEREO CAMERA"
MISSION_NAME = "MARS EXPRESS"
MISSION_PHASE_NAME = ME_Phase_9
PROCESSING_LEVEL_ID = 4
PRODUCT_CREATION_TIME = 2023-02-11T00:15:54.000Z
PRODUCT_ID = "H4633_0000_BL4.TIF"
RELEASE_ID = 0007
REVISION_ID = 0000
/* QUALITY DATA ELEMENTS */
DATA_QUALITY_ID = 1
DATA_QUALITY_DESC = "Data calculated based on original SPICE kernels"
/* TIME DATA ELEMENTS */
SPACECRAFT_CLOCK_START_COUNT = "1/0135041305.07284"
SPACECRAFT_CLOCK_STOP_COUNT = "1/0135041556.14226"
START_TIME = 2007-08-12T23:29:02.986Z
STOP_TIME = 2007-08-12T23:32:02.002Z
/* ORBITAL DATA ELEMENTS */
ASCENDING_NODE_LONGITUDE = 131.48
MAXIMUM_RESOLUTION = 0.0531
FOOTPRINT_POINT_LATITUDE = (-82.4694,-82.6872,-82.9569,-82.9609, -82.9885,-82.7088,-82.4211,-82.2265, -82.0314,-81.8358,-81.6399,-81.4435, -81.2471,-81.0497,-80.8521,-80.6543, -80.4563,-80.0596,-79.5634,-79.1655, -78.7674,-78.3691,-78.1316,-77.7749, -77.5372,-77.2996,-77.0621,-76.8246, -76.5871,-76.3498,-76.1126,-75.8756, -75.6386,-75.4018,-75.1651,-74.9287, -74.6925,-74.4564,-74.2206,-73.9849, -73.7451,-73.5036,-73.2622,-73.0212, -72.6524,-72.4057,-72.159,-72.036, -72.0299,-71.9887,-71.9563,-71.9159, -71.8577,-71.7882,-71.7854,-71.7855, -72.0292,-72.2732,-72.5175,-72.7599, -72.998,-73.2365,-73.4751,-73.7123, -73.9449,-74.1777,-74.4106,-74.6434, -74.8764,-75.1095,-75.3427,-75.5758, -75.8089,-76.0421,-76.2753,-76.5084, -76.7414,-76.9744,-77.2072,-77.4399, -77.6725,-77.9048,-78.1187,-78.5071, -78.8946,-79.281,-79.666,-80.0495, -80.4311,-80.621,-80.8103,-80.999, -81.187,-81.3742,-81.6534,-81.8383, -82.0223,-82.3784,-82.4658,-82.4694)
FOOTPRINT_POINT_LONGITUDE = (236.297,239.352,243.954,244.031, 244.211,245.151,246.041,246.602,247.134 ,247.641,248.123,248.583,249.024, 249.441,249.84,250.222,250.588,251.274, 252.059,252.631,253.161,253.653,253.93, 254.325,254.575,254.815,255.046,255.269 ,255.482,255.688,255.887,256.078, 256.263,256.441,256.613,256.78,256.94, 257.096,257.247,257.393,257.537,257.677 ,257.813,257.945,258.139,258.264, 258.384,258.444,258.447,257.473,256.766 ,255.974,254.922,253.79,253.746,253.731 ,253.582,253.426,253.266,253.103, 252.938,252.767,252.589,252.404,252.219 ,252.028,251.831,251.627,251.416, 251.198,250.971,250.736,250.493,250.241 ,249.979,249.707,249.424,249.131, 248.826,248.509,248.178,247.834,247.504 ,246.87,246.188,245.454,244.661,243.804 ,242.873,242.379,241.864,241.326, 240.763,240.175,239.241,238.581,237.89, 236.441,236.06,236.297)
ORBIT_NUMBER = 4633
ORBITAL_ECCENTRICITY = 0.57
ORBITAL_INCLINATION = 86.69
ORBITAL_SEMIMAJOR_AXIS = 8532.36
PERIAPSIS_ALTITUDE = 295.02
PERIAPSIS_ARGUMENT_ANGLE = 262.77
PERIAPSIS_TIME = 2007-08-12T23:25:31.000Z
SPACECRAFT_ORIENTATION = (0.0,-1.0,0.0)
^MEX_ORIENTATION_DESC = "MEX_ORIENTATION_DESC.TXT"
SPACECRAFT_POINTING_MODE = NADIR
^MEX_POINTING_DESC = "MEX_POINTING_DESC.TXT"
RIGHT_ASCENSION = -1e+32
DECLINATION = -1e+32
OFFSET_ANGLE = -1e+32
SPACECRAFT_SOLAR_DISTANCE = 2.11598e+08
TARGET_NAME = MARS
/* CAMERA DATA ELEMENTS */
DETECTOR_TEMPERATURE = 18.1666
FOCAL_PLANE_TEMPERATURE = 8.5833
INST_CMPRS_NAME = "DISCRETE COSINE TRANSFORMATION (DCT)"
INST_CMPRS_RATIO = 8.62708
INST_CMPRS_QUALITY = 0
INST_CMPRS_QUANTZ_TBL_ID = 0
INSTRUMENT_TEMPERATURE = 11.4379
LENS_TEMPERATURE = 8.7872
MACROPIXEL_SIZE = 4
MISSING_FRAMES = 0
PIXEL_SUBSAMPLING_FLAG = N
SIGNAL_CHAIN_ID = 2
/* RADIOMETRIC DATA ELEMENTS */
BANDWIDTH = 76.0
CENTER_FILTER_WAVELENGTH = 444.0
RADIANCE_OFFSET = 0.756542
RADIANCE_SCALING_FACTOR = 0.00143137
REFLECTANCE_SCALING_FACTOR = 6.58464e-05
MEX:REFLECTANCE_OFFSET = 0.0348028
/* IMAGE OBJECT DEFINITIONS */
OBJECT = IMAGE
  INTERCHANGE_FORMAT = BINARY
  LINES = 13266
  LINE_SAMPLES = 5040
  SAMPLE_TYPE = UNSIGNED_INTEGER
  SAMPLE_BITS = 8
  BANDS = 1
  BAND_STORAGE_TYPE = BAND_SEQUENTIAL
  MAXIMUM = 255
  MEAN = 156.83
  MINIMUM = 1
  STANDARD_DEVIATION = 41.6423
END_OBJECT = IMAGE
/* MAP OBJECT DEFINITIONS */
OBJECT = IMAGE_MAP_PROJECTION
  ^DATA_SET_MAP_PROJECTION_CATALOG= "DSMAP.CAT"
  A_AXIS_RADIUS = 3396.0
  B_AXIS_RADIUS = 3396.0
  C_AXIS_RADIUS = 3396.0
  CENTER_LATITUDE = 0.0
  CENTER_LONGITUDE = 251.0
  COORDINATE_SYSTEM_NAME = PLANETOGRAPHIC
  COORDINATE_SYSTEM_TYPE = "BODY-FIXED ROTATING"
  EASTERNMOST_LONGITUDE = 258.447
  FIRST_STANDARD_PARALLEL = "N/A"
  LINE_FIRST_PIXEL = 1
  LINE_LAST_PIXEL = 13266
  LINE_PROJECTION_OFFSET = -85111.625
  MAP_PROJECTION_ROTATION = 0.0
  MAP_PROJECTION_TYPE = SINUSOIDAL
  MAP_RESOLUTION = 1185.42760773333
  MAP_SCALE = 0.05
  MAXIMUM_LATITUDE = -71.7854
  MINIMUM_LATITUDE = -82.9885
  POSITIVE_LONGITUDE_DIRECTION = EAST
  REFERENCE_LATITUDE = "N/A"
  REFERENCE_LONGITUDE = "N/A"
  SAMPLE_FIRST_PIXEL = 1
  SAMPLE_LAST_PIXEL = 5040
  SAMPLE_PROJECTION_OFFSET = 2318.125
  SECOND_STANDARD_PARALLEL = "N/A"
  WESTERNMOST_LONGITUDE = 236.06
END_OBJECT = IMAGE_MAP_PROJECTION
END
