PDS_VERSION_ID = PDS3
/* FILE DATA ELEMENTS */
RECORD_TYPE = UNDEFINED
/* POINTERS TO DATA OBJECTS */
^IMAGE = ("H4633_0005_SR4.TIF")
/* IDENTIFICATION DATA ELEMENTS */
DATA_SET_ID = "MEX-M-HRSC-4-REFDR-MAPPROJECT-EXT1-V4.0"
DATA_SET_NAME = "MARS EXPRESS HRSC MAP PROJECTED REFDR EXTENSION1 V4.0"
DETECTOR_ID = MEX_HRSC_SRC
EVENT_TYPE = "MARS-REGIONAL-MAPPING-Gl-Pf-Eo"
INSTRUMENT_HOST_ID = MEX
INSTRUMENT_HOST_NAME = "MARS EXPRESS"
INSTRUMENT_ID = HRSC
INSTRUMENT_NAME = "HIGH RESOLUTION STEREO CAMERA"
MISSION_NAME = "MARS EXPRESS"
MISSION_PHASE_NAME = ME_Phase_9
PROCESSING_LEVEL_ID = 4
PRODUCT_CREATION_TIME = 2023-02-11T00:15:54.000Z
PRODUCT_ID = "H4633_0005_SR4.TIF"
RELEASE_ID = 0007
REVISION_ID = 0000
/* QUALITY DATA ELEMENTS */
DATA_QUALITY_ID = 1
DATA_QUALITY_DESC = "Data calculated based on original SPICE kernels"
/* TIME DATA ELEMENTS */
SPACECRAFT_CLOCK_START_COUNT = "1/0135041305.07284"
SPACECRAFT_CLOCK_STOP_COUNT = "1/0135041556.14226"
IMAGE_TIME = 2007-08-12T23:29:35.350Z
START_TIME = 2007-08-12T23:29:35.348Z
STOP_TIME = 2007-08-12T23:29:35.353Z
/* ORBITAL DATA ELEMENTS */
ASCENDING_NODE_LONGITUDE = 131.48
MAXIMUM_RESOLUTION = 0.003152
FOOTPRINT_POINT_LATITUDE = (-80.4773,-80.4806,-80.4835,-80.4861, -80.4881,-80.4901,-80.4922,-80.4944, -80.4974,-80.4994,-80.5026,-80.5043, -80.5058,-80.508,-80.5095,-80.5112, -80.5134,-80.5159,-80.5181,-80.5197, -80.5219,-80.5239,-80.5255,-80.5279, -80.5279,-80.5279,-80.5274,-80.5266, -80.5257,-80.525,-80.5241,-80.5234, -80.5225,-80.5217,-80.5208,-80.5199, -80.5192,-80.5185,-80.5177,-80.5168, -80.5161,-80.5152,-80.5145,-80.5137, -80.513,-80.5123,-80.5115,-80.5108, -80.5097,-80.5095,-80.5094,-80.5053, -80.503,-80.5013,-80.4985,-80.4963, -80.4938,-80.4899,-80.4876,-80.486, -80.4837,-80.4821,-80.4805,-80.4781, -80.4745,-80.4729,-80.4712,-80.4689, -80.4668,-80.465,-80.4622,-80.4589, -80.4589,-80.4589,-80.4596,-80.4605, -80.4618,-80.4627,-80.4634,-80.4642, -80.4651,-80.4658,-80.4665,-80.4671, -80.4678,-80.4683,-80.4691,-80.4696, -80.4701,-80.471,-80.4718,-80.4725, -80.4732,-80.4737,-80.4746,-80.4757, -80.4764,-80.477,-80.4772,-80.4773)
FOOTPRINT_POINT_LONGITUDE = (246.857,246.849,246.843,246.838, 246.833,246.829,246.824,246.82,246.813, 246.809,246.802,246.798,246.795,246.79, 246.787,246.783,246.778,246.773,246.768 ,246.765,246.76,246.755,246.752,246.747 ,246.747,246.746,246.737,246.725,246.71 ,246.698,246.682,246.67,246.655,246.643 ,246.627,246.612,246.6,246.588,246.575, 246.56,246.548,246.533,246.521,246.508, 246.496,246.484,246.472,246.46,246.441, 246.438,246.437,246.446,246.451,246.455 ,246.461,246.466,246.471,246.48,246.485 ,246.488,246.493,246.497,246.5,246.506, 246.514,246.517,246.521,246.526,246.531 ,246.535,246.541,246.548,246.548, 246.548,246.56,246.576,246.597,246.612, 246.624,246.636,246.651,246.663,246.676 ,246.685,246.697,246.706,246.718, 246.727,246.736,246.751,246.764,246.776 ,246.788,246.797,246.812,246.831, 246.843,246.852,246.855,246.857)
ORBIT_NUMBER = 4633
ORBITAL_ECCENTRICITY = 0.57
ORBITAL_INCLINATION = 86.69
ORBITAL_SEMIMAJOR_AXIS = 8532.36
PERIAPSIS_ALTITUDE = 295.02
PERIAPSIS_ARGUMENT_ANGLE = 262.77
PERIAPSIS_TIME = 2007-08-12T23:25:31.000Z
SPACECRAFT_ORIENTATION = (0.0,-1.0,0.0)
^MEX_ORIENTATION_DESC = "MEX_ORIENTATION_DESC.TXT"
SPACECRAFT_POINTING_MODE = NADIR
^MEX_POINTING_DESC = "MEX_POINTING_DESC.TXT"
RIGHT_ASCENSION = -1e+32
DECLINATION = -1e+32
OFFSET_ANGLE = -1e+32
SPACECRAFT_SOLAR_DISTANCE = 2.11598e+08
TARGET_NAME = MARS
/* CAMERA DATA ELEMENTS */
BUFFER_MODE_ID = BUFFER_8
EXPOSURE_DURATION = 5.04
INST_CMPRS_NAME = NONE
INST_CMPRS_RATIO = 1.0
INST_CMPRS_QUALITY = -2147483648
INST_CMPRS_QUANTZ_TBL_ID = -2147483648
INSTRUMENT_TEMPERATURE = 8.73405
MISSING_FRAMES = 0
START_BIT = 0
/* RADIOMETRIC DATA ELEMENTS */
BANDWIDTH = 250.0
CENTER_FILTER_WAVELENGTH = 600.0
RADIANCE_OFFSET = -9.99e+31
RADIANCE_SCALING_FACTOR = -9.99e+31
REFLECTANCE_SCALING_FACTOR = -9.99e+31
MEX:REFLECTANCE_OFFSET = -9.99e+31
/* IMAGE OBJECT DEFINITIONS */
OBJECT = IMAGE
  INTERCHANGE_FORMAT = BINARY
  LINES = 1770
  LINE_SAMPLES = 1773
  SAMPLE_TYPE = UNSIGNED_INTEGER
  SAMPLE_BITS = 8
  BANDS = 1
  BAND_STORAGE_TYPE = BAND_SEQUENTIAL
  MAXIMUM = 245
  MEAN = 148.25
  MINIMUM = 15
  STANDARD_DEVIATION = 17.8416
END_OBJECT = IMAGE
/* MAP OBJECT DEFINITIONS */
OBJECT = IMAGE_MAP_PROJECTION
  ^DATA_SET_MAP_PROJECTION_CATALOG= "DSMAP.CAT"
  A_AXIS_RADIUS = 3396.19
  B_AXIS_RADIUS = 3396.19
  C_AXIS_RADIUS = 3396.19
  CENTER_LATITUDE = 0.0
  CENTER_LONGITUDE = 247.0
  COORDINATE_SYSTEM_NAME = PLANETOGRAPHIC
  COORDINATE_SYSTEM_TYPE = "BODY-FIXED ROTATING"
  EASTERNMOST_LONGITUDE = 246.857
  FIRST_STANDARD_PARALLEL = "N/A"
  LINE_FIRST_PIXEL = 1
  LINE_LAST_PIXEL = 1770
  LINE_PROJECTION_OFFSET = -1902657.0
  MAP_PROJECTION_ROTATION = 0.0
  MAP_PROJECTION_TYPE = SINUSOIDAL
  MAP_RESOLUTION = 23709.8786048756
  MAP_SCALE = 0.0025
  MAXIMUM_LATITUDE = -80.4589
  MINIMUM_LATITUDE = -80.5279
  POSITIVE_LONGITUDE_DIRECTION = EAST
  REFERENCE_LATITUDE = "N/A"
  REFERENCE_LONGITUDE = "N/A"
  SAMPLE_FIRST_PIXEL = 1
  SAMPLE_LAST_PIXEL = 1773
  SAMPLE_PROJECTION_OFFSET = 2270.0
  SECOND_STANDARD_PARALLEL = "N/A"
  WESTERNMOST_LONGITUDE = 246.437
END_OBJECT = IMAGE_MAP_PROJECTION
END
