PDS_VERSION_ID = PDS3
/* FILE DATA ELEMENTS */
RECORD_TYPE = UNDEFINED
/* POINTERS TO DATA OBJECTS */
^IMAGE = ("H4636_0009_GR4.TIF")
/* IDENTIFICATION DATA ELEMENTS */
DATA_SET_ID = "MEX-M-HRSC-4-REFDR-MAPPROJECT-EXT1-V4.0"
DATA_SET_NAME = "MARS EXPRESS HRSC MAP PROJECTED REFDR EXTENSION1 V4.0"
DETECTOR_ID = MEX_HRSC_GREEN
EVENT_TYPE = "MARS-REGIONAL-MAPPING-Gl-La"
INSTRUMENT_HOST_ID = MEX
INSTRUMENT_HOST_NAME = "MARS EXPRESS"
INSTRUMENT_ID = HRSC
INSTRUMENT_NAME = "HIGH RESOLUTION STEREO CAMERA"
MISSION_NAME = "MARS EXPRESS"
MISSION_PHASE_NAME = ME_Phase_9
PROCESSING_LEVEL_ID = 4
PRODUCT_CREATION_TIME = 2023-02-11T00:15:54.000Z
PRODUCT_ID = "H4636_0009_GR4.TIF"
RELEASE_ID = 0007
REVISION_ID = 0000
/* QUALITY DATA ELEMENTS */
DATA_QUALITY_ID = 1
DATA_QUALITY_DESC = "Data calculated based on original SPICE kernels"
/* TIME DATA ELEMENTS */
SPACECRAFT_CLOCK_START_COUNT = "1/0135113868.08254"
SPACECRAFT_CLOCK_STOP_COUNT = "1/0135114028.30310"
START_TIME = 2007-08-13T19:38:15.881Z
STOP_TIME = 2007-08-13T19:39:49.146Z
/* ORBITAL DATA ELEMENTS */
ASCENDING_NODE_LONGITUDE = 131.42
MAXIMUM_RESOLUTION = 0.0517
FOOTPRINT_POINT_LATITUDE = (-83.6957,-83.8552,-83.9461,-84.0662, -84.1499,-84.2745,-84.2793,-84.2805, -84.07,-83.9109,-83.697,-83.3733, -83.1557,-82.9917,-82.8271,-82.6043, -82.49,-82.3755,-82.2608,-82.1459, -82.0308,-81.9155,-81.8,-81.6843, -81.5685,-81.4525,-81.3364,-81.2136, -81.0973,-80.9808,-80.8642,-80.7475, -80.6307,-80.5138,-80.3968,-80.2797, -80.104,-79.9867,-79.8694,-79.752, -79.6346,-79.5171,-79.3995,-79.2819, -79.1643,-79.0467,-78.929,-78.7523, -78.6346,-78.5757,-78.5674,-78.5121, -78.4521,-78.3709,-78.3294,-78.29, -78.2228,-78.219,-78.2185,-78.3333, -78.4481,-78.5629,-78.6776,-78.7921, -78.9066,-79.0209,-79.1351,-79.2492, -79.3631,-79.4769,-79.5906,-79.7042, -79.8176,-79.9308,-80.0439,-80.213, -80.3258,-80.4381,-80.5503,-80.7182, -80.8918,-81.003,-81.1139,-81.2246, -81.3351,-81.4452,-81.555,-81.6646, -81.773,-81.8826,-81.991,-82.0991, -82.3095,-82.4642,-82.7706,-82.9718, -83.3199,-83.6113,-83.6592,-83.6957)
FOOTPRINT_POINT_LONGITUDE = (294.861,296.864,298.101,299.86,301.183 ,303.33,303.418,303.774,304.887,305.672 ,306.655,308.013,308.844,309.439,310.0, 310.716,311.072,311.41,311.732,312.051, 312.36,312.662,312.953,313.236,313.511, 313.779,314.039,314.307,314.552,314.792 ,315.025,315.251,315.473,315.689, 315.899,316.104,316.403,316.596,316.784 ,316.968,317.148,317.323,317.495, 317.662,317.826,317.986,318.143,318.371 ,318.519,318.592,318.602,317.45,316.307 ,314.895,314.223,313.612,312.621, 312.566,312.546,312.36,312.17,311.976, 311.778,311.576,311.369,311.158,310.942 ,310.721,310.494,310.263,310.027, 309.785,309.537,309.284,309.024,308.622 ,308.348,308.065,307.775,307.327, 306.844,306.523,306.194,305.857,305.51, 305.154,304.789,304.414,304.025,303.632 ,303.225,302.806,301.951,301.285, 299.865,298.846,296.92,295.097,294.777, 294.861)
ORBIT_NUMBER = 4636
ORBITAL_ECCENTRICITY = 0.57
ORBITAL_INCLINATION = 86.7
ORBITAL_SEMIMAJOR_AXIS = 8531.53
PERIAPSIS_ALTITUDE = 295.46
PERIAPSIS_ARGUMENT_ANGLE = 262.27
PERIAPSIS_TIME = 2007-08-13T19:35:08.000Z
SPACECRAFT_ORIENTATION = (0.0,-1.0,0.0)
^MEX_ORIENTATION_DESC = "MEX_ORIENTATION_DESC.TXT"
SPACECRAFT_POINTING_MODE = NADIR
^MEX_POINTING_DESC = "MEX_POINTING_DESC.TXT"
RIGHT_ASCENSION = -1e+32
DECLINATION = -1e+32
OFFSET_ANGLE = -1e+32
SPACECRAFT_SOLAR_DISTANCE = 2.11711e+08
TARGET_NAME = MARS
/* CAMERA DATA ELEMENTS */
DETECTOR_TEMPERATURE = 18.5744
FOCAL_PLANE_TEMPERATURE = 8.5833
INST_CMPRS_NAME = "DISCRETE COSINE TRANSFORMATION (DCT)"
INST_CMPRS_RATIO = 22.3997
INST_CMPRS_QUALITY = 0
INST_CMPRS_QUANTZ_TBL_ID = 0
INSTRUMENT_TEMPERATURE = 12.2535
LENS_TEMPERATURE = 8.9911
MACROPIXEL_SIZE = 4
MISSING_FRAMES = 1
PIXEL_SUBSAMPLING_FLAG = N
SIGNAL_CHAIN_ID = 2
/* RADIOMETRIC DATA ELEMENTS */
BANDWIDTH = 88.0
CENTER_FILTER_WAVELENGTH = 538.0
RADIANCE_OFFSET = 2.00702
RADIANCE_SCALING_FACTOR = 0.017873
REFLECTANCE_SCALING_FACTOR = 0.000689726
MEX:REFLECTANCE_OFFSET = 0.0774518
/* IMAGE OBJECT DEFINITIONS */
OBJECT = IMAGE
  INTERCHANGE_FORMAT = BINARY
  LINES = 7195
  LINE_SAMPLES = 4037
  SAMPLE_TYPE = UNSIGNED_INTEGER
  SAMPLE_BITS = 8
  BANDS = 1
  BAND_STORAGE_TYPE = BAND_SEQUENTIAL
  MAXIMUM = 255
  MEAN = 43.7445
  MINIMUM = 1
  STANDARD_DEVIATION = 59.1471
END_OBJECT = IMAGE
/* MAP OBJECT DEFINITIONS */
OBJECT = IMAGE_MAP_PROJECTION
  ^DATA_SET_MAP_PROJECTION_CATALOG= "DSMAP.CAT"
  A_AXIS_RADIUS = 3396.0
  B_AXIS_RADIUS = 3396.0
  C_AXIS_RADIUS = 3396.0
  CENTER_LATITUDE = 0.0
  CENTER_LONGITUDE = 310.0
  COORDINATE_SYSTEM_NAME = PLANETOGRAPHIC
  COORDINATE_SYSTEM_TYPE = "BODY-FIXED ROTATING"
  EASTERNMOST_LONGITUDE = 318.602
  FIRST_STANDARD_PARALLEL = "N/A"
  LINE_FIRST_PIXEL = 1
  LINE_LAST_PIXEL = 7195
  LINE_PROJECTION_OFFSET = -92722.125
  MAP_PROJECTION_ROTATION = 0.0
  MAP_PROJECTION_TYPE = SINUSOIDAL
  MAP_RESOLUTION = 1185.42760773333
  MAP_SCALE = 0.05
  MAXIMUM_LATITUDE = -78.21850000000001
  MINIMUM_LATITUDE = -84.2805
  POSITIVE_LONGITUDE_DIRECTION = EAST
  REFERENCE_LATITUDE = "N/A"
  REFERENCE_LONGITUDE = "N/A"
  SAMPLE_FIRST_PIXEL = 1
  SAMPLE_LAST_PIXEL = 4037
  SAMPLE_PROJECTION_OFFSET = 2001.375
  SECOND_STANDARD_PARALLEL = "N/A"
  WESTERNMOST_LONGITUDE = 294.777
END_OBJECT = IMAGE_MAP_PROJECTION
END
