PDS_VERSION_ID = PDS3
/* FILE DATA ELEMENTS */
RECORD_TYPE = UNDEFINED
/* POINTERS TO DATA OBJECTS */
^IMAGE = ("H4636_0009_IR4.TIF")
/* IDENTIFICATION DATA ELEMENTS */
DATA_SET_ID = "MEX-M-HRSC-4-REFDR-MAPPROJECT-EXT1-V4.0"
DATA_SET_NAME = "MARS EXPRESS HRSC MAP PROJECTED REFDR EXTENSION1 V4.0"
DETECTOR_ID = MEX_HRSC_IR
EVENT_TYPE = "MARS-REGIONAL-MAPPING-Gl-La"
INSTRUMENT_HOST_ID = MEX
INSTRUMENT_HOST_NAME = "MARS EXPRESS"
INSTRUMENT_ID = HRSC
INSTRUMENT_NAME = "HIGH RESOLUTION STEREO CAMERA"
MISSION_NAME = "MARS EXPRESS"
MISSION_PHASE_NAME = ME_Phase_9
PROCESSING_LEVEL_ID = 4
PRODUCT_CREATION_TIME = 2023-02-11T00:15:54.000Z
PRODUCT_ID = "H4636_0009_IR4.TIF"
RELEASE_ID = 0007
REVISION_ID = 0000
/* QUALITY DATA ELEMENTS */
DATA_QUALITY_ID = 1
DATA_QUALITY_DESC = "Data calculated based on original SPICE kernels"
/* TIME DATA ELEMENTS */
SPACECRAFT_CLOCK_START_COUNT = "1/0135113868.08254"
SPACECRAFT_CLOCK_STOP_COUNT = "1/0135114028.30310"
START_TIME = 2007-08-13T19:37:56.912Z
STOP_TIME = 2007-08-13T19:39:27.770Z
/* ORBITAL DATA ELEMENTS */
ASCENDING_NODE_LONGITUDE = 131.42
MAXIMUM_RESOLUTION = 0.053
FOOTPRINT_POINT_LATITUDE = (-83.7721,-83.8616,-83.9999,-84.1156, -84.2003,-84.2668,-84.3505,-84.3553, -84.2999,-83.9927,-83.8373,-83.6808, -83.5233,-83.3121,-83.0926,-82.9818, -82.8156,-82.7045,-82.5923,-82.4235, -82.2568,-82.1443,-82.0318,-81.9187, -81.8056,-81.6924,-81.5791,-81.4655, -81.348,-81.2303,-81.1126,-80.9947, -80.8176,-80.6995,-80.581,-80.4031, -80.2842,-80.1652,-79.9869,-79.8678, -79.7486,-79.5695,-79.4502,-79.3306, -79.2112,-79.0916,-78.9719,-78.8521, -78.6724,-78.6126,-78.5869,-78.5295, -78.4884,-78.4486,-78.366,-78.2951, -78.2469,-78.2431,-78.2427,-78.3595, -78.5347,-78.7098,-78.8264,-79.0008, -79.117,-79.2907,-79.4063,-79.5219, -79.6374,-79.7527,-79.8678,-79.9826, -80.0974,-80.2682,-80.383,-80.4967, -80.6103,-80.78,-80.9492,-81.0606, -81.1691,-81.2774,-81.3854,-81.4931, -81.6006,-81.8122,-81.9208,-82.08, -82.1854,-82.2907,-82.3952,-82.4987, -82.6516,-82.8544,-83.0488,-83.2927, -83.4833,-83.6244,-83.6711,-83.7721)
FOOTPRINT_POINT_LONGITUDE = (294.456,295.544,297.35,299.0,300.3, 301.386,302.845,302.932,303.613,305.222 ,305.966,306.676,307.35,308.199,309.026 ,309.42,309.984,310.346,310.702,311.216 ,311.691,312.003,312.305,312.6,312.886, 313.163,313.433,313.696,313.96,314.217, 314.466,314.71,315.062,315.289,315.511, 315.834,316.043,316.247,316.541,316.732 ,316.919,317.191,317.367,317.539, 317.707,317.871,318.031,318.188,318.417 ,318.492,318.523,317.341,316.558, 315.835,314.46,313.375,312.677,312.623, 312.604,312.414,312.121,311.819,311.612 ,311.293,311.075,310.737,310.506, 310.269,310.027,309.779,309.526,309.266 ,309.0,308.589,308.306,308.017,307.72, 307.26,306.783,306.458,306.132,305.798, 305.455,305.103,304.741,303.992,303.598 ,302.991,302.573,302.142,301.699, 301.245,300.542,299.568,298.557,297.202 ,296.048,295.137,294.824,294.456)
ORBIT_NUMBER = 4636
ORBITAL_ECCENTRICITY = 0.57
ORBITAL_INCLINATION = 86.7
ORBITAL_SEMIMAJOR_AXIS = 8531.53
PERIAPSIS_ALTITUDE = 295.46
PERIAPSIS_ARGUMENT_ANGLE = 262.27
PERIAPSIS_TIME = 2007-08-13T19:35:08.000Z
SPACECRAFT_ORIENTATION = (0.0,-1.0,0.0)
^MEX_ORIENTATION_DESC = "MEX_ORIENTATION_DESC.TXT"
SPACECRAFT_POINTING_MODE = NADIR
^MEX_POINTING_DESC = "MEX_POINTING_DESC.TXT"
RIGHT_ASCENSION = -1e+32
DECLINATION = -1e+32
OFFSET_ANGLE = -1e+32
SPACECRAFT_SOLAR_DISTANCE = 2.11711e+08
TARGET_NAME = MARS
/* CAMERA DATA ELEMENTS */
DETECTOR_TEMPERATURE = 17.7588
FOCAL_PLANE_TEMPERATURE = 8.5833
INST_CMPRS_NAME = "DISCRETE COSINE TRANSFORMATION (DCT)"
INST_CMPRS_RATIO = 17.2902
INST_CMPRS_QUALITY = 0
INST_CMPRS_QUANTZ_TBL_ID = 0
INSTRUMENT_TEMPERATURE = 12.2535
LENS_TEMPERATURE = 8.9911
MACROPIXEL_SIZE = 4
MISSING_FRAMES = 0
PIXEL_SUBSAMPLING_FLAG = N
SIGNAL_CHAIN_ID = 2
/* RADIOMETRIC DATA ELEMENTS */
BANDWIDTH = 81.0
CENTER_FILTER_WAVELENGTH = 955.5
RADIANCE_OFFSET = 1.3834
RADIANCE_SCALING_FACTOR = 0.00792899
REFLECTANCE_SCALING_FACTOR = 0.000766719
MEX:REFLECTANCE_OFFSET = 0.133772
/* IMAGE OBJECT DEFINITIONS */
OBJECT = IMAGE
  INTERCHANGE_FORMAT = BINARY
  LINES = 7195
  LINE_SAMPLES = 4037
  SAMPLE_TYPE = UNSIGNED_INTEGER
  SAMPLE_BITS = 8
  BANDS = 1
  BAND_STORAGE_TYPE = BAND_SEQUENTIAL
  MAXIMUM = 254
  MEAN = 65.3711
  MINIMUM = 1
  STANDARD_DEVIATION = 56.3105
END_OBJECT = IMAGE
/* MAP OBJECT DEFINITIONS */
OBJECT = IMAGE_MAP_PROJECTION
  ^DATA_SET_MAP_PROJECTION_CATALOG= "DSMAP.CAT"
  A_AXIS_RADIUS = 3396.0
  B_AXIS_RADIUS = 3396.0
  C_AXIS_RADIUS = 3396.0
  CENTER_LATITUDE = 0.0
  CENTER_LONGITUDE = 310.0
  COORDINATE_SYSTEM_NAME = PLANETOGRAPHIC
  COORDINATE_SYSTEM_TYPE = "BODY-FIXED ROTATING"
  EASTERNMOST_LONGITUDE = 318.523
  FIRST_STANDARD_PARALLEL = "N/A"
  LINE_FIRST_PIXEL = 1
  LINE_LAST_PIXEL = 7195
  LINE_PROJECTION_OFFSET = -92722.125
  MAP_PROJECTION_ROTATION = 0.0
  MAP_PROJECTION_TYPE = SINUSOIDAL
  MAP_RESOLUTION = 1185.42760773333
  MAP_SCALE = 0.05
  MAXIMUM_LATITUDE = -78.2427
  MINIMUM_LATITUDE = -84.3553
  POSITIVE_LONGITUDE_DIRECTION = EAST
  REFERENCE_LATITUDE = "N/A"
  REFERENCE_LONGITUDE = "N/A"
  SAMPLE_FIRST_PIXEL = 1
  SAMPLE_LAST_PIXEL = 4037
  SAMPLE_PROJECTION_OFFSET = 2001.375
  SECOND_STANDARD_PARALLEL = "N/A"
  WESTERNMOST_LONGITUDE = 294.456
END_OBJECT = IMAGE_MAP_PROJECTION
END
