PDS_VERSION_ID = PDS3
/* FILE DATA ELEMENTS */
RECORD_TYPE = UNDEFINED
/* POINTERS TO DATA OBJECTS */
^IMAGE = ("H4636_0014_SR4.TIF")
/* IDENTIFICATION DATA ELEMENTS */
DATA_SET_ID = "MEX-M-HRSC-4-REFDR-MAPPROJECT-EXT1-V4.0"
DATA_SET_NAME = "MARS EXPRESS HRSC MAP PROJECTED REFDR EXTENSION1 V4.0"
DETECTOR_ID = MEX_HRSC_SRC
EVENT_TYPE = "MARS-REGIONAL-MAPPING-Gl-La"
INSTRUMENT_HOST_ID = MEX
INSTRUMENT_HOST_NAME = "MARS EXPRESS"
INSTRUMENT_ID = HRSC
INSTRUMENT_NAME = "HIGH RESOLUTION STEREO CAMERA"
MISSION_NAME = "MARS EXPRESS"
MISSION_PHASE_NAME = ME_Phase_9
PROCESSING_LEVEL_ID = 4
PRODUCT_CREATION_TIME = 2023-02-11T00:15:54.000Z
PRODUCT_ID = "H4636_0014_SR4.TIF"
RELEASE_ID = 0007
REVISION_ID = 0000
/* QUALITY DATA ELEMENTS */
DATA_QUALITY_ID = 1
DATA_QUALITY_DESC = "Data calculated based on original SPICE kernels"
/* TIME DATA ELEMENTS */
SPACECRAFT_CLOCK_START_COUNT = "1/0135113868.08254"
SPACECRAFT_CLOCK_STOP_COUNT = "1/0135114028.30310"
IMAGE_TIME = 2007-08-13T19:38:50.173Z
START_TIME = 2007-08-13T19:38:50.171Z
STOP_TIME = 2007-08-13T19:38:50.176Z
/* ORBITAL DATA ELEMENTS */
ASCENDING_NODE_LONGITUDE = 131.42
MAXIMUM_RESOLUTION = 0.003076
FOOTPRINT_POINT_LATITUDE = (-82.2804,-82.2834,-82.2868,-82.2893, -82.291,-82.2926,-82.2949,-82.297, -82.2996,-82.3018,-82.3033,-82.305, -82.3073,-82.3089,-82.3112,-82.313, -82.3145,-82.3159,-82.3174,-82.3198, -82.3218,-82.3249,-82.3266,-82.328, -82.3281,-82.3281,-82.3272,-82.3265, -82.3257,-82.3248,-82.3241,-82.3232, -82.3226,-82.3215,-82.3208,-82.3199, -82.3191,-82.3182,-82.3173,-82.3164, -82.3158,-82.3149,-82.314,-82.3129, -82.312,-82.3104,-82.3096,-82.3087, -82.3078,-82.3069,-82.306,-82.3058, -82.3057,-82.3033,-82.3014,-82.2986, -82.2968,-82.2951,-82.2924,-82.2904, -82.2878,-82.2856,-82.2828,-82.2807, -82.2781,-82.2766,-82.2747,-82.2719, -82.2691,-82.2657,-82.2629,-82.261, -82.2582,-82.2581,-82.2581,-82.259, -82.2601,-82.261,-82.2619,-82.2626, -82.2634,-82.2643,-82.2654,-82.2665, -82.2674,-82.2685,-82.2696,-82.2705, -82.2716,-82.2727,-82.2735,-82.2744, -82.2759,-82.2766,-82.2777,-82.2785, -82.2794,-82.2801,-82.2803,-82.2804)
FOOTPRINT_POINT_LONGITUDE = (307.154,307.144,307.132,307.123, 307.118,307.112,307.104,307.097,307.088 ,307.08,307.075,307.069,307.061,307.056 ,307.048,307.042,307.037,307.032, 307.027,307.018,307.011,307.0,306.995, 306.99,306.989,306.989,306.975,306.964, 306.95,306.936,306.925,306.911,306.901, 306.883,306.872,306.858,306.844,306.83, 306.816,306.802,306.791,306.777,306.763 ,306.745,306.731,306.706,306.692, 306.678,306.664,306.65,306.636,306.632, 306.63,306.639,306.645,306.655,306.661, 306.667,306.676,306.684,306.693,306.7, 306.71,306.718,306.727,306.732,306.739, 306.748,306.758,306.77,306.78,306.786, 306.796,306.796,306.796,306.81,306.828, 306.842,306.856,306.867,306.881,306.895 ,306.912,306.93,306.944,306.961,306.979 ,306.993,307.011,307.028,307.042, 307.056,307.081,307.092,307.109,307.123 ,307.138,307.148,307.152,307.154)
ORBIT_NUMBER = 4636
ORBITAL_ECCENTRICITY = 0.57
ORBITAL_INCLINATION = 86.7
ORBITAL_SEMIMAJOR_AXIS = 8531.53
PERIAPSIS_ALTITUDE = 295.46
PERIAPSIS_ARGUMENT_ANGLE = 262.27
PERIAPSIS_TIME = 2007-08-13T19:35:08.000Z
SPACECRAFT_ORIENTATION = (0.0,-1.0,0.0)
^MEX_ORIENTATION_DESC = "MEX_ORIENTATION_DESC.TXT"
SPACECRAFT_POINTING_MODE = NADIR
^MEX_POINTING_DESC = "MEX_POINTING_DESC.TXT"
RIGHT_ASCENSION = -1e+32
DECLINATION = -1e+32
OFFSET_ANGLE = -1e+32
SPACECRAFT_SOLAR_DISTANCE = 2.11711e+08
TARGET_NAME = MARS
/* CAMERA DATA ELEMENTS */
BUFFER_MODE_ID = BUFFER_8
EXPOSURE_DURATION = 5.04
INST_CMPRS_NAME = NONE
INST_CMPRS_RATIO = 1.0
INST_CMPRS_QUALITY = -2147483648
INST_CMPRS_QUANTZ_TBL_ID = -2147483648
INSTRUMENT_TEMPERATURE = 8.18182
MISSING_FRAMES = 0
START_BIT = 0
/* RADIOMETRIC DATA ELEMENTS */
BANDWIDTH = 250.0
CENTER_FILTER_WAVELENGTH = 600.0
RADIANCE_OFFSET = -9.99e+31
RADIANCE_SCALING_FACTOR = -9.99e+31
REFLECTANCE_SCALING_FACTOR = -9.99e+31
MEX:REFLECTANCE_OFFSET = -9.99e+31
/* IMAGE OBJECT DEFINITIONS */
OBJECT = IMAGE
  INTERCHANGE_FORMAT = BINARY
  LINES = 1796
  LINE_SAMPLES = 1801
  SAMPLE_TYPE = UNSIGNED_INTEGER
  SAMPLE_BITS = 8
  BANDS = 1
  BAND_STORAGE_TYPE = BAND_SEQUENTIAL
  MAXIMUM = 248
  MEAN = 139.223
  MINIMUM = 4
  STANDARD_DEVIATION = 24.9319
END_OBJECT = IMAGE
/* MAP OBJECT DEFINITIONS */
OBJECT = IMAGE_MAP_PROJECTION
  ^DATA_SET_MAP_PROJECTION_CATALOG= "DSMAP.CAT"
  A_AXIS_RADIUS = 3396.19
  B_AXIS_RADIUS = 3396.19
  C_AXIS_RADIUS = 3396.19
  CENTER_LATITUDE = 0.0
  CENTER_LONGITUDE = 307.0
  COORDINATE_SYSTEM_NAME = PLANETOGRAPHIC
  COORDINATE_SYSTEM_TYPE = "BODY-FIXED ROTATING"
  EASTERNMOST_LONGITUDE = 307.154
  FIRST_STANDARD_PARALLEL = "N/A"
  LINE_FIRST_PIXEL = 1
  LINE_LAST_PIXEL = 1796
  LINE_PROJECTION_OFFSET = -1945067.0
  MAP_PROJECTION_ROTATION = 0.0
  MAP_PROJECTION_TYPE = SINUSOIDAL
  MAP_RESOLUTION = 23709.8786048756
  MAP_SCALE = 0.0025
  MAXIMUM_LATITUDE = -82.2581
  MINIMUM_LATITUDE = -82.32810000000001
  POSITIVE_LONGITUDE_DIRECTION = EAST
  REFERENCE_LATITUDE = "N/A"
  REFERENCE_LONGITUDE = "N/A"
  SAMPLE_FIRST_PIXEL = 1
  SAMPLE_LAST_PIXEL = 1801
  SAMPLE_PROJECTION_OFFSET = 1250.0
  SECOND_STANDARD_PARALLEL = "N/A"
  WESTERNMOST_LONGITUDE = 306.63
END_OBJECT = IMAGE_MAP_PROJECTION
END
