PDS_VERSION_ID = PDS3
/* FILE DATA ELEMENTS */
RECORD_TYPE = UNDEFINED
/* POINTERS TO DATA OBJECTS */
^IMAGE = ("H4638_0005_SR4.TIF")
/* IDENTIFICATION DATA ELEMENTS */
DATA_SET_ID = "MEX-M-HRSC-4-REFDR-MAPPROJECT-EXT1-V4.0"
DATA_SET_NAME = "MARS EXPRESS HRSC MAP PROJECTED REFDR EXTENSION1 V4.0"
DETECTOR_ID = MEX_HRSC_SRC
EVENT_TYPE = "MARS-REGIONAL-MAPPING-Gl-Eo-La"
INSTRUMENT_HOST_ID = MEX
INSTRUMENT_HOST_NAME = "MARS EXPRESS"
INSTRUMENT_ID = HRSC
INSTRUMENT_NAME = "HIGH RESOLUTION STEREO CAMERA"
MISSION_NAME = "MARS EXPRESS"
MISSION_PHASE_NAME = ME_Phase_9
PROCESSING_LEVEL_ID = 4
PRODUCT_CREATION_TIME = 2023-02-11T00:15:54.000Z
PRODUCT_ID = "H4638_0005_SR4.TIF"
RELEASE_ID = 0007
REVISION_ID = 0000
/* QUALITY DATA ELEMENTS */
DATA_QUALITY_ID = 1
DATA_QUALITY_DESC = "Data calculated based on original SPICE kernels"
/* TIME DATA ELEMENTS */
SPACECRAFT_CLOCK_START_COUNT = "1/0135162232.08274"
SPACECRAFT_CLOCK_STOP_COUNT = "1/0135162440.56004"
IMAGE_TIME = 2007-08-14T09:04:40.656Z
START_TIME = 2007-08-14T09:04:40.654Z
STOP_TIME = 2007-08-14T09:04:40.659Z
/* ORBITAL DATA ELEMENTS */
ASCENDING_NODE_LONGITUDE = 131.38
MAXIMUM_RESOLUTION = 0.002967
FOOTPRINT_POINT_LATITUDE = (-84.4536,-84.4557,-84.457,-84.4592, -84.4615,-84.4631,-84.4658,-84.4673, -84.4696,-84.4717,-84.4731,-84.4755, -84.4783,-84.48,-84.4817,-84.4842, -84.4855,-84.4871,-84.4885,-84.4907, -84.493,-84.4945,-84.4945,-84.4945, -84.4936,-84.4924,-84.4909,-84.4897, -84.4885,-84.4873,-84.4864,-84.4852, -84.484,-84.4828,-84.4813,-84.4801, -84.4789,-84.4777,-84.4765,-84.4753, -84.4741,-84.4729,-84.4717,-84.4705, -84.4693,-84.4681,-84.4669,-84.4654, -84.4645,-84.4642,-84.464,-84.4625, -84.46,-84.4576,-84.4559,-84.4533, -84.451,-84.4489,-84.4475,-84.4455, -84.4431,-84.4415,-84.4393,-84.4379, -84.4365,-84.4346,-84.4332,-84.4313, -84.4291,-84.4275,-84.4253,-84.4234, -84.4234,-84.4234,-84.4246,-84.4255, -84.4267,-84.4279,-84.4288,-84.43, -84.4312,-84.4332,-84.4344,-84.4353, -84.4362,-84.4371,-84.4383,-84.4398, -84.4413,-84.4425,-84.4434,-84.4448, -84.4463,-84.4475,-84.4487,-84.4505, -84.4517,-84.4531,-84.4534,-84.4536)
FOOTPRINT_POINT_LONGITUDE = (99.4953,99.4799,99.4695,99.453,99.4361 ,99.4235,99.4035,99.3921,99.3746, 99.3586,99.3478,99.3296,99.3083,99.2953 ,99.2829,99.2634,99.2535,99.2411, 99.2306,99.2138,99.1958,99.185,99.1847, 99.1842,99.1716,99.1547,99.1336,99.1167 ,99.0999,99.083,99.0704,99.0535,99.0367 ,99.0199,98.9988,98.982,98.9652,98.9484 ,98.9317,98.9149,98.8981,98.8813, 98.8646,98.8478,98.8311,98.8143,98.7976 ,98.7767,98.7642,98.76,98.7575,98.7697, 98.789,98.8074,98.8205,98.8407,98.8581, 98.8742,98.8848,98.9006,98.9192,98.9313 ,98.9477,98.9588,98.9693,98.9838,98.995 ,99.0092,99.0258,99.0378,99.0551, 99.0692,99.0695,99.07,99.0866,99.0991, 99.1158,99.1325,99.145,99.1617,99.1784, 99.2076,99.2243,99.2369,99.2494,99.2619 ,99.2787,99.2996,99.3206,99.3373, 99.3499,99.3709,99.3919,99.4087,99.4255 ,99.4507,99.4675,99.4885,99.4927, 99.4953)
ORBIT_NUMBER = 4638
ORBITAL_ECCENTRICITY = 0.57
ORBITAL_INCLINATION = 86.69
ORBITAL_SEMIMAJOR_AXIS = 8531.73
PERIAPSIS_ALTITUDE = 295.61
PERIAPSIS_ARGUMENT_ANGLE = 261.9
PERIAPSIS_TIME = 2007-08-14T09:01:32.000Z
SPACECRAFT_ORIENTATION = (0.0,-1.0,0.0)
^MEX_ORIENTATION_DESC = "MEX_ORIENTATION_DESC.TXT"
SPACECRAFT_POINTING_MODE = NADIR
^MEX_POINTING_DESC = "MEX_POINTING_DESC.TXT"
RIGHT_ASCENSION = -1e+32
DECLINATION = -1e+32
OFFSET_ANGLE = -1e+32
SPACECRAFT_SOLAR_DISTANCE = 2.11787e+08
TARGET_NAME = MARS
/* CAMERA DATA ELEMENTS */
BUFFER_MODE_ID = BUFFER_8
EXPOSURE_DURATION = 5.04
INST_CMPRS_NAME = NONE
INST_CMPRS_RATIO = 1.0
INST_CMPRS_QUALITY = -2147483648
INST_CMPRS_QUANTZ_TBL_ID = -2147483648
INSTRUMENT_TEMPERATURE = 6.69633
MISSING_FRAMES = 0
START_BIT = 0
/* RADIOMETRIC DATA ELEMENTS */
BANDWIDTH = 250.0
CENTER_FILTER_WAVELENGTH = 600.0
RADIANCE_OFFSET = -9.99e+31
RADIANCE_SCALING_FACTOR = -9.99e+31
REFLECTANCE_SCALING_FACTOR = -9.99e+31
MEX:REFLECTANCE_OFFSET = -9.99e+31
/* IMAGE OBJECT DEFINITIONS */
OBJECT = IMAGE
  INTERCHANGE_FORMAT = BINARY
  LINES = 1830
  LINE_SAMPLES = 1833
  SAMPLE_TYPE = UNSIGNED_INTEGER
  SAMPLE_BITS = 8
  BANDS = 1
  BAND_STORAGE_TYPE = BAND_SEQUENTIAL
  MAXIMUM = 250
  MEAN = 140.878
  MINIMUM = 21
  STANDARD_DEVIATION = 18.6844
END_OBJECT = IMAGE
/* MAP OBJECT DEFINITIONS */
OBJECT = IMAGE_MAP_PROJECTION
  ^DATA_SET_MAP_PROJECTION_CATALOG= "DSMAP.CAT"
  A_AXIS_RADIUS = 3396.19
  B_AXIS_RADIUS = 3396.19
  C_AXIS_RADIUS = 3396.19
  CENTER_LATITUDE = 0.0
  CENTER_LONGITUDE = 99.0
  COORDINATE_SYSTEM_NAME = PLANETOGRAPHIC
  COORDINATE_SYSTEM_TYPE = "BODY-FIXED ROTATING"
  EASTERNMOST_LONGITUDE = 99.4953
  FIRST_STANDARD_PARALLEL = "N/A"
  LINE_FIRST_PIXEL = 1
  LINE_LAST_PIXEL = 1830
  LINE_PROJECTION_OFFSET = -1996101.0
  MAP_PROJECTION_ROTATION = 0.0
  MAP_PROJECTION_TYPE = SINUSOIDAL
  MAP_RESOLUTION = 23709.8786048756
  MAP_SCALE = 0.0025
  MAXIMUM_LATITUDE = -84.4234
  MINIMUM_LATITUDE = -84.4945
  POSITIVE_LONGITUDE_DIRECTION = EAST
  REFERENCE_LATITUDE = "N/A"
  REFERENCE_LONGITUDE = "N/A"
  SAMPLE_FIRST_PIXEL = 1
  SAMPLE_LAST_PIXEL = 1833
  SAMPLE_PROJECTION_OFFSET = 639.0
  SECOND_STANDARD_PARALLEL = "N/A"
  WESTERNMOST_LONGITUDE = 98.75749999999999
END_OBJECT = IMAGE_MAP_PROJECTION
END
