PDS_VERSION_ID = PDS3
/* FILE DATA ELEMENTS */
RECORD_TYPE = UNDEFINED
/* POINTERS TO DATA OBJECTS */
^IMAGE = ("H4638_0008_SR4.TIF")
/* IDENTIFICATION DATA ELEMENTS */
DATA_SET_ID = "MEX-M-HRSC-4-REFDR-MAPPROJECT-EXT1-V4.0"
DATA_SET_NAME = "MARS EXPRESS HRSC MAP PROJECTED REFDR EXTENSION1 V4.0"
DETECTOR_ID = MEX_HRSC_SRC
EVENT_TYPE = "MARS-REGIONAL-MAPPING-Gl-Eo-La"
INSTRUMENT_HOST_ID = MEX
INSTRUMENT_HOST_NAME = "MARS EXPRESS"
INSTRUMENT_ID = HRSC
INSTRUMENT_NAME = "HIGH RESOLUTION STEREO CAMERA"
MISSION_NAME = "MARS EXPRESS"
MISSION_PHASE_NAME = ME_Phase_9
PROCESSING_LEVEL_ID = 4
PRODUCT_CREATION_TIME = 2023-02-11T00:15:54.000Z
PRODUCT_ID = "H4638_0008_SR4.TIF"
RELEASE_ID = 0007
REVISION_ID = 0000
/* QUALITY DATA ELEMENTS */
DATA_QUALITY_ID = 1
DATA_QUALITY_DESC = "Data calculated based on original SPICE kernels"
/* TIME DATA ELEMENTS */
SPACECRAFT_CLOCK_START_COUNT = "1/0135162232.08274"
SPACECRAFT_CLOCK_STOP_COUNT = "1/0135162440.56004"
IMAGE_TIME = 2007-08-14T09:04:42.292Z
START_TIME = 2007-08-14T09:04:42.289Z
STOP_TIME = 2007-08-14T09:04:42.294Z
/* ORBITAL DATA ELEMENTS */
ASCENDING_NODE_LONGITUDE = 131.38
MAXIMUM_RESOLUTION = 0.002973
FOOTPRINT_POINT_LATITUDE = (-84.3668,-84.3689,-84.3705,-84.3724, -84.3738,-84.3754,-84.3778,-84.3801, -84.3815,-84.3834,-84.3846,-84.3866, -84.389,-84.3906,-84.3921,-84.3942, -84.3958,-84.3976,-84.3993,-84.4013, -84.4037,-84.4059,-84.4081,-84.4081, -84.4081,-84.4072,-84.406,-84.4049, -84.4037,-84.4025,-84.401,-84.4002, -84.399,-84.3978,-84.3966,-84.3951, -84.3943,-84.3931,-84.3922,-84.391, -84.3898,-84.388,-84.3866,-84.3845, -84.3833,-84.3821,-84.3809,-84.3797, -84.3786,-84.3783,-84.3781,-84.3753, -84.3739,-84.3719,-84.3704,-84.3685, -84.3672,-84.3657,-84.3635,-84.3615, -84.3585,-84.3563,-84.3547,-84.3525, -84.3506,-84.3489,-84.3462,-84.3449, -84.3428,-84.3403,-84.339,-84.3371, -84.337,-84.337,-84.3382,-84.3391, -84.34,-84.3415,-84.3426,-84.3435, -84.3447,-84.3459,-84.3467,-84.3476, -84.3488,-84.35,-84.3512,-84.3523, -84.3535,-84.355,-84.3561,-84.3579, -84.3591,-84.3602,-84.3614,-84.3634, -84.3649,-84.3664,-84.3667,-84.3668)
FOOTPRINT_POINT_LONGITUDE = (100.137,100.122,100.111,100.097, 100.087,100.075,100.058,100.041,100.03, 100.017,100.008,99.9935,99.9761,99.9641 ,99.953,99.938,99.9263,99.9128,99.9005, 99.8855,99.868,99.852,99.8357,99.8354, 99.835,99.8224,99.8056,99.7888,99.7721, 99.7553,99.7343,99.7218,99.705,99.6883, 99.6715,99.6506,99.6381,99.6214,99.6088 ,99.5921,99.5754,99.5504,99.5295, 99.5004,99.4837,99.4671,99.4504,99.4338 ,99.4172,99.413,99.4105,99.4311,99.4417 ,99.4568,99.4674,99.4819,99.491,99.5025 ,99.5191,99.5332,99.5558,99.5718, 99.5838,99.5997,99.6138,99.6261,99.6462 ,99.6558,99.6714,99.6896,99.6989, 99.7133,99.7136,99.714,99.7305,99.743, 99.7554,99.7761,99.7927,99.8052,99.8218 ,99.8384,99.8509,99.8633,99.88,99.8966, 99.9133,99.9299,99.9466,99.9674,99.9841 ,100.009,100.026,100.043,100.059, 100.088,100.109,100.13,100.134,100.137)
ORBIT_NUMBER = 4638
ORBITAL_ECCENTRICITY = 0.57
ORBITAL_INCLINATION = 86.69
ORBITAL_SEMIMAJOR_AXIS = 8531.73
PERIAPSIS_ALTITUDE = 295.61
PERIAPSIS_ARGUMENT_ANGLE = 261.9
PERIAPSIS_TIME = 2007-08-14T09:01:32.000Z
SPACECRAFT_ORIENTATION = (0.0,-1.0,0.0)
^MEX_ORIENTATION_DESC = "MEX_ORIENTATION_DESC.TXT"
SPACECRAFT_POINTING_MODE = NADIR
^MEX_POINTING_DESC = "MEX_POINTING_DESC.TXT"
RIGHT_ASCENSION = -1e+32
DECLINATION = -1e+32
OFFSET_ANGLE = -1e+32
SPACECRAFT_SOLAR_DISTANCE = 2.11787e+08
TARGET_NAME = MARS
/* CAMERA DATA ELEMENTS */
BUFFER_MODE_ID = BUFFER_8
EXPOSURE_DURATION = 5.04
INST_CMPRS_NAME = NONE
INST_CMPRS_RATIO = 1.0
INST_CMPRS_QUALITY = -2147483648
INST_CMPRS_QUANTZ_TBL_ID = -2147483648
INSTRUMENT_TEMPERATURE = 6.77374
MISSING_FRAMES = 0
START_BIT = 0
/* RADIOMETRIC DATA ELEMENTS */
BANDWIDTH = 250.0
CENTER_FILTER_WAVELENGTH = 600.0
RADIANCE_OFFSET = -9.99e+31
RADIANCE_SCALING_FACTOR = -9.99e+31
REFLECTANCE_SCALING_FACTOR = -9.99e+31
MEX:REFLECTANCE_OFFSET = -9.99e+31
/* IMAGE OBJECT DEFINITIONS */
OBJECT = IMAGE
  INTERCHANGE_FORMAT = BINARY
  LINES = 1829
  LINE_SAMPLES = 1830
  SAMPLE_TYPE = UNSIGNED_INTEGER
  SAMPLE_BITS = 8
  BANDS = 1
  BAND_STORAGE_TYPE = BAND_SEQUENTIAL
  MAXIMUM = 247
  MEAN = 143.769
  MINIMUM = 16
  STANDARD_DEVIATION = 19.2325
END_OBJECT = IMAGE
/* MAP OBJECT DEFINITIONS */
OBJECT = IMAGE_MAP_PROJECTION
  ^DATA_SET_MAP_PROJECTION_CATALOG= "DSMAP.CAT"
  A_AXIS_RADIUS = 3396.19
  B_AXIS_RADIUS = 3396.19
  C_AXIS_RADIUS = 3396.19
  CENTER_LATITUDE = 0.0
  CENTER_LONGITUDE = 100.0
  COORDINATE_SYSTEM_NAME = PLANETOGRAPHIC
  COORDINATE_SYSTEM_TYPE = "BODY-FIXED ROTATING"
  EASTERNMOST_LONGITUDE = 100.137
  FIRST_STANDARD_PARALLEL = "N/A"
  LINE_FIRST_PIXEL = 1
  LINE_LAST_PIXEL = 1829
  LINE_PROJECTION_OFFSET = -1994066.0
  MAP_PROJECTION_ROTATION = 0.0
  MAP_PROJECTION_TYPE = SINUSOIDAL
  MAP_RESOLUTION = 23709.8786048756
  MAP_SCALE = 0.0025
  MAXIMUM_LATITUDE = -84.337
  MINIMUM_LATITUDE = -84.4081
  POSITIVE_LONGITUDE_DIRECTION = EAST
  REFERENCE_LATITUDE = "N/A"
  REFERENCE_LONGITUDE = "N/A"
  SAMPLE_FIRST_PIXEL = 1
  SAMPLE_LAST_PIXEL = 1830
  SAMPLE_PROJECTION_OFFSET = 1448.0
  SECOND_STANDARD_PARALLEL = "N/A"
  WESTERNMOST_LONGITUDE = 99.4105
END_OBJECT = IMAGE_MAP_PROJECTION
END
