PDS_VERSION_ID = PDS3
/* FILE DATA ELEMENTS */
RECORD_TYPE = UNDEFINED
/* POINTERS TO DATA OBJECTS */
^IMAGE = ("H4640_0000_RE4.TIF")
/* IDENTIFICATION DATA ELEMENTS */
DATA_SET_ID = "MEX-M-HRSC-4-REFDR-MAPPROJECT-EXT1-V4.0"
DATA_SET_NAME = "MARS EXPRESS HRSC MAP PROJECTED REFDR EXTENSION1 V4.0"
DETECTOR_ID = MEX_HRSC_RED
EVENT_TYPE = "MARS-REGIONAL-MAPPING-Im-Fl-Gl"
INSTRUMENT_HOST_ID = MEX
INSTRUMENT_HOST_NAME = "MARS EXPRESS"
INSTRUMENT_ID = HRSC
INSTRUMENT_NAME = "HIGH RESOLUTION STEREO CAMERA"
MISSION_NAME = "MARS EXPRESS"
MISSION_PHASE_NAME = ME_Phase_9
PROCESSING_LEVEL_ID = 4
PRODUCT_CREATION_TIME = 2023-02-11T00:15:54.000Z
PRODUCT_ID = "H4640_0000_RE4.TIF"
RELEASE_ID = 0007
REVISION_ID = 0000
/* QUALITY DATA ELEMENTS */
DATA_QUALITY_ID = 1
DATA_QUALITY_DESC = "Data calculated based on original SPICE kernels"
/* TIME DATA ELEMENTS */
SPACECRAFT_CLOCK_START_COUNT = "1/0135210787.08403"
SPACECRAFT_CLOCK_STOP_COUNT = "1/0135211124.17098"
START_TIME = 2007-08-14T22:34:19.388Z
STOP_TIME = 2007-08-14T22:38:33.151Z
/* ORBITAL DATA ELEMENTS */
ASCENDING_NODE_LONGITUDE = 131.34
MAXIMUM_RESOLUTION = 0.0703
FOOTPRINT_POINT_LATITUDE = (-75.0984,-75.183,-75.2869,-75.3882, -75.3904,-75.4762,-75.1257,-74.7642, -74.3988,-73.9117,-73.5427,-73.1722, -72.7955,-72.5441,-72.2891,-72.0338, -71.6479,-71.388,-71.1286,-70.8655, -70.6011,-70.3376,-70.0688,-69.8004, -69.3931,-69.1207,-68.7066,-68.4303, -68.1504,-67.8696,-67.4437,-67.1596, -66.871,-66.5827,-66.2901,-65.8496, -65.5534,-65.2551,-64.9543,-64.6507, -64.3429,-63.8843,-63.5764,-63.266, -62.9515,-62.6346,-62.316,-61.8333, -61.6705,-61.6254,-61.602,-61.5804, -61.5403,-61.4835,-61.4441,-61.4419, -61.4423,-61.7651,-62.0851,-62.4006, -62.7238,-63.0387,-63.3466,-63.6486, -63.9543,-64.2592,-64.5614,-65.0113, -65.3085,-65.6023,-66.0401,-66.331, -66.617,-66.9041,-67.1862,-67.6088, -67.887,-68.1655,-68.4398,-68.8507, -69.1206,-69.3919,-69.7908,-70.0569, -70.317,-70.5765,-70.8379,-71.2246, -71.4882,-71.7425,-71.9952,-72.2492, -72.745,-73.1156,-73.5968,-73.9545, -74.4316,-75.0219,-75.1397,-75.0984)
FOOTPRINT_POINT_LONGITUDE = (283.133,284.485,286.359,288.516, 288.568,288.644,288.907,289.155,289.393 ,289.697,289.916,290.126,290.328, 290.457,290.586,290.71,290.891,291.008, 291.122,291.234,291.344,291.45,291.555, 291.657,291.807,291.904,292.045,292.137 ,292.227,292.315,292.444,292.528,292.61 ,292.691,292.77,292.886,292.961,293.035 ,293.107,293.178,293.245,293.35,293.419 ,293.486,293.551,293.614,293.677, 293.768,293.799,293.807,292.937,292.242 ,291.158,289.859,289.218,289.175,289.16 ,289.098,289.035,288.971,288.897, 288.825,288.758,288.693,288.619,288.542 ,288.463,288.34,288.257,288.172,288.04, 287.948,287.856,287.759,287.662,287.511 ,287.407,287.3,287.19,287.02,286.903, 286.782,286.598,286.47,286.344,286.214, 286.075,285.861,285.702,285.55,285.395, 285.233,284.905,284.644,284.294,284.019 ,283.62,283.084,282.97,283.133)
ORBIT_NUMBER = 4640
ORBITAL_ECCENTRICITY = 0.57
ORBITAL_INCLINATION = 86.68
ORBITAL_SEMIMAJOR_AXIS = 8533.13
PERIAPSIS_ALTITUDE = 295.6
PERIAPSIS_ARGUMENT_ANGLE = 261.57
PERIAPSIS_TIME = 2007-08-14T22:27:59.000Z
SPACECRAFT_ORIENTATION = (0.0,-1.0,0.0)
^MEX_ORIENTATION_DESC = "MEX_ORIENTATION_DESC.TXT"
SPACECRAFT_POINTING_MODE = NADIR
^MEX_POINTING_DESC = "MEX_POINTING_DESC.TXT"
RIGHT_ASCENSION = -1e+32
DECLINATION = -1e+32
OFFSET_ANGLE = -1e+32
SPACECRAFT_SOLAR_DISTANCE = 2.11864e+08
TARGET_NAME = MARS
/* CAMERA DATA ELEMENTS */
DETECTOR_TEMPERATURE = 19.1861
FOCAL_PLANE_TEMPERATURE = 8.9911
INST_CMPRS_NAME = "DISCRETE COSINE TRANSFORMATION (DCT)"
INST_CMPRS_RATIO = 23.7114
INST_CMPRS_QUALITY = 0
INST_CMPRS_QUANTZ_TBL_ID = 0
INSTRUMENT_TEMPERATURE = 11.8457
LENS_TEMPERATURE = 9.3989
MACROPIXEL_SIZE = 4
MISSING_FRAMES = 0
PIXEL_SUBSAMPLING_FLAG = N
SIGNAL_CHAIN_ID = 2
/* RADIOMETRIC DATA ELEMENTS */
BANDWIDTH = 48.0
CENTER_FILTER_WAVELENGTH = 748.0
RADIANCE_OFFSET = 1.88135
RADIANCE_SCALING_FACTOR = 0.00400971
REFLECTANCE_SCALING_FACTOR = 0.000410729
MEX:REFLECTANCE_OFFSET = 0.192714
/* IMAGE OBJECT DEFINITIONS */
OBJECT = IMAGE
  INTERCHANGE_FORMAT = BINARY
  LINES = 16631
  LINE_SAMPLES = 4375
  SAMPLE_TYPE = UNSIGNED_INTEGER
  SAMPLE_BITS = 8
  BANDS = 1
  BAND_STORAGE_TYPE = BAND_SEQUENTIAL
  MAXIMUM = 255
  MEAN = 143.861
  MINIMUM = 1
  STANDARD_DEVIATION = 44.8221
END_OBJECT = IMAGE
/* MAP OBJECT DEFINITIONS */
OBJECT = IMAGE_MAP_PROJECTION
  ^DATA_SET_MAP_PROJECTION_CATALOG= "DSMAP.CAT"
  A_AXIS_RADIUS = 3396.0
  B_AXIS_RADIUS = 3396.0
  C_AXIS_RADIUS = 3396.0
  CENTER_LATITUDE = 0.0
  CENTER_LONGITUDE = 289.0
  COORDINATE_SYSTEM_NAME = PLANETOGRAPHIC
  COORDINATE_SYSTEM_TYPE = "BODY-FIXED ROTATING"
  EASTERNMOST_LONGITUDE = 293.807
  FIRST_STANDARD_PARALLEL = "N/A"
  LINE_FIRST_PIXEL = 1
  LINE_LAST_PIXEL = 16631
  LINE_PROJECTION_OFFSET = -72853.125
  MAP_PROJECTION_ROTATION = 0.0
  MAP_PROJECTION_TYPE = SINUSOIDAL
  MAP_RESOLUTION = 1185.42760773333
  MAP_SCALE = 0.05
  MAXIMUM_LATITUDE = -61.4419
  MINIMUM_LATITUDE = -75.47620000000001
  POSITIVE_LONGITUDE_DIRECTION = EAST
  REFERENCE_LATITUDE = "N/A"
  REFERENCE_LONGITUDE = "N/A"
  SAMPLE_FIRST_PIXEL = 1
  SAMPLE_LAST_PIXEL = 4375
  SAMPLE_PROJECTION_OFFSET = 1798.875
  SECOND_STANDARD_PARALLEL = "N/A"
  WESTERNMOST_LONGITUDE = 282.97
END_OBJECT = IMAGE_MAP_PROJECTION
END
