PDS_VERSION_ID = PDS3
/* FILE DATA ELEMENTS */
RECORD_TYPE = UNDEFINED
/* POINTERS TO DATA OBJECTS */
^IMAGE = ("H4642_0000_RE4.TIF")
/* IDENTIFICATION DATA ELEMENTS */
DATA_SET_ID = "MEX-M-HRSC-4-REFDR-MAPPROJECT-EXT1-V4.0"
DATA_SET_NAME = "MARS EXPRESS HRSC MAP PROJECTED REFDR EXTENSION1 V4.0"
DETECTOR_ID = MEX_HRSC_RED
EVENT_TYPE = "MARS-REGIONAL-MAPPING-Im-Pf"
INSTRUMENT_HOST_ID = MEX
INSTRUMENT_HOST_NAME = "MARS EXPRESS"
INSTRUMENT_ID = HRSC
INSTRUMENT_NAME = "HIGH RESOLUTION STEREO CAMERA"
MISSION_NAME = "MARS EXPRESS"
MISSION_PHASE_NAME = ME_Phase_9
PROCESSING_LEVEL_ID = 4
PRODUCT_CREATION_TIME = 2023-02-11T00:15:54.000Z
PRODUCT_ID = "H4642_0000_RE4.TIF"
RELEASE_ID = 0007
REVISION_ID = 0000
/* QUALITY DATA ELEMENTS */
DATA_QUALITY_ID = 1
DATA_QUALITY_DESC = "Data calculated based on original SPICE kernels"
/* TIME DATA ELEMENTS */
SPACECRAFT_CLOCK_START_COUNT = "1/0135259382.09086"
SPACECRAFT_CLOCK_STOP_COUNT = "1/0135259879.07959"
START_TIME = 2007-08-15T12:04:53.532Z
STOP_TIME = 2007-08-15T12:10:51.628Z
/* ORBITAL DATA ELEMENTS */
ASCENDING_NODE_LONGITUDE = 131.3
MAXIMUM_RESOLUTION = 0.0523
FOOTPRINT_POINT_LATITUDE = (-61.991,-62.0797,-62.1215,-62.1444, -62.1666,-62.1678,-62.2376,-61.8077, -61.3736,-60.7857,-60.341,-59.7388, -59.1281,-58.8201,-58.5071,-58.0376, -57.5664,-57.2502,-56.9285,-56.6101, -56.2886,-55.9616,-55.6317,-55.2991, -54.9617,-54.6234,-54.1116,-53.7696, -53.4223,-53.0705,-52.7261,-52.3796, -51.8582,-51.3419,-51.0056,-50.6562, -50.3311,-49.9973,-49.6645,-49.3242, -48.9966,-48.5078,-48.1865,-47.864, -47.5451,-47.2221,-46.9063,-46.5922, -46.2813,-46.1257,-46.0962,-46.1025, -46.1043,-46.1028,-46.0976,-46.0949, -46.0903,-46.0825,-46.0815,-46.0818, -46.6935,-47.4723,-47.7877,-48.2613, -48.5814,-48.9001,-49.3926,-49.7209, -50.0512,-50.3829,-50.8821,-51.2086, -51.5491,-51.8971,-52.2458,-52.5932, -52.9416,-53.2877,-53.6309,-53.9716, -54.3081,-54.6309,-54.9748,-55.2975, -55.6319,-56.1225,-56.4454,-56.765, -57.0852,-57.4012,-57.7116,-58.0248, -58.6429,-59.2531,-59.8468,-60.4454, -61.0205,-61.8873,-62.0297,-61.991)
FOOTPRINT_POINT_LONGITUDE = (92.5378,94.4413,95.5508,96.2623, 97.0664,97.1112,97.1716,97.2531,97.3332 ,97.4362,97.512,97.609,97.7031,97.7493, 97.7937,97.861,97.9293,97.9742,98.0171, 98.0626,98.1071,98.1492,98.1903,98.2308 ,98.2694,98.3084,98.3661,98.4053, 98.4426,98.4786,98.5192,98.5565,98.6077 ,98.6576,98.6929,98.719,98.7611,98.7924 ,98.8225,98.8466,98.8762,98.919,98.948, 98.9747,99.0019,99.0289,99.0547,99.0799 ,99.1054,99.1175,99.1201,98.2399, 97.4123,96.9472,96.172,95.1871,94.3539, 93.8319,93.7797,93.7609,93.7613,93.7592 ,93.7554,93.75,93.7441,93.7396,93.7242, 93.7142,93.7034,93.6918,93.6778,93.6705 ,93.6539,93.6323,93.6102,93.5891, 93.5675,93.5455,93.5226,93.4986,93.4747 ,93.4585,93.4232,93.4013,93.3672, 93.3188,93.2865,93.2539,93.2176,93.1816 ,93.1474,93.1079,93.0275,92.9405, 92.8574,92.756,92.6655,92.5013,92.4734, 92.5378)
ORBIT_NUMBER = 4642
ORBITAL_ECCENTRICITY = 0.57
ORBITAL_INCLINATION = 86.7
ORBITAL_SEMIMAJOR_AXIS = 8531.17
PERIAPSIS_ALTITUDE = 294.8
PERIAPSIS_ARGUMENT_ANGLE = 261.21
PERIAPSIS_TIME = 2007-08-15T11:54:25.000Z
SPACECRAFT_ORIENTATION = (0.0,-1.0,0.0)
^MEX_ORIENTATION_DESC = "MEX_ORIENTATION_DESC.TXT"
SPACECRAFT_POINTING_MODE = NADIR
^MEX_POINTING_DESC = "MEX_POINTING_DESC.TXT"
RIGHT_ASCENSION = -1e+32
DECLINATION = -1e+32
OFFSET_ANGLE = -1e+32
SPACECRAFT_SOLAR_DISTANCE = 2.11941e+08
TARGET_NAME = MARS
/* CAMERA DATA ELEMENTS */
DETECTOR_TEMPERATURE = 18.3705
FOCAL_PLANE_TEMPERATURE = 8.3794
INST_CMPRS_NAME = "DISCRETE COSINE TRANSFORMATION (DCT)"
INST_CMPRS_RATIO = 11.7813
INST_CMPRS_QUALITY = 0
INST_CMPRS_QUANTZ_TBL_ID = 0
INSTRUMENT_TEMPERATURE = 11.234
LENS_TEMPERATURE = 8.5833
MACROPIXEL_SIZE = 2
MISSING_FRAMES = 2
PIXEL_SUBSAMPLING_FLAG = N
SIGNAL_CHAIN_ID = 3
/* RADIOMETRIC DATA ELEMENTS */
BANDWIDTH = 48.0
CENTER_FILTER_WAVELENGTH = 748.0
RADIANCE_OFFSET = 1.70962
RADIANCE_SCALING_FACTOR = 0.00587923
REFLECTANCE_SCALING_FACTOR = 0.000602671
MEX:REFLECTANCE_OFFSET = 0.17525
/* IMAGE OBJECT DEFINITIONS */
OBJECT = IMAGE
  INTERCHANGE_FORMAT = BINARY
  LINES = 19235
  LINE_SAMPLES = 4053
  SAMPLE_TYPE = UNSIGNED_INTEGER
  SAMPLE_BITS = 8
  BANDS = 1
  BAND_STORAGE_TYPE = BAND_SEQUENTIAL
  MAXIMUM = 255
  MEAN = 164.338
  MINIMUM = 1
  STANDARD_DEVIATION = 47.0784
END_OBJECT = IMAGE
/* MAP OBJECT DEFINITIONS */
OBJECT = IMAGE_MAP_PROJECTION
  ^DATA_SET_MAP_PROJECTION_CATALOG= "DSMAP.CAT"
  A_AXIS_RADIUS = 3396.0
  B_AXIS_RADIUS = 3396.0
  C_AXIS_RADIUS = 3396.0
  CENTER_LATITUDE = 0.0
  CENTER_LONGITUDE = 96.0
  COORDINATE_SYSTEM_NAME = PLANETOGRAPHIC
  COORDINATE_SYSTEM_TYPE = "BODY-FIXED ROTATING"
  EASTERNMOST_LONGITUDE = 99.12009999999999
  FIRST_STANDARD_PARALLEL = "N/A"
  LINE_FIRST_PIXEL = 1
  LINE_LAST_PIXEL = 19235
  LINE_PROJECTION_OFFSET = -54576.25
  MAP_PROJECTION_ROTATION = 0.0
  MAP_PROJECTION_TYPE = SINUSOIDAL
  MAP_RESOLUTION = 1185.42760773333
  MAP_SCALE = 0.05
  MAXIMUM_LATITUDE = -46.0815
  MINIMUM_LATITUDE = -62.2376
  POSITIVE_LONGITUDE_DIRECTION = EAST
  REFERENCE_LATITUDE = "N/A"
  REFERENCE_LONGITUDE = "N/A"
  SAMPLE_FIRST_PIXEL = 1
  SAMPLE_LAST_PIXEL = 4053
  SAMPLE_PROJECTION_OFFSET = 1860.75
  SECOND_STANDARD_PARALLEL = "N/A"
  WESTERNMOST_LONGITUDE = 92.4734
END_OBJECT = IMAGE_MAP_PROJECTION
END
