PDS_VERSION_ID = PDS3
/* FILE DATA ELEMENTS */
RECORD_TYPE = UNDEFINED
/* POINTERS TO DATA OBJECTS */
^IMAGE = ("H4643_0000_BL4.TIF")
/* IDENTIFICATION DATA ELEMENTS */
DATA_SET_ID = "MEX-M-HRSC-4-REFDR-MAPPROJECT-EXT1-V4.0"
DATA_SET_NAME = "MARS EXPRESS HRSC MAP PROJECTED REFDR EXTENSION1 V4.0"
DETECTOR_ID = MEX_HRSC_BLUE
EVENT_TYPE = "MARS-REGIONAL-MAPPING-Im-Fl-Lc"
INSTRUMENT_HOST_ID = MEX
INSTRUMENT_HOST_NAME = "MARS EXPRESS"
INSTRUMENT_ID = HRSC
INSTRUMENT_NAME = "HIGH RESOLUTION STEREO CAMERA"
MISSION_NAME = "MARS EXPRESS"
MISSION_PHASE_NAME = ME_Phase_9
PROCESSING_LEVEL_ID = 4
PRODUCT_CREATION_TIME = 2023-02-11T00:15:54.000Z
PRODUCT_ID = "H4643_0000_BL4.TIF"
RELEASE_ID = 0007
REVISION_ID = 0000
/* QUALITY DATA ELEMENTS */
DATA_QUALITY_ID = 1
DATA_QUALITY_DESC = "Data calculated based on original SPICE kernels"
/* TIME DATA ELEMENTS */
SPACECRAFT_CLOCK_START_COUNT = "1/0135283750.09047"
SPACECRAFT_CLOCK_STOP_COUNT = "1/0135284266.38806"
START_TIME = 2007-08-15T18:50:47.117Z
STOP_TIME = 2007-08-15T18:55:01.682Z
/* ORBITAL DATA ELEMENTS */
ASCENDING_NODE_LONGITUDE = 131.28
MAXIMUM_RESOLUTION = 0.0619
FOOTPRINT_POINT_LATITUDE = (-51.3032,-51.3279,-51.3525,-51.3685, -51.3886,-51.4018,-51.4121,-51.417, -51.4174,-51.429,-51.0576,-50.8089, -50.5579,-50.1816,-49.931,-49.6821, -49.4335,-49.1862,-48.9393,-48.6932, -48.4478,-48.2029,-47.9589,-47.7158, -47.4733,-47.2315,-46.9904,-46.7499, -46.5105,-46.1541,-45.9163,-45.679, -45.3229,-45.0875,-44.8531,-44.6193, -44.1536,-43.6906,-43.346,-42.8884, -42.4336,-41.9812,-41.5327,-41.197, -40.7533,-40.3122,-39.7635,-39.6546, -39.5862,-39.5917,-39.5973,-39.6023, -39.605,-39.6071,-39.6074,-39.6058, -39.6004,-39.5946,-39.5888,-39.5824, -39.5814,-39.5818,-40.1199,-40.5545, -40.9928,-41.434,-41.878,-42.3247, -42.7743,-43.2269,-43.6824,-44.1408, -44.6022,-45.0664,-45.3002,-45.5343, -45.7691,-46.0045,-46.3591,-46.5956, -46.8337,-47.0726,-47.3122,-47.5525, -47.7936,-48.0352,-48.2785,-48.6449, -48.8897,-49.1348,-49.3807,-49.6287, -49.875,-50.1229,-50.3714,-50.62, -50.8674,-51.1143,-51.2371,-51.3032)
FOOTPRINT_POINT_LONGITUDE = (355.62,356.217,356.899,357.41,358.177, 358.817,359.501,359.972,360.015,360.06, 360.091,360.114,360.134,360.164,360.182 ,360.202,360.22,360.24,360.258,360.276, 360.294,360.31,360.327,360.344,360.36, 360.376,360.392,360.407,360.423,360.449 ,360.463,360.477,360.494,360.507, 360.521,360.534,360.559,360.583,360.602 ,360.626,360.648,360.669,360.692, 360.706,360.727,360.747,360.769,360.774 ,360.777,360.434,359.989,359.596, 359.253,358.713,358.32,357.73,357.042, 356.6,356.256,355.758,355.708,355.69, 355.709,355.721,355.73,355.738,355.745, 355.751,355.757,355.76,355.763,355.764, 355.764,355.762,355.759,355.757,355.755 ,355.753,355.748,355.747,355.743, 355.738,355.734,355.728,355.723,355.717 ,355.708,355.694,355.686,355.677, 355.669,355.655,355.649,355.639,355.629 ,355.621,355.61,355.596,355.59,355.62)
ORBIT_NUMBER = 4643
ORBITAL_ECCENTRICITY = 0.57
ORBITAL_INCLINATION = 86.69
ORBITAL_SEMIMAJOR_AXIS = 8532.07
PERIAPSIS_ALTITUDE = 295.78
PERIAPSIS_ARGUMENT_ANGLE = 261.03
PERIAPSIS_TIME = 2007-08-15T18:37:35.000Z
SPACECRAFT_ORIENTATION = (0.0,-1.0,0.0)
^MEX_ORIENTATION_DESC = "MEX_ORIENTATION_DESC.TXT"
SPACECRAFT_POINTING_MODE = NADIR
^MEX_POINTING_DESC = "MEX_POINTING_DESC.TXT"
RIGHT_ASCENSION = -1e+32
DECLINATION = -1e+32
OFFSET_ANGLE = -1e+32
SPACECRAFT_SOLAR_DISTANCE = 2.1198e+08
TARGET_NAME = MARS
/* CAMERA DATA ELEMENTS */
DETECTOR_TEMPERATURE = 18.3705
FOCAL_PLANE_TEMPERATURE = 9.195
INST_CMPRS_NAME = "DISCRETE COSINE TRANSFORMATION (DCT)"
INST_CMPRS_RATIO = 6.34941
INST_CMPRS_QUALITY = 0
INST_CMPRS_QUANTZ_TBL_ID = 0
INSTRUMENT_TEMPERATURE = 11.4379
LENS_TEMPERATURE = 9.3989
MACROPIXEL_SIZE = 2
MISSING_FRAMES = 0
PIXEL_SUBSAMPLING_FLAG = N
SIGNAL_CHAIN_ID = 2
/* RADIOMETRIC DATA ELEMENTS */
BANDWIDTH = 76.0
CENTER_FILTER_WAVELENGTH = 444.0
RADIANCE_OFFSET = 1.20283
RADIANCE_SCALING_FACTOR = 0.000882713
REFLECTANCE_SCALING_FACTOR = 4.07538e-05
MEX:REFLECTANCE_OFFSET = 0.0555335
/* IMAGE OBJECT DEFINITIONS */
OBJECT = IMAGE
  INTERCHANGE_FORMAT = BINARY
  LINES = 14056
  LINE_SAMPLES = 4517
  SAMPLE_TYPE = UNSIGNED_INTEGER
  SAMPLE_BITS = 8
  BANDS = 1
  BAND_STORAGE_TYPE = BAND_SEQUENTIAL
  MAXIMUM = 254
  MEAN = 140.951
  MINIMUM = 1
  STANDARD_DEVIATION = 26.0105
END_OBJECT = IMAGE
/* MAP OBJECT DEFINITIONS */
OBJECT = IMAGE_MAP_PROJECTION
  ^DATA_SET_MAP_PROJECTION_CATALOG= "DSMAP.CAT"
  A_AXIS_RADIUS = 3396.0
  B_AXIS_RADIUS = 3396.0
  C_AXIS_RADIUS = 3396.0
  CENTER_LATITUDE = 0.0
  CENTER_LONGITUDE = 358.0
  COORDINATE_SYSTEM_NAME = PLANETOGRAPHIC
  COORDINATE_SYSTEM_TYPE = "BODY-FIXED ROTATING"
  EASTERNMOST_LONGITUDE = 0.777
  FIRST_STANDARD_PARALLEL = "N/A"
  LINE_FIRST_PIXEL = 1
  LINE_LAST_PIXEL = 14056
  LINE_PROJECTION_OFFSET = -46911.75
  MAP_PROJECTION_ROTATION = 0.0
  MAP_PROJECTION_TYPE = SINUSOIDAL
  MAP_RESOLUTION = 1185.42760773333
  MAP_SCALE = 0.05
  MAXIMUM_LATITUDE = -39.5814
  MINIMUM_LATITUDE = -51.429
  POSITIVE_LONGITUDE_DIRECTION = EAST
  REFERENCE_LATITUDE = "N/A"
  REFERENCE_LONGITUDE = "N/A"
  SAMPLE_FIRST_PIXEL = 1
  SAMPLE_LAST_PIXEL = 4517
  SAMPLE_PROJECTION_OFFSET = 2038.75
  SECOND_STANDARD_PARALLEL = "N/A"
  WESTERNMOST_LONGITUDE = -4.41
END_OBJECT = IMAGE_MAP_PROJECTION
END
