PDS_VERSION_ID = PDS3
/* FILE DATA ELEMENTS */
RECORD_TYPE = UNDEFINED
/* POINTERS TO DATA OBJECTS */
^IMAGE = ("H4646_0000_IR4.TIF")
/* IDENTIFICATION DATA ELEMENTS */
DATA_SET_ID = "MEX-M-HRSC-4-REFDR-MAPPROJECT-EXT1-V4.0"
DATA_SET_NAME = "MARS EXPRESS HRSC MAP PROJECTED REFDR EXTENSION1 V4.0"
DETECTOR_ID = MEX_HRSC_IR
EVENT_TYPE = "MARS-REGIONAL-MAPPING-Gl-Eo-La"
INSTRUMENT_HOST_ID = MEX
INSTRUMENT_HOST_NAME = "MARS EXPRESS"
INSTRUMENT_ID = HRSC
INSTRUMENT_NAME = "HIGH RESOLUTION STEREO CAMERA"
MISSION_NAME = "MARS EXPRESS"
MISSION_PHASE_NAME = ME_Phase_9
PROCESSING_LEVEL_ID = 4
PRODUCT_CREATION_TIME = 2023-02-11T00:15:54.000Z
PRODUCT_ID = "H4646_0000_IR4.TIF"
RELEASE_ID = 0007
REVISION_ID = 0000
/* QUALITY DATA ELEMENTS */
DATA_QUALITY_ID = 1
DATA_QUALITY_DESC = "Data calculated based on original SPICE kernels"
/* TIME DATA ELEMENTS */
SPACECRAFT_CLOCK_START_COUNT = "1/0135355814.09080"
SPACECRAFT_CLOCK_STOP_COUNT = "1/0135355972.30614"
START_TIME = 2007-08-16T14:50:22.919Z
STOP_TIME = 2007-08-16T14:51:47.528Z
/* ORBITAL DATA ELEMENTS */
ASCENDING_NODE_LONGITUDE = 131.21
MAXIMUM_RESOLUTION = 0.027
FOOTPRINT_POINT_LATITUDE = (-84.0272,-84.1005,-84.1725,-84.2872, -84.4098,-84.4866,-84.5835,-84.6494, -84.6548,-84.6059,-84.4621,-84.317, -84.1217,-83.9736,-83.8242,-83.5754, -83.3239,-83.1214,-83.0172,-82.9121, -82.8065,-82.7005,-82.5411,-82.4344, -82.2744,-82.1676,-82.0602,-81.9529, -81.8456,-81.738,-81.6303,-81.4685, -81.3603,-81.1977,-81.0894,-80.9808, -80.8723,-80.7636,-80.6547,-80.5457, -80.4367,-80.3276,-80.1638,-79.9999, -79.8357,-79.7262,-79.6169,-79.5071, -79.3971,-79.3421,-79.3344,-79.279, -79.2378,-79.1924,-79.1181,-79.0552, -78.9662,-78.9619,-78.9608,-79.0671, -79.2271,-79.3334,-79.44,-79.5462, -79.652,-79.7577,-79.863,-79.9682, -80.0739,-80.2824,-80.4382,-80.5412, -80.6468,-80.8028,-80.9065,-81.0103, -81.1134,-81.2692,-81.4237,-81.5263, -81.6283,-81.7296,-81.8806,-81.9801, -82.0801,-82.18,-82.2794,-82.4289, -82.5286,-82.6257,-82.8145,-83.0004, -83.1383,-83.2768,-83.4133,-83.5487, -83.7267,-83.9013,-83.9444,-84.0272)
FOOTPRINT_POINT_LONGITUDE = (29.5069,30.3631,31.2403,32.7239, 34.4433,35.6011,37.1659,38.3053,38.4015 ,39.0987,39.9815,40.8213,41.8748, 42.6241,43.3399,44.4395,45.4601,46.222, 46.5935,46.9563,47.3103,47.6551,48.1527 ,48.4737,48.9351,49.2316,49.5229, 49.8038,50.077,50.343,50.602,50.978, 51.2214,51.5754,51.8028,52.0251,52.2416 ,52.4532,52.6598,52.8621,53.0586, 53.2511,53.5313,53.802,54.0643,54.2339, 54.3993,54.5624,54.7225,54.8014,54.8123 ,53.6641,52.767,51.9557,50.7199,49.7434 ,48.4796,48.4198,48.3975,48.1978, 47.8903,47.68,47.4652,47.2459,47.0219, 46.793,46.5593,46.3204,46.076,45.5715, 45.1782,44.9087,44.6319,44.2053,43.9125 ,43.6126,43.3057,42.8302,42.3375, 41.9987,41.6517,41.2963,40.7464,40.3688 ,39.9806,39.5817,39.1727,38.5367, 38.0975,37.6552,36.7495,35.796,35.0468, 34.2623,33.4461,32.5939,31.4007,30.1388 ,29.812,29.5069)
ORBIT_NUMBER = 4646
ORBITAL_ECCENTRICITY = 0.57
ORBITAL_INCLINATION = 86.69
ORBITAL_SEMIMAJOR_AXIS = 8531.78
PERIAPSIS_ALTITUDE = 295.03
PERIAPSIS_ARGUMENT_ANGLE = 260.54
PERIAPSIS_TIME = 2007-08-16T14:47:13.000Z
SPACECRAFT_ORIENTATION = (0.0,-1.0,0.0)
^MEX_ORIENTATION_DESC = "MEX_ORIENTATION_DESC.TXT"
SPACECRAFT_POINTING_MODE = NADIR
^MEX_POINTING_DESC = "MEX_POINTING_DESC.TXT"
RIGHT_ASCENSION = -1e+32
DECLINATION = -1e+32
OFFSET_ANGLE = -1e+32
SPACECRAFT_SOLAR_DISTANCE = 2.12096e+08
TARGET_NAME = MARS
/* CAMERA DATA ELEMENTS */
DETECTOR_TEMPERATURE = 17.5549
FOCAL_PLANE_TEMPERATURE = 8.5833
INST_CMPRS_NAME = "DISCRETE COSINE TRANSFORMATION (DCT)"
INST_CMPRS_RATIO = 4.76409
INST_CMPRS_QUALITY = 0
INST_CMPRS_QUANTZ_TBL_ID = 0
INSTRUMENT_TEMPERATURE = 11.234
LENS_TEMPERATURE = 8.7872
MACROPIXEL_SIZE = 2
MISSING_FRAMES = 0
PIXEL_SUBSAMPLING_FLAG = N
SIGNAL_CHAIN_ID = 3
/* RADIOMETRIC DATA ELEMENTS */
BANDWIDTH = 81.0
CENTER_FILTER_WAVELENGTH = 955.5
RADIANCE_OFFSET = 1.18707
RADIANCE_SCALING_FACTOR = 0.00278397
REFLECTANCE_SCALING_FACTOR = 0.000270185
MEX:REFLECTANCE_OFFSET = 0.115205
/* IMAGE OBJECT DEFINITIONS */
OBJECT = IMAGE
  INTERCHANGE_FORMAT = BINARY
  LINES = 9538
  LINE_SAMPLES = 6685
  SAMPLE_TYPE = UNSIGNED_INTEGER
  SAMPLE_BITS = 8
  BANDS = 1
  BAND_STORAGE_TYPE = BAND_SEQUENTIAL
  MAXIMUM = 238
  MEAN = 101.848
  MINIMUM = 1
  STANDARD_DEVIATION = 28.5026
END_OBJECT = IMAGE
/* MAP OBJECT DEFINITIONS */
OBJECT = IMAGE_MAP_PROJECTION
  ^DATA_SET_MAP_PROJECTION_CATALOG= "DSMAP.CAT"
  A_AXIS_RADIUS = 3396.0
  B_AXIS_RADIUS = 3396.0
  C_AXIS_RADIUS = 3396.0
  CENTER_LATITUDE = 0.0
  CENTER_LONGITUDE = 43.0
  COORDINATE_SYSTEM_NAME = PLANETOGRAPHIC
  COORDINATE_SYSTEM_TYPE = "BODY-FIXED ROTATING"
  EASTERNMOST_LONGITUDE = 54.8123
  FIRST_STANDARD_PARALLEL = "N/A"
  LINE_FIRST_PIXEL = 1
  LINE_LAST_PIXEL = 9538
  LINE_PROJECTION_OFFSET = -190998.75
  MAP_PROJECTION_ROTATION = 0.0
  MAP_PROJECTION_TYPE = SINUSOIDAL
  MAP_RESOLUTION = 2370.85521546667
  MAP_SCALE = 0.025
  MAXIMUM_LATITUDE = -78.96080000000001
  MINIMUM_LATITUDE = -84.65479999999999
  POSITIVE_LONGITUDE_DIRECTION = EAST
  REFERENCE_LATITUDE = "N/A"
  REFERENCE_LONGITUDE = "N/A"
  SAMPLE_FIRST_PIXEL = 1
  SAMPLE_LAST_PIXEL = 6685
  SAMPLE_PROJECTION_OFFSET = 3311.75
  SECOND_STANDARD_PARALLEL = "N/A"
  WESTERNMOST_LONGITUDE = 29.5069
END_OBJECT = IMAGE_MAP_PROJECTION
END
