PDS_VERSION_ID = PDS3
/* FILE DATA ELEMENTS */
RECORD_TYPE = UNDEFINED
/* POINTERS TO DATA OBJECTS */
^IMAGE = ("H4654_0000_GR4.TIF")
/* IDENTIFICATION DATA ELEMENTS */
DATA_SET_ID = "MEX-M-HRSC-4-REFDR-MAPPROJECT-EXT1-V4.0"
DATA_SET_NAME = "MARS EXPRESS HRSC MAP PROJECTED REFDR EXTENSION1 V4.0"
DETECTOR_ID = MEX_HRSC_GREEN
EVENT_TYPE = "MARS-REGIONAL-MAPPING-Gl-Eo-La"
INSTRUMENT_HOST_ID = MEX
INSTRUMENT_HOST_NAME = "MARS EXPRESS"
INSTRUMENT_ID = HRSC
INSTRUMENT_NAME = "HIGH RESOLUTION STEREO CAMERA"
MISSION_NAME = "MARS EXPRESS"
MISSION_PHASE_NAME = ME_Phase_9
PROCESSING_LEVEL_ID = 4
PRODUCT_CREATION_TIME = 2023-02-11T00:15:54.000Z
PRODUCT_ID = "H4654_0000_GR4.TIF"
RELEASE_ID = 0007
REVISION_ID = 0000
/* QUALITY DATA ELEMENTS */
DATA_QUALITY_ID = 1
DATA_QUALITY_DESC = "Data calculated based on original SPICE kernels"
/* TIME DATA ELEMENTS */
SPACECRAFT_CLOCK_START_COUNT = "1/0135549334.09061"
SPACECRAFT_CLOCK_STOP_COUNT = "1/0135549527.08062"
START_TIME = 2007-08-18T20:36:01.871Z
STOP_TIME = 2007-08-18T20:38:05.011Z
/* ORBITAL DATA ELEMENTS */
ASCENDING_NODE_LONGITUDE = 131.06
MAXIMUM_RESOLUTION = 0.0259
FOOTPRINT_POINT_LATITUDE = (-85.7204,-85.9989,-86.1726,-86.397, -86.6425,-86.6511,-86.6677,-86.5345, -86.392,-86.1369,-85.9186,-85.6323, -85.45,-85.3249,-85.198,-85.0696, -84.9396,-84.8083,-84.6758,-84.4748, -84.3395,-84.2033,-84.0661,-83.9282, -83.7894,-83.65,-83.51,-83.3693, -83.2281,-83.0864,-82.873,-82.7302, -82.587,-82.3716,-82.2274,-82.0831, -81.9384,-81.7935,-81.6483,-81.5029, -81.3302,-81.1523,-80.9741,-80.7995, -80.6248,-80.4498,-80.2747,-80.0118, -79.8363,-79.7486,-79.7378,-79.6812, -79.6349,-79.5548,-79.4978,-79.4294, -79.3345,-79.3298,-79.3286,-79.4985, -79.6683,-79.8374,-80.0063,-80.1749, -80.3431,-80.511,-80.6819,-80.9356, -81.0886,-81.5033,-81.7769,-82.0483, -82.1832,-82.3174,-82.4511,-82.584, -82.7812,-82.9115,-83.0412,-83.1699, -83.2972,-83.4238,-83.6116,-83.7349, -83.8566,-83.9777,-84.0972,-84.2726, -84.3876,-84.5001,-84.6104,-84.7185, -84.8232,-84.9722,-85.1149,-85.2953, -85.4626,-85.6507,-85.6851,-85.7204)
FOOTPRINT_POINT_LONGITUDE = (299.517,301.494,302.894,304.938, 307.553,307.653,308.135,311.237,314.103 ,318.395,321.403,324.739,326.576,327.73 ,328.825,329.86,330.842,331.775,332.665 ,333.924,334.709,335.456,336.179, 336.857,337.502,338.117,338.709,339.27, 339.814,340.33,341.066,341.53,341.977, 342.615,343.023,343.414,343.79,344.153, 344.504,344.844,345.23,345.611,345.977, 346.32,346.651,346.968,347.277,347.712, 347.992,348.128,348.145,346.965,346.07, 344.645,343.705,342.644,341.272,341.207 ,341.183,340.836,340.477,340.104, 339.718,339.319,338.905,338.476,338.02, 337.308,336.856,335.54,334.583,333.558, 333.019,332.46,331.882,331.282,330.336, 329.675,328.99,328.279,327.538,326.77, 325.56,324.711,323.827,322.91,321.955, 320.443,319.384,318.278,317.125,315.924 ,314.689,312.779,310.752,307.86,304.743 ,300.519,299.631,299.517)
ORBIT_NUMBER = 4654
ORBITAL_ECCENTRICITY = 0.57
ORBITAL_INCLINATION = 86.69
ORBITAL_SEMIMAJOR_AXIS = 8533.07
PERIAPSIS_ALTITUDE = 296.0
PERIAPSIS_ARGUMENT_ANGLE = 259.12
PERIAPSIS_TIME = 2007-08-18T20:32:54.000Z
SPACECRAFT_ORIENTATION = (0.0,-1.0,0.0)
^MEX_ORIENTATION_DESC = "MEX_ORIENTATION_DESC.TXT"
SPACECRAFT_POINTING_MODE = NADIR
^MEX_POINTING_DESC = "MEX_POINTING_DESC.TXT"
RIGHT_ASCENSION = -1e+32
DECLINATION = -1e+32
OFFSET_ANGLE = -1e+32
SPACECRAFT_SOLAR_DISTANCE = 2.12412e+08
TARGET_NAME = MARS
/* CAMERA DATA ELEMENTS */
DETECTOR_TEMPERATURE = 18.3705
FOCAL_PLANE_TEMPERATURE = 9.195
INST_CMPRS_NAME = "DISCRETE COSINE TRANSFORMATION (DCT)"
INST_CMPRS_RATIO = 8.90112
INST_CMPRS_QUALITY = 0
INST_CMPRS_QUANTZ_TBL_ID = 0
INSTRUMENT_TEMPERATURE = 11.6418
LENS_TEMPERATURE = 9.6028
MACROPIXEL_SIZE = 2
PIXEL_SUBSAMPLING_FLAG = N
SIGNAL_CHAIN_ID = 2
/* RADIOMETRIC DATA ELEMENTS */
BANDWIDTH = 88.0
CENTER_FILTER_WAVELENGTH = 538.0
RADIANCE_OFFSET = 1.78967
RADIANCE_SCALING_FACTOR = 0.0189331
REFLECTANCE_SCALING_FACTOR = 0.000735481
MEX:REFLECTANCE_OFFSET = 0.069522
/* IMAGE OBJECT DEFINITIONS */
OBJECT = IMAGE
  INTERCHANGE_FORMAT = BINARY
  LINES = 17394
  LINE_SAMPLES = 12375
  SAMPLE_TYPE = UNSIGNED_INTEGER
  SAMPLE_BITS = 8
  BANDS = 1
  BAND_STORAGE_TYPE = BAND_SEQUENTIAL
  MAXIMUM = 255
  MEAN = 88.6423
  MINIMUM = 1
  STANDARD_DEVIATION = 78.3518
END_OBJECT = IMAGE
/* MAP OBJECT DEFINITIONS */
OBJECT = IMAGE_MAP_PROJECTION
  ^DATA_SET_MAP_PROJECTION_CATALOG= "DSMAP.CAT"
  A_AXIS_RADIUS = 3396.0
  B_AXIS_RADIUS = 3396.0
  C_AXIS_RADIUS = 3396.0
  CENTER_LATITUDE = 0.0
  CENTER_LONGITUDE = 333.0
  COORDINATE_SYSTEM_NAME = PLANETOGRAPHIC
  COORDINATE_SYSTEM_TYPE = "BODY-FIXED ROTATING"
  EASTERNMOST_LONGITUDE = 348.145
  FIRST_STANDARD_PARALLEL = "N/A"
  LINE_FIRST_PIXEL = 1
  LINE_LAST_PIXEL = 17394
  LINE_PROJECTION_OFFSET = -188084.25
  MAP_PROJECTION_ROTATION = 0.0
  MAP_PROJECTION_TYPE = SINUSOIDAL
  MAP_RESOLUTION = 2370.85521546667
  MAP_SCALE = 0.025
  MAXIMUM_LATITUDE = -79.32859999999999
  MINIMUM_LATITUDE = -86.6677
  POSITIVE_LONGITUDE_DIRECTION = EAST
  REFERENCE_LATITUDE = "N/A"
  REFERENCE_LONGITUDE = "N/A"
  SAMPLE_FIRST_PIXEL = 1
  SAMPLE_LAST_PIXEL = 12375
  SAMPLE_PROJECTION_OFFSET = 5961.75
  SECOND_STANDARD_PARALLEL = "N/A"
  WESTERNMOST_LONGITUDE = 299.517
END_OBJECT = IMAGE_MAP_PROJECTION
END
