PDS_VERSION_ID = PDS3
/* FILE DATA ELEMENTS */
RECORD_TYPE = UNDEFINED
/* POINTERS TO DATA OBJECTS */
^IMAGE = ("H4658_0000_ND4.TIF")
/* IDENTIFICATION DATA ELEMENTS */
DATA_SET_ID = "MEX-M-HRSC-4-REFDR-MAPPROJECT-EXT1-V4.0"
DATA_SET_NAME = "MARS EXPRESS HRSC MAP PROJECTED REFDR EXTENSION1 V4.0"
DETECTOR_ID = MEX_HRSC_NADIR
EVENT_TYPE = "MARS-REGIONAL-MAPPING-Im-Fl-Gl"
INSTRUMENT_HOST_ID = MEX
INSTRUMENT_HOST_NAME = "MARS EXPRESS"
INSTRUMENT_ID = HRSC
INSTRUMENT_NAME = "HIGH RESOLUTION STEREO CAMERA"
MISSION_NAME = "MARS EXPRESS"
MISSION_PHASE_NAME = ME_Phase_9
PROCESSING_LEVEL_ID = 4
PRODUCT_CREATION_TIME = 2023-02-11T00:15:54.000Z
PRODUCT_ID = "H4658_0000_ND4.TIF"
RELEASE_ID = 0007
REVISION_ID = 0000
/* QUALITY DATA ELEMENTS */
DATA_QUALITY_ID = 1
DATA_QUALITY_DESC = "Data calculated based on original SPICE kernels"
/* TIME DATA ELEMENTS */
SPACECRAFT_CLOCK_START_COUNT = "1/0135646242.09064"
SPACECRAFT_CLOCK_STOP_COUNT = "1/0135646657.38270"
START_TIME = 2007-08-19T23:31:20.872Z
STOP_TIME = 2007-08-19T23:36:21.892Z
/* ORBITAL DATA ELEMENTS */
ASCENDING_NODE_LONGITUDE = 130.97
MAXIMUM_RESOLUTION = 0.0157
FOOTPRINT_POINT_LATITUDE = (-78.8402,-79.0458,-79.1472,-79.2318, -79.235,-79.2445,-78.6619,-78.079, -77.6322,-77.0339,-76.7274,-76.4208, -76.1144,-75.8007,-75.3301,-75.0121, -74.6915,-74.3712,-74.0442,-73.5535, -73.2201,-72.7195,-72.3787,-72.0385, -71.6932,-71.3466,-70.8196,-70.4669, -70.1074,-69.5653,-69.2001,-68.8308, -68.4598,-68.0833,-67.5136,-66.9363, -66.5477,-66.1534,-65.7569,-65.154, -64.7482,-64.3365,-63.9214,-63.5027, -63.0805,-62.6525,-62.2203,-61.7842, -61.565,-61.5311,-61.5104,-61.4791, -61.4517,-61.4118,-61.3376,-61.3348, -61.3339,-61.9853,-62.4151,-62.8402, -63.2599,-63.6762,-64.0889,-64.4977, -64.901,-65.5001,-66.09,-66.6713, -67.2446,-67.6234,-67.9973,-68.5518, -68.9184,-69.2802,-69.6399,-69.9955, -70.3485,-70.6978,-71.045,-71.3878, -71.7297,-72.0659,-72.5678,-72.8973, -73.227,-73.5495,-73.8723,-74.3493, -74.665,-74.9784,-75.2866,-75.5949, -75.8997,-76.5008,-77.0903,-77.6735, -78.2415,-78.6664,-78.8077,-78.8402)
FOOTPRINT_POINT_LONGITUDE = (308.511,311.591,313.364,315.034, 315.101,315.266,316.059,316.771,317.269 ,317.879,318.17,318.447,318.712,318.969 ,319.331,319.564,319.789,320.005, 320.215,320.516,320.707,320.982,321.158 ,321.327,321.492,321.652,321.883,322.03 ,322.174,322.381,322.514,322.642, 322.769,322.892,323.069,323.239,323.349 ,323.456,323.559,323.71,323.807,323.902 ,323.993,324.083,324.171,324.257, 324.339,324.422,324.46,324.466,323.735, 322.821,322.137,321.27,319.903,319.857, 319.835,319.704,319.614,319.52,319.419, 319.318,319.214,319.104,318.993,318.817 ,318.632,318.434,318.231,318.093, 317.945,317.716,317.557,317.394,317.225 ,317.048,316.864,316.676,316.482, 316.282,316.074,315.86,315.523,315.289, 315.046,314.796,314.534,314.126,313.841 ,313.543,313.237,312.916,312.583, 311.877,311.114,310.279,309.38,308.641, 308.38,308.511)
ORBIT_NUMBER = 4658
ORBITAL_ECCENTRICITY = 0.57
ORBITAL_INCLINATION = 86.7
ORBITAL_SEMIMAJOR_AXIS = 8533.77
PERIAPSIS_ALTITUDE = 295.93
PERIAPSIS_ARGUMENT_ANGLE = 258.46
PERIAPSIS_TIME = 2007-08-19T23:25:45.000Z
SPACECRAFT_ORIENTATION = (0.0,-1.0,0.0)
^MEX_ORIENTATION_DESC = "MEX_ORIENTATION_DESC.TXT"
SPACECRAFT_POINTING_MODE = ACROSSTRACK
^MEX_POINTING_DESC = "MEX_POINTING_DESC.TXT"
RIGHT_ASCENSION = -1e+32
DECLINATION = -1e+32
OFFSET_ANGLE = 0.1
SPACECRAFT_SOLAR_DISTANCE = 2.12573e+08
TARGET_NAME = MARS
/* CAMERA DATA ELEMENTS */
DETECTOR_TEMPERATURE = 18.5744
FOCAL_PLANE_TEMPERATURE = 8.9911
INST_CMPRS_NAME = "DISCRETE COSINE TRANSFORMATION (DCT)"
INST_CMPRS_RATIO = 7.239
INST_CMPRS_QUALITY = 0
INST_CMPRS_QUANTZ_TBL_ID = 0
INSTRUMENT_TEMPERATURE = 10.2145
LENS_TEMPERATURE = 9.8067
MACROPIXEL_SIZE = 1
MISSING_FRAMES = 0
PIXEL_SUBSAMPLING_FLAG = N
SIGNAL_CHAIN_ID = 0
/* RADIOMETRIC DATA ELEMENTS */
BANDWIDTH = 177.0
CENTER_FILTER_WAVELENGTH = 677.5
RADIANCE_OFFSET = 5.08147
RADIANCE_SCALING_FACTOR = 0.0170253
REFLECTANCE_SCALING_FACTOR = 0.000408693
MEX:REFLECTANCE_OFFSET = 0.121981
/* IMAGE OBJECT DEFINITIONS */
OBJECT = IMAGE
  INTERCHANGE_FORMAT = BINARY
  LINES = 84929
  LINE_SAMPLES = 22151
  SAMPLE_TYPE = UNSIGNED_INTEGER
  SAMPLE_BITS = 8
  BANDS = 1
  BAND_STORAGE_TYPE = BAND_SEQUENTIAL
  MAXIMUM = 255
  MEAN = 152.345
  MINIMUM = 1
  STANDARD_DEVIATION = 53.5592
END_OBJECT = IMAGE
/* MAP OBJECT DEFINITIONS */
OBJECT = IMAGE_MAP_PROJECTION
  ^DATA_SET_MAP_PROJECTION_CATALOG= "DSMAP.CAT"
  A_AXIS_RADIUS = 3396.0
  B_AXIS_RADIUS = 3396.0
  C_AXIS_RADIUS = 3396.0
  CENTER_LATITUDE = 0.0
  CENTER_LONGITUDE = 319.0
  COORDINATE_SYSTEM_NAME = PLANETOGRAPHIC
  COORDINATE_SYSTEM_TYPE = "BODY-FIXED ROTATING"
  EASTERNMOST_LONGITUDE = 324.466
  FIRST_STANDARD_PARALLEL = "N/A"
  LINE_FIRST_PIXEL = 1
  LINE_LAST_PIXEL = 84929
  LINE_PROJECTION_OFFSET = -290828.0
  MAP_PROJECTION_ROTATION = 0.0
  MAP_PROJECTION_TYPE = SINUSOIDAL
  MAP_RESOLUTION = 4741.71043093333
  MAP_SCALE = 0.0125
  MAXIMUM_LATITUDE = -61.3339
  MINIMUM_LATITUDE = -79.2445
  POSITIVE_LONGITUDE_DIRECTION = EAST
  REFERENCE_LATITUDE = "N/A"
  REFERENCE_LONGITUDE = "N/A"
  SAMPLE_FIRST_PIXEL = 1
  SAMPLE_LAST_PIXEL = 22151
  SAMPLE_PROJECTION_OFFSET = 9793.0
  SECOND_STANDARD_PARALLEL = "N/A"
  WESTERNMOST_LONGITUDE = 308.38
END_OBJECT = IMAGE_MAP_PROJECTION
END
