PDS_VERSION_ID = PDS3
/* FILE DATA ELEMENTS */
RECORD_TYPE = UNDEFINED
/* POINTERS TO DATA OBJECTS */
^IMAGE = ("H4658_0001_S14.TIF")
/* IDENTIFICATION DATA ELEMENTS */
DATA_SET_ID = "MEX-M-HRSC-4-REFDR-MAPPROJECT-EXT1-V4.0"
DATA_SET_NAME = "MARS EXPRESS HRSC MAP PROJECTED REFDR EXTENSION1 V4.0"
DETECTOR_ID = MEX_HRSC_S1
EVENT_TYPE = "MARS-REGIONAL-COLOR-Im-Fl-Lc"
INSTRUMENT_HOST_ID = MEX
INSTRUMENT_HOST_NAME = "MARS EXPRESS"
INSTRUMENT_ID = HRSC
INSTRUMENT_NAME = "HIGH RESOLUTION STEREO CAMERA"
MISSION_NAME = "MARS EXPRESS"
MISSION_PHASE_NAME = ME_Phase_9
PROCESSING_LEVEL_ID = 4
PRODUCT_CREATION_TIME = 2023-02-11T00:15:54.000Z
PRODUCT_ID = "H4658_0001_S14.TIF"
RELEASE_ID = 0007
REVISION_ID = 0000
/* QUALITY DATA ELEMENTS */
DATA_QUALITY_ID = 1
DATA_QUALITY_DESC = "Data calculated based on original SPICE kernels"
/* TIME DATA ELEMENTS */
SPACECRAFT_CLOCK_START_COUNT = "1/0135646997.07305"
SPACECRAFT_CLOCK_STOP_COUNT = "1/0135648049.25837"
START_TIME = 2007-08-19T23:43:21.197Z
STOP_TIME = 2007-08-19T23:46:57.763Z
/* ORBITAL DATA ELEMENTS */
ASCENDING_NODE_LONGITUDE = 130.97
MAXIMUM_RESOLUTION = 0.0974
FOOTPRINT_POINT_LATITUDE = (-33.9803,-33.9961,-34.0082,-34.0185, -34.0269,-34.0333,-34.0379,-34.0405, -34.0413,-34.0402,-34.0371,-34.0322, -34.0201,-34.019,-33.9774,-33.7518, -33.4141,-33.189,-32.9644,-32.7407, -32.5176,-32.2936,-32.0709,-31.8489, -31.6247,-31.2958,-31.0755,-30.855, -30.6278,-30.3981,-30.1782,-29.9595, -29.7404,-29.319,-28.9933,-28.7752, -28.5579,-28.3392,-27.9081,-27.4775, -27.2564,-26.9264,-26.3932,-25.8628, -25.4414,-24.8292,-24.3044,-23.7791, -23.2664,-23.1635,-23.1522,-23.1735, -23.1971,-23.2137,-23.2336,-23.2458, -23.2538,-23.2611,-23.2629,-23.265, -23.2665,-23.2649,-23.2625,-23.2601, -23.2551,-23.2537,-23.2538,-23.7612, -24.3766,-24.7883,-25.2011,-25.616, -26.0324,-26.4508,-26.8708,-27.3968, -27.82,-28.2453,-28.7785,-29.3114, -29.5301,-29.7472,-30.1798,-30.3966, -30.6141,-30.8316,-31.0498,-31.2686, -31.4879,-31.708,-31.9274,-32.2586, -32.4799,-32.7013,-33.0358,-33.3715, -33.5952,-33.8125,-33.9247,-33.9803)
FOOTPRINT_POINT_LONGITUDE = (321.41,321.832,322.207,322.581,322.955 ,323.329,323.703,324.077,324.45,324.823 ,325.197,325.571,326.18,326.227,326.255 ,326.258,326.263,326.266,326.269, 326.272,326.275,326.277,326.28,326.282, 326.285,326.287,326.289,326.291,326.295 ,326.3,326.302,326.303,326.305,326.303, 326.304,326.306,326.307,326.309,326.31, 326.311,326.314,326.317,326.317,326.317 ,326.316,326.31,326.309,326.308,326.304 ,326.303,326.303,325.978,325.49,325.111 ,324.569,324.137,323.813,323.381, 322.894,322.569,322.19,321.702,321.43, 321.159,320.778,320.724,320.704,320.747 ,320.799,320.833,320.866,320.898,320.93 ,320.961,320.992,321.029,321.058, 321.087,321.122,321.154,321.168,321.182 ,321.207,321.22,321.232,321.244,321.256 ,321.268,321.28,321.291,321.302,321.319 ,321.33,321.34,321.356,321.372,321.382, 321.389,321.394,321.41)
ORBIT_NUMBER = 4658
ORBITAL_ECCENTRICITY = 0.57
ORBITAL_INCLINATION = 86.7
ORBITAL_SEMIMAJOR_AXIS = 8533.77
PERIAPSIS_ALTITUDE = 295.93
PERIAPSIS_ARGUMENT_ANGLE = 258.46
PERIAPSIS_TIME = 2007-08-19T23:25:45.000Z
SPACECRAFT_ORIENTATION = (0.0,-1.0,0.0)
^MEX_ORIENTATION_DESC = "MEX_ORIENTATION_DESC.TXT"
SPACECRAFT_POINTING_MODE = ACROSSTRACK
^MEX_POINTING_DESC = "MEX_POINTING_DESC.TXT"
RIGHT_ASCENSION = -1e+32
DECLINATION = -1e+32
OFFSET_ANGLE = 0.1
SPACECRAFT_SOLAR_DISTANCE = 2.12573e+08
TARGET_NAME = MARS
/* CAMERA DATA ELEMENTS */
DETECTOR_TEMPERATURE = 18.3705
FOCAL_PLANE_TEMPERATURE = 9.3989
INST_CMPRS_NAME = "DISCRETE COSINE TRANSFORMATION (DCT)"
INST_CMPRS_RATIO = 12.873
INST_CMPRS_QUALITY = 0
INST_CMPRS_QUANTZ_TBL_ID = 0
INSTRUMENT_TEMPERATURE = 14.0886
LENS_TEMPERATURE = 10.0106
MACROPIXEL_SIZE = 2
MISSING_FRAMES = 0
PIXEL_SUBSAMPLING_FLAG = N
SIGNAL_CHAIN_ID = 1
/* RADIOMETRIC DATA ELEMENTS */
BANDWIDTH = 180.0
CENTER_FILTER_WAVELENGTH = 677.0
RADIANCE_OFFSET = 8.98767
RADIANCE_SCALING_FACTOR = 0.0106363
REFLECTANCE_SCALING_FACTOR = 0.00025076
MEX:REFLECTANCE_OFFSET = 0.211892
/* IMAGE OBJECT DEFINITIONS */
OBJECT = IMAGE
  INTERCHANGE_FORMAT = BINARY
  LINES = 6480
  LINE_SAMPLES = 3725
  SAMPLE_TYPE = UNSIGNED_INTEGER
  SAMPLE_BITS = 8
  BANDS = 1
  BAND_STORAGE_TYPE = BAND_SEQUENTIAL
  MAXIMUM = 255
  MEAN = 104.007
  MINIMUM = 1
  STANDARD_DEVIATION = 42.5159
END_OBJECT = IMAGE
/* MAP OBJECT DEFINITIONS */
OBJECT = IMAGE_MAP_PROJECTION
  ^DATA_SET_MAP_PROJECTION_CATALOG= "DSMAP.CAT"
  A_AXIS_RADIUS = 3396.0
  B_AXIS_RADIUS = 3396.0
  C_AXIS_RADIUS = 3396.0
  CENTER_LATITUDE = 0.0
  CENTER_LONGITUDE = 324.0
  COORDINATE_SYSTEM_NAME = PLANETOGRAPHIC
  COORDINATE_SYSTEM_TYPE = "BODY-FIXED ROTATING"
  EASTERNMOST_LONGITUDE = 326.317
  FIRST_STANDARD_PARALLEL = "N/A"
  LINE_FIRST_PIXEL = 1
  LINE_LAST_PIXEL = 6480
  LINE_PROJECTION_OFFSET = -13680.75
  MAP_PROJECTION_ROTATION = 0.0
  MAP_PROJECTION_TYPE = SINUSOIDAL
  MAP_RESOLUTION = 592.713803866667
  MAP_SCALE = 0.1
  MAXIMUM_LATITUDE = -23.1522
  MINIMUM_LATITUDE = -34.0413
  POSITIVE_LONGITUDE_DIRECTION = EAST
  REFERENCE_LATITUDE = "N/A"
  REFERENCE_LONGITUDE = "N/A"
  SAMPLE_FIRST_PIXEL = 1
  SAMPLE_LAST_PIXEL = 3725
  SAMPLE_PROJECTION_OFFSET = 2198.75
  SECOND_STANDARD_PARALLEL = "N/A"
  WESTERNMOST_LONGITUDE = 320.704
END_OBJECT = IMAGE_MAP_PROJECTION
END
