PDS_VERSION_ID = PDS3
/* FILE DATA ELEMENTS */
RECORD_TYPE = UNDEFINED
/* POINTERS TO DATA OBJECTS */
^IMAGE = ("H4661_0001_ND4.TIF")
/* IDENTIFICATION DATA ELEMENTS */
DATA_SET_ID = "MEX-M-HRSC-4-REFDR-MAPPROJECT-EXT1-V4.0"
DATA_SET_NAME = "MARS EXPRESS HRSC MAP PROJECTED REFDR EXTENSION1 V4.0"
DETECTOR_ID = MEX_HRSC_NADIR
EVENT_TYPE = "MARS-REGIONAL-MAPPING-Vo-Gl"
INSTRUMENT_HOST_ID = MEX
INSTRUMENT_HOST_NAME = "MARS EXPRESS"
INSTRUMENT_ID = HRSC
INSTRUMENT_NAME = "HIGH RESOLUTION STEREO CAMERA"
MISSION_NAME = "MARS EXPRESS"
MISSION_PHASE_NAME = ME_Phase_9
PROCESSING_LEVEL_ID = 4
PRODUCT_CREATION_TIME = 2023-02-11T00:15:54.000Z
PRODUCT_ID = "H4661_0001_ND4.TIF"
RELEASE_ID = 0007
REVISION_ID = 0000
/* QUALITY DATA ELEMENTS */
DATA_QUALITY_ID = 1
DATA_QUALITY_DESC = "Data calculated based on original SPICE kernels"
/* TIME DATA ELEMENTS */
SPACECRAFT_CLOCK_START_COUNT = "1/0135719002.09052"
SPACECRAFT_CLOCK_STOP_COUNT = "1/0135719405.56121"
START_TIME = 2007-08-20T19:44:16.025Z
STOP_TIME = 2007-08-20T19:48:19.049Z
/* ORBITAL DATA ELEMENTS */
ASCENDING_NODE_LONGITUDE = 130.91
MAXIMUM_RESOLUTION = 0.0216
FOOTPRINT_POINT_LATITUDE = (-67.5092,-67.5998,-67.6361,-67.6777, -67.7381,-67.7397,-67.744,-67.2842, -66.8203,-66.4698,-65.8774,-65.517, -65.2767,-65.0325,-64.7889,-64.4194, -64.1727,-63.9225,-63.6724,-63.4195, -63.1661,-62.9102,-62.6536,-62.3948, -62.135,-61.8729,-61.6101,-61.3444, -60.9441,-60.6751,-60.404,-59.9941, -59.719,-59.4414,-59.0224,-58.5994, -58.1719,-57.74,-57.304,-56.8634, -56.5677,-56.2692,-55.9686,-55.6662, -55.3621,-55.0553,-54.5916,-54.4353, -54.4032,-54.3879,-54.3707,-54.3493, -54.3232,-54.2946,-54.2598,-54.2574, -54.2567,-54.7193,-55.0251,-55.329, -55.6311,-55.9302,-56.2275,-56.5231, -56.8169,-57.1079,-57.5414,-57.9706, -58.3956,-58.8162,-59.2328,-59.5089, -59.7822,-60.1896,-60.4594,-60.7267, -61.1248,-61.3891,-61.6502,-61.911, -62.1689,-62.4264,-62.6812,-62.9357, -63.1874,-63.4388,-63.6872,-63.9361, -64.1812,-64.5484,-64.7904,-65.1524, -65.3911,-65.6299,-66.2183,-66.6822, -67.0268,-67.3699,-67.4831,-67.5092)
FOOTPRINT_POINT_LONGITUDE = (23.5709,25.119,25.8263,26.7241,28.2934 ,28.3411,28.4366,28.5665,28.6959, 28.7907,28.9432,29.0313,29.0891,29.1469 ,29.2031,29.2863,29.3412,29.3944, 29.4459,29.497,29.5475,29.5969,29.6467, 29.6953,29.7427,29.7889,29.8352,29.8803 ,29.9478,29.9945,30.0399,30.0993, 30.1411,30.1825,30.2427,30.3016,30.3591 ,30.415,30.4696,30.5242,30.5594,30.5943 ,30.6283,30.6619,30.6944,30.7271, 30.7746,30.7898,30.7938,29.8158,29.0699 ,28.328,27.5859,26.8917,26.1487,26.1023 ,26.0796,26.0409,26.0137,25.9851, 25.9551,25.9248,25.894,25.8615,25.8281, 25.7945,25.7422,25.6879,25.63,25.5696, 25.5081,25.4658,25.4228,25.3566,25.3102 ,25.2636,25.1916,25.1422,25.0932, 25.0428,24.9895,24.9344,24.8792,24.8229 ,24.7656,24.7052,24.6456,24.5845, 24.5231,24.4283,24.3629,24.2625,24.193, 24.1231,23.9417,23.7914,23.6735,23.5518 ,23.511,23.5709)
ORBIT_NUMBER = 4661
ORBITAL_ECCENTRICITY = 0.57
ORBITAL_INCLINATION = 86.68
ORBITAL_SEMIMAJOR_AXIS = 8534.25
PERIAPSIS_ALTITUDE = 296.01
PERIAPSIS_ARGUMENT_ANGLE = 257.92
PERIAPSIS_TIME = 2007-08-20T19:35:19.000Z
SPACECRAFT_ORIENTATION = (0.0,-1.0,0.0)
^MEX_ORIENTATION_DESC = "MEX_ORIENTATION_DESC.TXT"
SPACECRAFT_POINTING_MODE = NADIR
^MEX_POINTING_DESC = "MEX_POINTING_DESC.TXT"
RIGHT_ASCENSION = -1e+32
DECLINATION = -1e+32
OFFSET_ANGLE = -1e+32
SPACECRAFT_SOLAR_DISTANCE = 2.12695e+08
TARGET_NAME = MARS
/* CAMERA DATA ELEMENTS */
DETECTOR_TEMPERATURE = 19.39
FOCAL_PLANE_TEMPERATURE = 8.9911
INST_CMPRS_NAME = "DISCRETE COSINE TRANSFORMATION (DCT)"
INST_CMPRS_RATIO = 7.58992
INST_CMPRS_QUALITY = 0
INST_CMPRS_QUANTZ_TBL_ID = 0
INSTRUMENT_TEMPERATURE = 12.8652
LENS_TEMPERATURE = 9.8067
MACROPIXEL_SIZE = 1
MISSING_FRAMES = 0
PIXEL_SUBSAMPLING_FLAG = N
SIGNAL_CHAIN_ID = 0
/* RADIOMETRIC DATA ELEMENTS */
BANDWIDTH = 177.0
CENTER_FILTER_WAVELENGTH = 677.5
RADIANCE_OFFSET = 6.60652
RADIANCE_SCALING_FACTOR = 0.0138322
REFLECTANCE_SCALING_FACTOR = 0.000332425
MEX:REFLECTANCE_OFFSET = 0.158773
/* IMAGE OBJECT DEFINITIONS */
OBJECT = IMAGE
  INTERCHANGE_FORMAT = BINARY
  LINES = 31979
  LINE_SAMPLES = 8409
  SAMPLE_TYPE = UNSIGNED_INTEGER
  SAMPLE_BITS = 8
  BANDS = 1
  BAND_STORAGE_TYPE = BAND_SEQUENTIAL
  MAXIMUM = 255
  MEAN = 148.132
  MINIMUM = 1
  STANDARD_DEVIATION = 35.5797
END_OBJECT = IMAGE
/* MAP OBJECT DEFINITIONS */
OBJECT = IMAGE_MAP_PROJECTION
  ^DATA_SET_MAP_PROJECTION_CATALOG= "DSMAP.CAT"
  A_AXIS_RADIUS = 3396.0
  B_AXIS_RADIUS = 3396.0
  C_AXIS_RADIUS = 3396.0
  CENTER_LATITUDE = 0.0
  CENTER_LONGITUDE = 27.0
  COORDINATE_SYSTEM_NAME = PLANETOGRAPHIC
  COORDINATE_SYSTEM_TYPE = "BODY-FIXED ROTATING"
  EASTERNMOST_LONGITUDE = 30.7938
  FIRST_STANDARD_PARALLEL = "N/A"
  LINE_FIRST_PIXEL = 1
  LINE_LAST_PIXEL = 31979
  LINE_PROJECTION_OFFSET = -128635.0
  MAP_PROJECTION_ROTATION = 0.0
  MAP_PROJECTION_TYPE = SINUSOIDAL
  MAP_RESOLUTION = 2370.85521546667
  MAP_SCALE = 0.025
  MAXIMUM_LATITUDE = -54.2567
  MINIMUM_LATITUDE = -67.744
  POSITIVE_LONGITUDE_DIRECTION = EAST
  REFERENCE_LATITUDE = "N/A"
  REFERENCE_LONGITUDE = "N/A"
  SAMPLE_FIRST_PIXEL = 1
  SAMPLE_LAST_PIXEL = 8409
  SAMPLE_PROJECTION_OFFSET = 3173.0
  SECOND_STANDARD_PARALLEL = "N/A"
  WESTERNMOST_LONGITUDE = 23.511
END_OBJECT = IMAGE_MAP_PROJECTION
END
