PDS_VERSION_ID = PDS3
/* FILE DATA ELEMENTS */
RECORD_TYPE = UNDEFINED
/* POINTERS TO DATA OBJECTS */
^IMAGE = ("H4663_0000_BL4.TIF")
/* IDENTIFICATION DATA ELEMENTS */
DATA_SET_ID = "MEX-M-HRSC-4-REFDR-MAPPROJECT-EXT1-V4.0"
DATA_SET_NAME = "MARS EXPRESS HRSC MAP PROJECTED REFDR EXTENSION1 V4.0"
DETECTOR_ID = MEX_HRSC_BLUE
EVENT_TYPE = "MARS-REGIONAL-MAPPING-Im-Fl-Eo"
INSTRUMENT_HOST_ID = MEX
INSTRUMENT_HOST_NAME = "MARS EXPRESS"
INSTRUMENT_ID = HRSC
INSTRUMENT_NAME = "HIGH RESOLUTION STEREO CAMERA"
MISSION_NAME = "MARS EXPRESS"
MISSION_PHASE_NAME = ME_Phase_9
PROCESSING_LEVEL_ID = 4
PRODUCT_CREATION_TIME = 2023-02-11T00:15:54.000Z
PRODUCT_ID = "H4663_0000_BL4.TIF"
RELEASE_ID = 0007
REVISION_ID = 0000
/* QUALITY DATA ELEMENTS */
DATA_QUALITY_ID = 1
DATA_QUALITY_DESC = "Data calculated based on original SPICE kernels"
/* TIME DATA ELEMENTS */
SPACECRAFT_CLOCK_START_COUNT = "1/0135767363.08408"
SPACECRAFT_CLOCK_STOP_COUNT = "1/0135767868.07966"
START_TIME = 2007-08-21T09:10:23.061Z
STOP_TIME = 2007-08-21T09:16:02.677Z
/* ORBITAL DATA ELEMENTS */
ASCENDING_NODE_LONGITUDE = 130.87
MAXIMUM_RESOLUTION = 0.0418
FOOTPRINT_POINT_LATITUDE = (-69.5452,-69.6472,-69.7024,-69.8044, -69.8063,-69.8268,-69.2266,-68.6165, -67.9966,-67.3661,-66.5662,-65.9154, -65.4203,-64.9191,-64.2415,-63.8996, -63.554,-63.205,-62.8539,-62.5002, -62.1427,-61.782,-61.4189,-61.0527, -60.6826,-60.309,-59.9321,-59.5527, -59.1693,-58.7826,-58.3934,-58.0001, -57.6034,-57.2029,-56.7995,-56.392, -55.9863,-55.5825,-55.1811,-54.7815, -54.3838,-53.9877,-53.5933,-53.2006, -52.8098,-52.4208,-52.0336,-51.8407, -51.8047,-51.7967,-51.7765,-51.7586, -51.7431,-51.7223,-51.6743,-51.6721, -51.6721,-52.0546,-52.4401,-52.8279, -53.2164,-53.6069,-53.9991,-54.391, -54.7874,-55.185,-55.5846,-55.986, -56.3894,-56.7929,-57.1932,-57.5893, -57.982,-58.3711,-58.7569,-59.1394, -59.518,-59.8931,-60.265,-60.634, -61.0002,-61.3633,-61.7223,-62.0784, -62.4319,-62.7831,-63.1297,-63.4754, -64.1557,-64.659,-65.1566,-65.6482, -66.2946,-67.089,-67.7127,-68.3275, -68.9327,-69.3803,-69.5291,-69.5452)
FOOTPRINT_POINT_LONGITUDE = (185.662,187.311,188.335,190.636, 190.685,190.765,190.998,191.215,191.422 ,191.614,191.849,192.029,192.158, 192.282,192.442,192.521,192.596,192.67, 192.743,192.815,192.886,192.954,193.021 ,193.087,193.15,193.213,193.274,193.334 ,193.393,193.45,193.509,193.565,193.62, 193.674,193.73,193.781,193.83,193.878, 193.926,193.972,194.017,194.06,194.102, 194.142,194.181,194.218,194.255,194.273 ,194.276,193.512,192.365,191.745, 191.172,190.55,189.403,189.355,189.337, 189.316,189.288,189.258,189.229,189.198 ,189.166,189.14,189.102,189.065,189.024 ,188.981,188.935,188.889,188.839, 188.788,188.736,188.681,188.625,188.567 ,188.507,188.445,188.38,188.314,188.245 ,188.175,188.102,188.027,187.951, 187.872,187.791,187.701,187.53,187.391, 187.247,187.096,186.885,186.605,186.367 ,186.114,185.848,185.64,185.568, 185.662)
ORBIT_NUMBER = 4663
ORBITAL_ECCENTRICITY = 0.57
ORBITAL_INCLINATION = 86.69
ORBITAL_SEMIMAJOR_AXIS = 8535.21
PERIAPSIS_ALTITUDE = 295.87
PERIAPSIS_ARGUMENT_ANGLE = 257.58
PERIAPSIS_TIME = 2007-08-21T09:01:48.000Z
SPACECRAFT_ORIENTATION = (0.0,-1.0,0.0)
^MEX_ORIENTATION_DESC = "MEX_ORIENTATION_DESC.TXT"
SPACECRAFT_POINTING_MODE = ACROSSTRACK
^MEX_POINTING_DESC = "MEX_POINTING_DESC.TXT"
RIGHT_ASCENSION = -1e+32
DECLINATION = -1e+32
OFFSET_ANGLE = 0.15
SPACECRAFT_SOLAR_DISTANCE = 2.12777e+08
TARGET_NAME = MARS
/* CAMERA DATA ELEMENTS */
DETECTOR_TEMPERATURE = 18.3705
FOCAL_PLANE_TEMPERATURE = 8.7872
INST_CMPRS_NAME = "DISCRETE COSINE TRANSFORMATION (DCT)"
INST_CMPRS_RATIO = 6.45913
INST_CMPRS_QUALITY = 0
INST_CMPRS_QUANTZ_TBL_ID = 0
INSTRUMENT_TEMPERATURE = 11.6418
LENS_TEMPERATURE = 9.195
MACROPIXEL_SIZE = 2
MISSING_FRAMES = 0
PIXEL_SUBSAMPLING_FLAG = N
SIGNAL_CHAIN_ID = 2
/* RADIOMETRIC DATA ELEMENTS */
BANDWIDTH = 76.0
CENTER_FILTER_WAVELENGTH = 444.0
RADIANCE_OFFSET = 0.845809
RADIANCE_SCALING_FACTOR = 0.00167339
REFLECTANCE_SCALING_FACTOR = 7.78402e-05
MEX:REFLECTANCE_OFFSET = 0.0393441
/* IMAGE OBJECT DEFINITIONS */
OBJECT = IMAGE
  INTERCHANGE_FORMAT = BINARY
  LINES = 21532
  LINE_SAMPLES = 4605
  SAMPLE_TYPE = UNSIGNED_INTEGER
  SAMPLE_BITS = 8
  BANDS = 1
  BAND_STORAGE_TYPE = BAND_SEQUENTIAL
  MAXIMUM = 254
  MEAN = 161.076
  MINIMUM = 1
  STANDARD_DEVIATION = 33.6615
END_OBJECT = IMAGE
/* MAP OBJECT DEFINITIONS */
OBJECT = IMAGE_MAP_PROJECTION
  ^DATA_SET_MAP_PROJECTION_CATALOG= "DSMAP.CAT"
  A_AXIS_RADIUS = 3396.0
  B_AXIS_RADIUS = 3396.0
  C_AXIS_RADIUS = 3396.0
  CENTER_LATITUDE = 0.0
  CENTER_LONGITUDE = 191.0
  COORDINATE_SYSTEM_NAME = PLANETOGRAPHIC
  COORDINATE_SYSTEM_TYPE = "BODY-FIXED ROTATING"
  EASTERNMOST_LONGITUDE = 194.276
  FIRST_STANDARD_PARALLEL = "N/A"
  LINE_FIRST_PIXEL = 1
  LINE_LAST_PIXEL = 21532
  LINE_PROJECTION_OFFSET = -61257.75
  MAP_PROJECTION_ROTATION = 0.0
  MAP_PROJECTION_TYPE = SINUSOIDAL
  MAP_RESOLUTION = 1185.42760773333
  MAP_SCALE = 0.05
  MAXIMUM_LATITUDE = -51.6721
  MINIMUM_LATITUDE = -69.82680000000001
  POSITIVE_LONGITUDE_DIRECTION = EAST
  REFERENCE_LATITUDE = "N/A"
  REFERENCE_LONGITUDE = "N/A"
  SAMPLE_FIRST_PIXEL = 1
  SAMPLE_LAST_PIXEL = 4605
  SAMPLE_PROJECTION_OFFSET = 2238.75
  SECOND_STANDARD_PARALLEL = "N/A"
  WESTERNMOST_LONGITUDE = 185.568
END_OBJECT = IMAGE_MAP_PROJECTION
END
