PDS_VERSION_ID = PDS3
/* FILE DATA ELEMENTS */
RECORD_TYPE = UNDEFINED
/* POINTERS TO DATA OBJECTS */
^IMAGE = ("H4666_0000_P14.TIF")
/* IDENTIFICATION DATA ELEMENTS */
DATA_SET_ID = "MEX-M-HRSC-4-REFDR-MAPPROJECT-EXT1-V4.0"
DATA_SET_NAME = "MARS EXPRESS HRSC MAP PROJECTED REFDR EXTENSION1 V4.0"
DETECTOR_ID = MEX_HRSC_P1
EVENT_TYPE = "MARS-REGIONAL-MAPPING-Im-Gl-Eo"
INSTRUMENT_HOST_ID = MEX
INSTRUMENT_HOST_NAME = "MARS EXPRESS"
INSTRUMENT_ID = HRSC
INSTRUMENT_NAME = "HIGH RESOLUTION STEREO CAMERA"
MISSION_NAME = "MARS EXPRESS"
MISSION_PHASE_NAME = ME_Phase_9
PROCESSING_LEVEL_ID = 4
PRODUCT_CREATION_TIME = 2023-02-11T00:15:54.000Z
PRODUCT_ID = "H4666_0000_P14.TIF"
RELEASE_ID = 0007
REVISION_ID = 0000
/* QUALITY DATA ELEMENTS */
DATA_QUALITY_ID = 1
DATA_QUALITY_DESC = "Data calculated based on original SPICE kernels"
/* TIME DATA ELEMENTS */
SPACECRAFT_CLOCK_START_COUNT = "1/0135839833.07288"
SPACECRAFT_CLOCK_STOP_COUNT = "1/0135840155.34577"
START_TIME = 2007-08-22T05:17:29.767Z
STOP_TIME = 2007-08-22T05:20:47.968Z
/* ORBITAL DATA ELEMENTS */
ASCENDING_NODE_LONGITUDE = 130.82
MAXIMUM_RESOLUTION = 0.0337
FOOTPRINT_POINT_LATITUDE = (-77.1707,-77.2446,-77.3584,-77.4484, -77.4923,-77.4947,-77.4384,-77.0134, -76.5793,-76.1433,-75.7007,-75.4774, -75.1428,-74.9167,-74.6881,-74.4596, -74.2313,-73.9999,-73.7665,-73.5331, -73.3,-73.062,-72.8237,-72.4656, -72.1016,-71.859,-71.4911,-71.2431, -70.8707,-70.6183,-70.3655,-70.113, -69.8563,-69.5981,-69.3404,-68.9469, -68.6845,-68.2854,-68.019,-67.6134, -67.342,-66.9305,-66.6554,-66.3743, -65.9524,-65.6688,-65.2452,-65.1003, -65.0343,-65.0139,-64.9726,-64.9163, -64.8818,-64.8386,-64.8359,-64.8357, -65.2635,-65.5465,-65.8272,-66.1053, -66.3831,-66.6574,-66.9313,-67.2017, -67.4713,-67.7396,-68.0044,-68.2692, -68.6617,-68.9218,-69.1804,-69.4356, -69.691,-69.9445,-70.195,-70.4458, -70.6939,-70.9392,-71.1853,-71.43, -71.7911,-72.032,-72.2706,-72.5063, -72.7422,-72.9771,-73.2054,-73.4389, -73.7859,-74.0131,-74.2384,-74.5758, -74.7992,-75.2371,-75.676,-76.1059, -76.4252,-76.9509,-77.055,-77.1707)
FOOTPRINT_POINT_LONGITUDE = (246.08,247.234,249.23,251.086,252.119, 252.18,252.423,252.806,253.17,253.513, 253.838,253.994,254.218,254.365,254.508 ,254.646,254.78,254.912,255.04,255.165, 255.286,255.406,255.522,255.693,255.856 ,255.96,256.116,256.216,256.362,256.457 ,256.55,256.64,256.728,256.817,256.902, 257.027,257.108,257.226,257.302,257.415 ,257.488,257.594,257.662,257.734, 257.835,257.9,257.989,258.02,258.034, 257.31,256.137,254.882,254.213,253.458, 253.413,253.397,253.282,253.204,253.123 ,253.04,252.956,252.87,252.781,252.69, 252.598,252.502,252.406,252.306,252.153 ,252.047,251.939,251.829,251.716, 251.601,251.483,251.361,251.237,251.11, 250.98,250.846,250.641,250.498,250.353, 250.205,250.052,249.894,249.734,249.571 ,249.316,249.141,248.962,248.682, 248.489,248.091,247.666,247.223,246.87, 246.251,246.122,246.08)
ORBIT_NUMBER = 4666
ORBITAL_ECCENTRICITY = 0.57
ORBITAL_INCLINATION = 86.69
ORBITAL_SEMIMAJOR_AXIS = 8535.93
PERIAPSIS_ALTITUDE = 295.69
PERIAPSIS_ARGUMENT_ANGLE = 257.05
PERIAPSIS_TIME = 2007-08-22T05:11:27.000Z
SPACECRAFT_ORIENTATION = (0.0,-1.0,0.0)
^MEX_ORIENTATION_DESC = "MEX_ORIENTATION_DESC.TXT"
SPACECRAFT_POINTING_MODE = ACROSSTRACK
^MEX_POINTING_DESC = "MEX_POINTING_DESC.TXT"
RIGHT_ASCENSION = -1e+32
DECLINATION = -1e+32
OFFSET_ANGLE = -0.15
SPACECRAFT_SOLAR_DISTANCE = 2.129e+08
TARGET_NAME = MARS
/* CAMERA DATA ELEMENTS */
DETECTOR_TEMPERATURE = 17.7588
FOCAL_PLANE_TEMPERATURE = 8.9911
INST_CMPRS_NAME = "DISCRETE COSINE TRANSFORMATION (DCT)"
INST_CMPRS_RATIO = 13.5255
INST_CMPRS_QUALITY = 0
INST_CMPRS_QUANTZ_TBL_ID = 0
INSTRUMENT_TEMPERATURE = 12.8652
LENS_TEMPERATURE = 9.195
MACROPIXEL_SIZE = 2
MISSING_FRAMES = 0
PIXEL_SUBSAMPLING_FLAG = N
SIGNAL_CHAIN_ID = 3
/* RADIOMETRIC DATA ELEMENTS */
BANDWIDTH = 174.0
CENTER_FILTER_WAVELENGTH = 675.0
RADIANCE_OFFSET = 5.71001
RADIANCE_SCALING_FACTOR = 0.0145549
REFLECTANCE_SCALING_FACTOR = 0.000354853
MEX:REFLECTANCE_OFFSET = 0.139212
/* IMAGE OBJECT DEFINITIONS */
OBJECT = IMAGE
  INTERCHANGE_FORMAT = BINARY
  LINES = 29957
  LINE_SAMPLES = 8917
  SAMPLE_TYPE = UNSIGNED_INTEGER
  SAMPLE_BITS = 8
  BANDS = 1
  BAND_STORAGE_TYPE = BAND_SEQUENTIAL
  MAXIMUM = 255
  MEAN = 145.021
  MINIMUM = 1
  STANDARD_DEVIATION = 47.1978
END_OBJECT = IMAGE
/* MAP OBJECT DEFINITIONS */
OBJECT = IMAGE_MAP_PROJECTION
  ^DATA_SET_MAP_PROJECTION_CATALOG= "DSMAP.CAT"
  A_AXIS_RADIUS = 3396.0
  B_AXIS_RADIUS = 3396.0
  C_AXIS_RADIUS = 3396.0
  CENTER_LATITUDE = 0.0
  CENTER_LONGITUDE = 253.0
  COORDINATE_SYSTEM_NAME = PLANETOGRAPHIC
  COORDINATE_SYSTEM_TYPE = "BODY-FIXED ROTATING"
  EASTERNMOST_LONGITUDE = 258.034
  FIRST_STANDARD_PARALLEL = "N/A"
  LINE_FIRST_PIXEL = 1
  LINE_LAST_PIXEL = 29957
  LINE_PROJECTION_OFFSET = -153655.75
  MAP_PROJECTION_ROTATION = 0.0
  MAP_PROJECTION_TYPE = SINUSOIDAL
  MAP_RESOLUTION = 2370.85521546667
  MAP_SCALE = 0.025
  MAXIMUM_LATITUDE = -64.8357
  MINIMUM_LATITUDE = -77.49469999999999
  POSITIVE_LONGITUDE_DIRECTION = EAST
  REFERENCE_LATITUDE = "N/A"
  REFERENCE_LONGITUDE = "N/A"
  SAMPLE_FIRST_PIXEL = 1
  SAMPLE_LAST_PIXEL = 8917
  SAMPLE_PROJECTION_OFFSET = 3741.25
  SECOND_STANDARD_PARALLEL = "N/A"
  WESTERNMOST_LONGITUDE = 246.08
END_OBJECT = IMAGE_MAP_PROJECTION
END
