PDS_VERSION_ID = PDS3
/* FILE DATA ELEMENTS */
RECORD_TYPE = UNDEFINED
/* POINTERS TO DATA OBJECTS */
^IMAGE = ("H4666_0000_S14.TIF")
/* IDENTIFICATION DATA ELEMENTS */
DATA_SET_ID = "MEX-M-HRSC-4-REFDR-MAPPROJECT-EXT1-V4.0"
DATA_SET_NAME = "MARS EXPRESS HRSC MAP PROJECTED REFDR EXTENSION1 V4.0"
DETECTOR_ID = MEX_HRSC_S1
EVENT_TYPE = "MARS-REGIONAL-MAPPING-Im-Gl-Eo"
INSTRUMENT_HOST_ID = MEX
INSTRUMENT_HOST_NAME = "MARS EXPRESS"
INSTRUMENT_ID = HRSC
INSTRUMENT_NAME = "HIGH RESOLUTION STEREO CAMERA"
MISSION_NAME = "MARS EXPRESS"
MISSION_PHASE_NAME = ME_Phase_9
PROCESSING_LEVEL_ID = 4
PRODUCT_CREATION_TIME = 2023-02-11T00:15:54.000Z
PRODUCT_ID = "H4666_0000_S14.TIF"
RELEASE_ID = 0007
REVISION_ID = 0000
/* QUALITY DATA ELEMENTS */
DATA_QUALITY_ID = 1
DATA_QUALITY_DESC = "Data calculated based on original SPICE kernels"
/* TIME DATA ELEMENTS */
SPACECRAFT_CLOCK_START_COUNT = "1/0135839833.07288"
SPACECRAFT_CLOCK_STOP_COUNT = "1/0135840155.34577"
START_TIME = 2007-08-22T05:17:17.108Z
STOP_TIME = 2007-08-22T05:20:30.161Z
/* ORBITAL DATA ELEMENTS */
ASCENDING_NODE_LONGITUDE = 130.82
MAXIMUM_RESOLUTION = 0.0342
FOOTPRINT_POINT_LATITUDE = (-77.2249,-77.3387,-77.4813,-77.5403, -77.5427,-77.4524,-77.0257,-76.5916, -76.1571,-75.712,-75.4893,-75.1553, -74.9273,-74.6987,-74.4703,-74.242, -74.0098,-73.7763,-73.5425,-73.3092, -73.0711,-72.8323,-72.5924,-72.353, -72.1097,-71.8664,-71.622,-71.2499, -70.9999,-70.7508,-70.4977,-70.2431, -69.9897,-69.6017,-69.3416,-68.9498, -68.6849,-68.4205,-68.1532,-67.884, -67.6147,-67.3403,-66.9295,-66.6525, -66.3697,-66.0879,-65.8036,-65.52, -65.2378,-65.093,-65.0272,-64.9922, -64.9624,-64.9357,-64.9019,-64.8696, -64.8368,-64.8342,-64.8337,-65.2644, -65.6876,-65.97,-66.2463,-66.5242, -66.9348,-67.2077,-67.4777,-67.745, -68.1451,-68.4082,-68.6706,-68.9316, -69.3175,-69.5747,-69.8285,-70.0811, -70.3332,-70.7057,-70.9523,-71.3221, -71.6848,-71.9267,-72.2851,-72.6404, -72.8776,-73.1051,-73.3399,-73.6882, -74.0342,-74.2576,-74.483,-74.7059, -74.9285,-75.2563,-75.694,-76.1275, -76.5503,-76.973,-77.0765,-77.2249)
FOOTPRINT_POINT_LONGITUDE = (246.081,247.91,250.664,252.041,252.101 ,252.377,252.763,253.128,253.47,253.797 ,253.953,254.177,254.325,254.468, 254.607,254.741,254.873,255.001,255.127 ,255.248,255.368,255.484,255.6,255.711, 255.818,255.923,256.027,256.179,256.278 ,256.373,256.467,256.559,256.647,256.78 ,256.866,256.99,257.072,257.151,257.228 ,257.304,257.378,257.451,257.557, 257.625,257.698,257.766,257.832,257.895 ,257.952,257.984,257.998,256.805, 256.015,255.403,254.705,254.097,253.534 ,253.49,253.475,253.359,253.239,253.157 ,253.073,252.987,252.854,252.763, 252.669,252.574,252.426,252.326,252.223 ,252.116,251.953,251.841,251.726, 251.609,251.488,251.303,251.175,250.977 ,250.774,250.633,250.415,250.191, 250.035,249.875,249.714,249.461,249.198 ,249.019,248.834,248.642,248.446, 248.146,247.721,247.274,246.801,246.298 ,246.17,246.081)
ORBIT_NUMBER = 4666
ORBITAL_ECCENTRICITY = 0.57
ORBITAL_INCLINATION = 86.69
ORBITAL_SEMIMAJOR_AXIS = 8535.93
PERIAPSIS_ALTITUDE = 295.69
PERIAPSIS_ARGUMENT_ANGLE = 257.05
PERIAPSIS_TIME = 2007-08-22T05:11:27.000Z
SPACECRAFT_ORIENTATION = (0.0,-1.0,0.0)
^MEX_ORIENTATION_DESC = "MEX_ORIENTATION_DESC.TXT"
SPACECRAFT_POINTING_MODE = ACROSSTRACK
^MEX_POINTING_DESC = "MEX_POINTING_DESC.TXT"
RIGHT_ASCENSION = -1e+32
DECLINATION = -1e+32
OFFSET_ANGLE = -0.15
SPACECRAFT_SOLAR_DISTANCE = 2.129e+08
TARGET_NAME = MARS
/* CAMERA DATA ELEMENTS */
DETECTOR_TEMPERATURE = 17.7588
FOCAL_PLANE_TEMPERATURE = 8.9911
INST_CMPRS_NAME = "DISCRETE COSINE TRANSFORMATION (DCT)"
INST_CMPRS_RATIO = 11.8427
INST_CMPRS_QUALITY = 0
INST_CMPRS_QUANTZ_TBL_ID = 0
INSTRUMENT_TEMPERATURE = 12.8652
LENS_TEMPERATURE = 9.195
MACROPIXEL_SIZE = 2
MISSING_FRAMES = 0
PIXEL_SUBSAMPLING_FLAG = N
SIGNAL_CHAIN_ID = 1
/* RADIOMETRIC DATA ELEMENTS */
BANDWIDTH = 180.0
CENTER_FILTER_WAVELENGTH = 677.0
RADIANCE_OFFSET = 6.43945
RADIANCE_SCALING_FACTOR = 0.0151148
REFLECTANCE_SCALING_FACTOR = 0.000357436
MEX:REFLECTANCE_OFFSET = 0.152281
/* IMAGE OBJECT DEFINITIONS */
OBJECT = IMAGE
  INTERCHANGE_FORMAT = BINARY
  LINES = 29957
  LINE_SAMPLES = 8917
  SAMPLE_TYPE = UNSIGNED_INTEGER
  SAMPLE_BITS = 8
  BANDS = 1
  BAND_STORAGE_TYPE = BAND_SEQUENTIAL
  MAXIMUM = 255
  MEAN = 143.907
  MINIMUM = 1
  STANDARD_DEVIATION = 47.1994
END_OBJECT = IMAGE
/* MAP OBJECT DEFINITIONS */
OBJECT = IMAGE_MAP_PROJECTION
  ^DATA_SET_MAP_PROJECTION_CATALOG= "DSMAP.CAT"
  A_AXIS_RADIUS = 3396.0
  B_AXIS_RADIUS = 3396.0
  C_AXIS_RADIUS = 3396.0
  CENTER_LATITUDE = 0.0
  CENTER_LONGITUDE = 253.0
  COORDINATE_SYSTEM_NAME = PLANETOGRAPHIC
  COORDINATE_SYSTEM_TYPE = "BODY-FIXED ROTATING"
  EASTERNMOST_LONGITUDE = 257.998
  FIRST_STANDARD_PARALLEL = "N/A"
  LINE_FIRST_PIXEL = 1
  LINE_LAST_PIXEL = 29957
  LINE_PROJECTION_OFFSET = -153655.75
  MAP_PROJECTION_ROTATION = 0.0
  MAP_PROJECTION_TYPE = SINUSOIDAL
  MAP_RESOLUTION = 2370.85521546667
  MAP_SCALE = 0.025
  MAXIMUM_LATITUDE = -64.83369999999999
  MINIMUM_LATITUDE = -77.5427
  POSITIVE_LONGITUDE_DIRECTION = EAST
  REFERENCE_LATITUDE = "N/A"
  REFERENCE_LONGITUDE = "N/A"
  SAMPLE_FIRST_PIXEL = 1
  SAMPLE_LAST_PIXEL = 8917
  SAMPLE_PROJECTION_OFFSET = 3741.25
  SECOND_STANDARD_PARALLEL = "N/A"
  WESTERNMOST_LONGITUDE = 246.081
END_OBJECT = IMAGE_MAP_PROJECTION
END
