PDS_VERSION_ID = PDS3
/* FILE DATA ELEMENTS */
RECORD_TYPE = UNDEFINED
/* POINTERS TO DATA OBJECTS */
^IMAGE = ("H4667_0000_RE4.TIF")
/* IDENTIFICATION DATA ELEMENTS */
DATA_SET_ID = "MEX-M-HRSC-4-REFDR-MAPPROJECT-EXT1-V4.0"
DATA_SET_NAME = "MARS EXPRESS HRSC MAP PROJECTED REFDR EXTENSION1 V4.0"
DETECTOR_ID = MEX_HRSC_RED
EVENT_TYPE = "MARS-REGIONAL-MAPPING-Te-Im-Fl"
INSTRUMENT_HOST_ID = MEX
INSTRUMENT_HOST_NAME = "MARS EXPRESS"
INSTRUMENT_ID = HRSC
INSTRUMENT_NAME = "HIGH RESOLUTION STEREO CAMERA"
MISSION_NAME = "MARS EXPRESS"
MISSION_PHASE_NAME = ME_Phase_9
PROCESSING_LEVEL_ID = 4
PRODUCT_CREATION_TIME = 2023-02-11T00:15:54.000Z
PRODUCT_ID = "H4667_0000_RE4.TIF"
RELEASE_ID = 0007
REVISION_ID = 0000
/* QUALITY DATA ELEMENTS */
DATA_QUALITY_ID = 1
DATA_QUALITY_DESC = "Data calculated based on original SPICE kernels"
/* TIME DATA ELEMENTS */
SPACECRAFT_CLOCK_START_COUNT = "1/0135864550.09097"
SPACECRAFT_CLOCK_STOP_COUNT = "1/0135865142.64862"
START_TIME = 2007-08-22T12:13:24.961Z
STOP_TIME = 2007-08-22T12:17:55.793Z
/* ORBITAL DATA ELEMENTS */
ASCENDING_NODE_LONGITUDE = 130.79
MAXIMUM_RESOLUTION = 0.1043
FOOTPRINT_POINT_LATITUDE = (-45.2195,-45.2287,-45.2347,-45.2395, -45.2431,-45.2455,-45.2468,-45.2469, -45.2457,-45.2433,-45.2397,-45.2349, -45.2262,-45.2253,-45.2805,-44.9956, -44.8063,-44.6176,-44.4292,-44.2418, -44.0557,-43.8676,-43.5964,-43.4141, -43.1409,-42.9596,-42.7789,-42.5986, -42.411,-42.225,-41.7876,-41.4398, -41.0937,-40.8352,-40.4928,-40.1537, -39.8183,-39.5694,-39.2406,-38.9147, -38.6709,-38.3481,-38.0276,-37.709, -37.3943,-37.0819,-36.772,-36.6951, -36.6552,-36.6717,-36.6906,-36.7039, -36.7214,-36.7303,-36.7392,-36.7553, -36.7677,-36.7785,-36.7887,-36.8029, -36.8103,-36.8159,-36.8251,-36.8315, -36.837,-36.8448,-36.8536,-36.8544, -36.8551,-37.23,-37.5323,-37.8376, -38.1456,-38.4622,-38.9364,-39.4084, -39.7302,-39.9747,-40.302,-40.5497, -40.8811,-41.2151,-41.5535,-41.986, -42.3332,-42.5121,-42.8608,-43.2166, -43.3953,-43.5751,-43.7558,-43.9367, -44.1192,-44.3029,-44.5748,-44.7586, -44.9422,-45.1283,-45.2241,-45.2195)
FOOTPRINT_POINT_LONGITUDE = (156.804,157.401,157.878,158.354, 158.832,159.309,159.847,160.325,160.804 ,161.283,161.764,162.245,162.911, 162.972,163.029,163.049,163.062,163.075 ,163.087,163.099,163.111,163.122, 163.144,163.157,163.175,163.187,163.199 ,163.21,163.217,163.223,163.255,163.28, 163.303,163.32,163.342,163.365,163.387, 163.404,163.427,163.45,163.467,163.488, 163.509,163.53,163.551,163.572,163.592, 163.597,163.6,163.176,162.679,162.325, 161.831,161.549,161.268,160.776,160.355 ,159.933,159.582,159.091,158.67,158.319 ,157.899,157.618,157.337,156.985, 156.422,156.351,156.326,156.356,156.38, 156.404,156.427,156.447,156.479,156.514 ,156.535,156.55,156.57,156.585,156.604, 156.624,156.642,156.661,156.677,156.683 ,156.699,156.713,156.72,156.727,156.733 ,156.739,156.745,156.75,156.76,156.766, 156.772,156.777,156.778,156.804)
ORBIT_NUMBER = 4667
ORBITAL_ECCENTRICITY = 0.57
ORBITAL_INCLINATION = 86.68
ORBITAL_SEMIMAJOR_AXIS = 8535.31
PERIAPSIS_ALTITUDE = 296.8
PERIAPSIS_ARGUMENT_ANGLE = 256.88
PERIAPSIS_TIME = 2007-08-22T11:54:39.000Z
SPACECRAFT_ORIENTATION = (0.0,-1.0,0.0)
^MEX_ORIENTATION_DESC = "MEX_ORIENTATION_DESC.TXT"
SPACECRAFT_POINTING_MODE = ACROSSTRACK
^MEX_POINTING_DESC = "MEX_POINTING_DESC.TXT"
RIGHT_ASCENSION = -1e+32
DECLINATION = -1e+32
OFFSET_ANGLE = -0.4
SPACECRAFT_SOLAR_DISTANCE = 2.12941e+08
TARGET_NAME = MARS
/* CAMERA DATA ELEMENTS */
DETECTOR_TEMPERATURE = 18.9822
FOCAL_PLANE_TEMPERATURE = 8.9911
INST_CMPRS_NAME = "DISCRETE COSINE TRANSFORMATION (DCT)"
INST_CMPRS_RATIO = 10.0295
INST_CMPRS_QUALITY = 0
INST_CMPRS_QUANTZ_TBL_ID = 0
INSTRUMENT_TEMPERATURE = 11.4379
LENS_TEMPERATURE = 9.3989
MACROPIXEL_SIZE = 2
MISSING_FRAMES = 0
PIXEL_SUBSAMPLING_FLAG = N
SIGNAL_CHAIN_ID = 3
/* RADIOMETRIC DATA ELEMENTS */
BANDWIDTH = 48.0
CENTER_FILTER_WAVELENGTH = 748.0
RADIANCE_OFFSET = 2.1897
RADIANCE_SCALING_FACTOR = 0.00246203
REFLECTANCE_SCALING_FACTOR = 0.000254766
MEX:REFLECTANCE_OFFSET = 0.226586
/* IMAGE OBJECT DEFINITIONS */
OBJECT = IMAGE
  INTERCHANGE_FORMAT = BINARY
  LINES = 5096
  LINE_SAMPLES = 2733
  SAMPLE_TYPE = UNSIGNED_INTEGER
  SAMPLE_BITS = 8
  BANDS = 1
  BAND_STORAGE_TYPE = BAND_SEQUENTIAL
  MAXIMUM = 255
  MEAN = 126.972
  MINIMUM = 3
  STANDARD_DEVIATION = 42.744
END_OBJECT = IMAGE
/* MAP OBJECT DEFINITIONS */
OBJECT = IMAGE_MAP_PROJECTION
  ^DATA_SET_MAP_PROJECTION_CATALOG= "DSMAP.CAT"
  A_AXIS_RADIUS = 3396.0
  B_AXIS_RADIUS = 3396.0
  C_AXIS_RADIUS = 3396.0
  CENTER_LATITUDE = 0.0
  CENTER_LONGITUDE = 160.0
  COORDINATE_SYSTEM_NAME = PLANETOGRAPHIC
  COORDINATE_SYSTEM_TYPE = "BODY-FIXED ROTATING"
  EASTERNMOST_LONGITUDE = 163.6
  FIRST_STANDARD_PARALLEL = "N/A"
  LINE_FIRST_PIXEL = 1
  LINE_LAST_PIXEL = 5096
  LINE_PROJECTION_OFFSET = -21769.75
  MAP_PROJECTION_ROTATION = 0.0
  MAP_PROJECTION_TYPE = SINUSOIDAL
  MAP_RESOLUTION = 592.713803866667
  MAP_SCALE = 0.1
  MAXIMUM_LATITUDE = -36.6552
  MINIMUM_LATITUDE = -45.2805
  POSITIVE_LONGITUDE_DIRECTION = EAST
  REFERENCE_LATITUDE = "N/A"
  REFERENCE_LONGITUDE = "N/A"
  SAMPLE_FIRST_PIXEL = 1
  SAMPLE_LAST_PIXEL = 2733
  SAMPLE_PROJECTION_OFFSET = 1461.25
  SECOND_STANDARD_PARALLEL = "N/A"
  WESTERNMOST_LONGITUDE = 156.326
END_OBJECT = IMAGE_MAP_PROJECTION
END
