PDS_VERSION_ID = PDS3
/* FILE DATA ELEMENTS */
RECORD_TYPE = UNDEFINED
/* POINTERS TO DATA OBJECTS */
^IMAGE = ("H4667_0000_S24.TIF")
/* IDENTIFICATION DATA ELEMENTS */
DATA_SET_ID = "MEX-M-HRSC-4-REFDR-MAPPROJECT-EXT1-V4.0"
DATA_SET_NAME = "MARS EXPRESS HRSC MAP PROJECTED REFDR EXTENSION1 V4.0"
DETECTOR_ID = MEX_HRSC_S2
EVENT_TYPE = "MARS-REGIONAL-MAPPING-Te-Im-Fl"
INSTRUMENT_HOST_ID = MEX
INSTRUMENT_HOST_NAME = "MARS EXPRESS"
INSTRUMENT_ID = HRSC
INSTRUMENT_NAME = "HIGH RESOLUTION STEREO CAMERA"
MISSION_NAME = "MARS EXPRESS"
MISSION_PHASE_NAME = ME_Phase_9
PROCESSING_LEVEL_ID = 4
PRODUCT_CREATION_TIME = 2023-02-11T00:15:54.000Z
PRODUCT_ID = "H4667_0000_S24.TIF"
RELEASE_ID = 0007
REVISION_ID = 0000
/* QUALITY DATA ELEMENTS */
DATA_QUALITY_ID = 1
DATA_QUALITY_DESC = "Data calculated based on original SPICE kernels"
/* TIME DATA ELEMENTS */
SPACECRAFT_CLOCK_START_COUNT = "1/0135864550.09097"
SPACECRAFT_CLOCK_STOP_COUNT = "1/0135865142.64862"
START_TIME = 2007-08-22T12:14:04.704Z
STOP_TIME = 2007-08-22T12:19:05.062Z
/* ORBITAL DATA ELEMENTS */
ASCENDING_NODE_LONGITUDE = 130.79
MAXIMUM_RESOLUTION = 0.1118
FOOTPRINT_POINT_LATITUDE = (-45.2156,-45.2224,-45.2269,-45.2298, -45.2316,-45.2323,-45.232,-45.2308, -45.2285,-45.2251,-45.2205,-45.2148, -45.2041,-45.2031,-45.2722,-45.0766, -44.8829,-44.6894,-44.4972,-44.3041, -44.1128,-43.8261,-43.5522,-43.3675, -43.1822,-42.998,-42.8143,-42.6292, -42.4363,-42.1574,-41.8074,-41.5413, -41.1079,-40.6767,-40.3353,-39.9114, -39.5805,-39.2534,-38.9292,-38.6075, -38.2875,-37.9706,-37.657,-37.3471, -37.0398,-36.7361,-36.6607,-36.6269, -36.6495,-36.6595,-36.6671,-36.6767, -36.6892,-36.7012,-36.7129,-36.7263, -36.7372,-36.7483,-36.7606,-36.7723, -36.7813,-36.7992,-36.813,-36.8231, -36.8403,-36.8591,-36.8715,-36.879, -36.8884,-36.8906,-36.8918,-37.1829, -37.4769,-37.7742,-38.0744,-38.5413, -38.8514,-39.1643,-39.4717,-39.7912, -40.1971,-40.5238,-40.937,-41.2693, -41.6096,-41.9578,-42.3082,-42.7509, -43.109,-43.471,-43.6539,-43.8369, -44.0203,-44.2051,-44.4836,-44.6741, -44.8568,-45.144,-45.2445,-45.2156)
FOOTPRINT_POINT_LONGITUDE = (156.689,157.318,157.884,158.387, 158.891,159.394,159.835,160.339,160.844 ,161.349,161.856,162.364,163.129, 163.193,163.254,163.27,163.286,163.301, 163.317,163.331,163.346,163.367,163.394 ,163.41,163.425,163.44,163.455,163.469, 163.477,163.494,163.528,163.55,163.588, 163.625,163.654,163.689,163.719,163.749 ,163.779,163.808,163.836,163.864, 163.892,163.92,163.948,163.976,163.983, 163.986,163.453,163.223,162.994,162.765 ,162.46,162.156,161.852,161.473,161.17, 160.867,160.565,160.187,159.885,159.355 ,158.977,158.524,157.919,157.314, 156.935,156.632,156.252,156.176,156.149 ,156.175,156.201,156.227,156.253, 156.287,156.312,156.336,156.362,156.385 ,156.413,156.436,156.463,156.485, 156.505,156.523,156.541,156.563,156.58, 156.596,156.603,156.611,156.618,156.626 ,156.637,156.642,156.651,156.659,156.66 ,156.689)
ORBIT_NUMBER = 4667
ORBITAL_ECCENTRICITY = 0.57
ORBITAL_INCLINATION = 86.68
ORBITAL_SEMIMAJOR_AXIS = 8535.31
PERIAPSIS_ALTITUDE = 296.8
PERIAPSIS_ARGUMENT_ANGLE = 256.88
PERIAPSIS_TIME = 2007-08-22T11:54:39.000Z
SPACECRAFT_ORIENTATION = (0.0,-1.0,0.0)
^MEX_ORIENTATION_DESC = "MEX_ORIENTATION_DESC.TXT"
SPACECRAFT_POINTING_MODE = ACROSSTRACK
^MEX_POINTING_DESC = "MEX_POINTING_DESC.TXT"
RIGHT_ASCENSION = -1e+32
DECLINATION = -1e+32
OFFSET_ANGLE = -0.4
SPACECRAFT_SOLAR_DISTANCE = 2.12941e+08
TARGET_NAME = MARS
/* CAMERA DATA ELEMENTS */
DETECTOR_TEMPERATURE = 18.9822
FOCAL_PLANE_TEMPERATURE = 8.9911
INST_CMPRS_NAME = "DISCRETE COSINE TRANSFORMATION (DCT)"
INST_CMPRS_RATIO = 11.8543
INST_CMPRS_QUALITY = 0
INST_CMPRS_QUANTZ_TBL_ID = 0
INSTRUMENT_TEMPERATURE = 11.4379
LENS_TEMPERATURE = 9.3989
MACROPIXEL_SIZE = 2
MISSING_FRAMES = 0
PIXEL_SUBSAMPLING_FLAG = N
SIGNAL_CHAIN_ID = 1
/* RADIOMETRIC DATA ELEMENTS */
BANDWIDTH = 178.0
CENTER_FILTER_WAVELENGTH = 679.0
RADIANCE_OFFSET = 9.4264
RADIANCE_SCALING_FACTOR = 0.00941378
REFLECTANCE_SCALING_FACTOR = 0.000226058
MEX:REFLECTANCE_OFFSET = 0.226361
/* IMAGE OBJECT DEFINITIONS */
OBJECT = IMAGE
  INTERCHANGE_FORMAT = BINARY
  LINES = 5096
  LINE_SAMPLES = 2733
  SAMPLE_TYPE = UNSIGNED_INTEGER
  SAMPLE_BITS = 8
  BANDS = 1
  BAND_STORAGE_TYPE = BAND_SEQUENTIAL
  MAXIMUM = 247
  MEAN = 122.081
  MINIMUM = 8
  STANDARD_DEVIATION = 36.9002
END_OBJECT = IMAGE
/* MAP OBJECT DEFINITIONS */
OBJECT = IMAGE_MAP_PROJECTION
  ^DATA_SET_MAP_PROJECTION_CATALOG= "DSMAP.CAT"
  A_AXIS_RADIUS = 3396.0
  B_AXIS_RADIUS = 3396.0
  C_AXIS_RADIUS = 3396.0
  CENTER_LATITUDE = 0.0
  CENTER_LONGITUDE = 160.0
  COORDINATE_SYSTEM_NAME = PLANETOGRAPHIC
  COORDINATE_SYSTEM_TYPE = "BODY-FIXED ROTATING"
  EASTERNMOST_LONGITUDE = 163.986
  FIRST_STANDARD_PARALLEL = "N/A"
  LINE_FIRST_PIXEL = 1
  LINE_LAST_PIXEL = 5096
  LINE_PROJECTION_OFFSET = -21769.75
  MAP_PROJECTION_ROTATION = 0.0
  MAP_PROJECTION_TYPE = SINUSOIDAL
  MAP_RESOLUTION = 592.713803866667
  MAP_SCALE = 0.1
  MAXIMUM_LATITUDE = -36.6269
  MINIMUM_LATITUDE = -45.2722
  POSITIVE_LONGITUDE_DIRECTION = EAST
  REFERENCE_LATITUDE = "N/A"
  REFERENCE_LONGITUDE = "N/A"
  SAMPLE_FIRST_PIXEL = 1
  SAMPLE_LAST_PIXEL = 2733
  SAMPLE_PROJECTION_OFFSET = 1461.25
  SECOND_STANDARD_PARALLEL = "N/A"
  WESTERNMOST_LONGITUDE = 156.149
END_OBJECT = IMAGE_MAP_PROJECTION
END
