PDS_VERSION_ID = PDS3
/* FILE DATA ELEMENTS */
RECORD_TYPE = UNDEFINED
/* POINTERS TO DATA OBJECTS */
^IMAGE = ("H4668_0000_GR4.TIF")
/* IDENTIFICATION DATA ELEMENTS */
DATA_SET_ID = "MEX-M-HRSC-4-REFDR-MAPPROJECT-EXT1-V4.0"
DATA_SET_NAME = "MARS EXPRESS HRSC MAP PROJECTED REFDR EXTENSION1 V4.0"
DETECTOR_ID = MEX_HRSC_GREEN
EVENT_TYPE = "MARS-REGIONAL-MAPPING-Gl-Pf-Eo"
INSTRUMENT_HOST_ID = MEX
INSTRUMENT_HOST_NAME = "MARS EXPRESS"
INSTRUMENT_ID = HRSC
INSTRUMENT_NAME = "HIGH RESOLUTION STEREO CAMERA"
MISSION_NAME = "MARS EXPRESS"
MISSION_PHASE_NAME = ME_Phase_9
PROCESSING_LEVEL_ID = 4
PRODUCT_CREATION_TIME = 2023-02-11T00:15:54.000Z
PRODUCT_ID = "H4668_0000_GR4.TIF"
RELEASE_ID = 0007
REVISION_ID = 0000
/* QUALITY DATA ELEMENTS */
DATA_QUALITY_ID = 1
DATA_QUALITY_DESC = "Data calculated based on original SPICE kernels"
/* TIME DATA ELEMENTS */
SPACECRAFT_CLOCK_START_COUNT = "1/0135888155.08360"
SPACECRAFT_CLOCK_STOP_COUNT = "1/0135888434.15864"
START_TIME = 2007-08-22T18:43:07.595Z
STOP_TIME = 2007-08-22T18:46:09.990Z
/* ORBITAL DATA ELEMENTS */
ASCENDING_NODE_LONGITUDE = 130.77
MAXIMUM_RESOLUTION = 0.0611
FOOTPRINT_POINT_LATITUDE = (-80.9662,-81.1056,-81.2859,-81.4501, -81.5401,-81.5447,-81.531,-81.1443, -80.7557,-80.3652,-79.9732,-79.4821, -79.1825,-78.9798,-78.7767,-78.5735, -78.3702,-78.1616,-77.8482,-77.6393, -77.4303,-77.2158,-77.0014,-76.7868, -76.5725,-76.354,-76.1343,-75.9147, -75.6949,-75.4707,-75.2459,-75.0215, -74.681,-74.4512,-74.1068,-73.7569, -73.5223,-73.2878,-73.049,-72.8096, -72.5705,-72.3281,-72.0845,-71.8409, -71.5941,-71.3455,-71.0974,-70.8459, -70.7195,-70.5956,-70.5507,-70.5155, -70.4657,-70.4018,-70.336,-70.2644, -70.2605,-70.2604,-70.51,-70.7585, -71.0036,-71.2488,-71.4924,-71.7328, -71.9736,-72.2123,-72.448,-72.6837, -72.9187,-73.1495,-73.3804,-73.725, -73.9512,-74.1771,-74.5141,-74.7351, -74.9555,-75.2836,-75.4977,-75.7124, -75.9275,-76.141,-76.3502,-76.5599, -76.7687,-77.0805,-77.2838,-77.4869, -77.6897,-77.892,-78.1877,-78.5797, -78.8714,-79.346,-79.6278,-80.0011, -80.3728,-80.741,-80.8324,-80.9662)
FOOTPRINT_POINT_LONGITUDE = (36.6364,38.2059,40.4411,42.7308, 44.1179,44.1914,44.2548,45.3346,46.3203 ,47.2239,48.0547,49.0012,49.5335, 49.8762,50.2065,50.5243,50.8304,51.133, 51.5668,51.843,52.1094,52.3737,52.6281, 52.8745,53.1118,53.3457,53.573,53.7928, 54.006,54.2162,54.4201,54.6168,54.9042, 55.0906,55.3595,55.6202,55.7886,55.9521 ,56.1139,56.2711,56.4234,56.5733, 56.7193,56.8612,57.0011,57.1385,57.2713 ,57.4021,57.4665,57.5287,56.656,56.0231 ,55.1951,54.2196,53.2933,52.3649, 52.3157,52.2987,52.1439,51.9854,51.8251 ,51.6591,51.4898,51.3174,51.1404, 50.9575,50.7723,50.5811,50.3855,50.1867 ,49.9818,49.6648,49.4497,49.2266, 48.8788,48.6441,48.3981,48.0052,47.7388 ,47.4679,47.1905,46.9046,46.6129, 46.3149,46.0027,45.528,45.1975,44.856, 44.5022,44.1359,43.5778,42.7796,42.1465 ,41.0428,40.3202,39.2899,38.1838, 36.9843,36.6685,36.6364)
ORBIT_NUMBER = 4668
ORBITAL_ECCENTRICITY = 0.57
ORBITAL_INCLINATION = 86.69
ORBITAL_SEMIMAJOR_AXIS = 8534.17
PERIAPSIS_ALTITUDE = 295.53
PERIAPSIS_ARGUMENT_ANGLE = 256.73
PERIAPSIS_TIME = 2007-08-22T18:37:52.000Z
SPACECRAFT_ORIENTATION = (0.0,-1.0,0.0)
^MEX_ORIENTATION_DESC = "MEX_ORIENTATION_DESC.TXT"
SPACECRAFT_POINTING_MODE = ACROSSTRACK
^MEX_POINTING_DESC = "MEX_POINTING_DESC.TXT"
RIGHT_ASCENSION = -1e+32
DECLINATION = -1e+32
OFFSET_ANGLE = 0.62
SPACECRAFT_SOLAR_DISTANCE = 2.12982e+08
TARGET_NAME = MARS
/* CAMERA DATA ELEMENTS */
DETECTOR_TEMPERATURE = 18.5744
FOCAL_PLANE_TEMPERATURE = 9.3989
INST_CMPRS_NAME = "DISCRETE COSINE TRANSFORMATION (DCT)"
INST_CMPRS_RATIO = 18.4625
INST_CMPRS_QUALITY = 0
INST_CMPRS_QUANTZ_TBL_ID = 0
INSTRUMENT_TEMPERATURE = 10.2145
LENS_TEMPERATURE = 10.0106
MACROPIXEL_SIZE = 4
MISSING_FRAMES = 0
PIXEL_SUBSAMPLING_FLAG = N
SIGNAL_CHAIN_ID = 2
/* RADIOMETRIC DATA ELEMENTS */
BANDWIDTH = 88.0
CENTER_FILTER_WAVELENGTH = 538.0
RADIANCE_OFFSET = 1.78879
RADIANCE_SCALING_FACTOR = 0.00350743
REFLECTANCE_SCALING_FACTOR = 0.000136983
MEX:REFLECTANCE_OFFSET = 0.0698615
/* IMAGE OBJECT DEFINITIONS */
OBJECT = IMAGE
  INTERCHANGE_FORMAT = BINARY
  LINES = 13364
  LINE_SAMPLES = 5556
  SAMPLE_TYPE = UNSIGNED_INTEGER
  SAMPLE_BITS = 8
  BANDS = 1
  BAND_STORAGE_TYPE = BAND_SEQUENTIAL
  MAXIMUM = 255
  MEAN = 144.659
  MINIMUM = 1
  STANDARD_DEVIATION = 47.511
END_OBJECT = IMAGE
/* MAP OBJECT DEFINITIONS */
OBJECT = IMAGE_MAP_PROJECTION
  ^DATA_SET_MAP_PROJECTION_CATALOG= "DSMAP.CAT"
  A_AXIS_RADIUS = 3396.0
  B_AXIS_RADIUS = 3396.0
  C_AXIS_RADIUS = 3396.0
  CENTER_LATITUDE = 0.0
  CENTER_LONGITUDE = 50.0
  COORDINATE_SYSTEM_NAME = PLANETOGRAPHIC
  COORDINATE_SYSTEM_TYPE = "BODY-FIXED ROTATING"
  EASTERNMOST_LONGITUDE = 57.5287
  FIRST_STANDARD_PARALLEL = "N/A"
  LINE_FIRST_PIXEL = 1
  LINE_LAST_PIXEL = 13364
  LINE_PROJECTION_OFFSET = -83294.625
  MAP_PROJECTION_ROTATION = 0.0
  MAP_PROJECTION_TYPE = SINUSOIDAL
  MAP_RESOLUTION = 1185.42760773333
  MAP_SCALE = 0.05
  MAXIMUM_LATITUDE = -70.2604
  MINIMUM_LATITUDE = -81.54470000000001
  POSITIVE_LONGITUDE_DIRECTION = EAST
  REFERENCE_LATITUDE = "N/A"
  REFERENCE_LONGITUDE = "N/A"
  SAMPLE_FIRST_PIXEL = 1
  SAMPLE_LAST_PIXEL = 5556
  SAMPLE_PROJECTION_OFFSET = 2563.125
  SECOND_STANDARD_PARALLEL = "N/A"
  WESTERNMOST_LONGITUDE = 36.6364
END_OBJECT = IMAGE_MAP_PROJECTION
END
