PDS_VERSION_ID = PDS3
/* FILE DATA ELEMENTS */
RECORD_TYPE = UNDEFINED
/* POINTERS TO DATA OBJECTS */
^IMAGE = ("H4672_0000_BL4.TIF")
/* IDENTIFICATION DATA ELEMENTS */
DATA_SET_ID = "MEX-M-HRSC-4-REFDR-MAPPROJECT-EXT1-V4.0"
DATA_SET_NAME = "MARS EXPRESS HRSC MAP PROJECTED REFDR EXTENSION1 V4.0"
DETECTOR_ID = MEX_HRSC_BLUE
EVENT_TYPE = "MARS-REGIONAL-MAPPING-Gl-Eo-La"
INSTRUMENT_HOST_ID = MEX
INSTRUMENT_HOST_NAME = "MARS EXPRESS"
INSTRUMENT_ID = HRSC
INSTRUMENT_NAME = "HIGH RESOLUTION STEREO CAMERA"
MISSION_NAME = "MARS EXPRESS"
MISSION_PHASE_NAME = ME_Phase_9
PROCESSING_LEVEL_ID = 4
PRODUCT_CREATION_TIME = 2023-02-11T00:15:54.000Z
PRODUCT_ID = "H4672_0000_BL4.TIF"
RELEASE_ID = 0007
REVISION_ID = 0000
/* QUALITY DATA ELEMENTS */
DATA_QUALITY_ID = 1
DATA_QUALITY_DESC = "Data calculated based on original SPICE kernels"
/* TIME DATA ELEMENTS */
SPACECRAFT_CLOCK_START_COUNT = "1/0135984848.08267"
SPACECRAFT_CLOCK_STOP_COUNT = "1/0135985004.05827"
START_TIME = 2007-08-23T21:34:48.371Z
STOP_TIME = 2007-08-23T21:36:13.154Z
/* ORBITAL DATA ELEMENTS */
ASCENDING_NODE_LONGITUDE = 130.69
MAXIMUM_RESOLUTION = 0.0266
FOOTPRINT_POINT_LATITUDE = (-85.1259,-85.3022,-85.4654,-85.626, -85.7837,-85.9385,-86.1371,-86.1464, -86.1604,-86.0818,-85.9995,-85.9426, -85.8547,-85.7639,-85.6061,-85.4746, -85.3391,-85.2349,-85.0573,-84.9115, -84.8267,-84.7375,-84.6473,-84.5563, -84.4654,-84.373,-84.2796,-84.1384, -83.9957,-83.8997,-83.8032,-83.7061, -83.5597,-83.4615,-83.3133,-83.1641, -83.0142,-82.9138,-82.8131,-82.7116, -82.6103,-82.5088,-82.4067,-82.3047, -82.2023,-82.0996,-81.9968,-81.9456, -81.914,-81.8377,-81.7566,-81.6712, -81.5936,-81.5442,-81.4679,-81.4089, -81.3071,-81.3002,-81.2981,-81.4432, -81.5394,-81.6352,-81.7307,-81.8258, -81.9202,-82.0144,-82.1082,-82.2019, -82.2948,-82.3871,-82.4789,-82.5701, -82.6608,-82.7509,-82.8847,-82.9732, -83.061,-83.1481,-83.2772,-83.3623, -83.4465,-83.5714,-83.6536,-83.7345, -83.8145,-83.8937,-83.9715,-84.0432, -84.1694,-84.293,-84.4122,-84.5274, -84.6394,-84.7452,-84.8466,-84.9424, -85.0104,-85.0538,-85.075,-85.1259)
FOOTPRINT_POINT_LONGITUDE = (329.437,330.478,331.523,332.639, 333.828,335.101,336.912,337.003,336.867 ,338.664,340.389,341.498,343.103, 344.638,347.05,348.854,350.554,351.763, 353.66,355.081,355.858,356.639,357.395, 358.124,358.826,359.507,360.166,361.114 ,362.017,362.595,363.154,363.696, 364.478,364.979,365.702,366.394,367.055 ,367.479,367.892,368.293,368.682, 369.061,369.429,369.787,370.135,370.475 ,370.805,370.967,371.065,369.78,368.51, 367.258,366.188,365.538,364.572,363.855 ,362.675,362.597,362.568,362.005, 361.617,361.219,360.811,360.393,359.957 ,359.518,359.069,358.616,358.144, 357.659,357.16,356.65,356.126,355.588, 354.753,354.179,353.591,352.989,352.051 ,351.406,350.743,349.719,349.014, 348.286,347.539,346.776,345.989,345.248 ,343.851,342.408,340.889,339.303, 337.665,335.935,334.14,332.27,330.817, 329.825,329.323,329.437)
ORBIT_NUMBER = 4672
ORBITAL_ECCENTRICITY = 0.57
ORBITAL_INCLINATION = 86.68
ORBITAL_SEMIMAJOR_AXIS = 8535.58
PERIAPSIS_ALTITUDE = 296.27
PERIAPSIS_ARGUMENT_ANGLE = 256.01
PERIAPSIS_TIME = 2007-08-23T21:30:40.000Z
SPACECRAFT_ORIENTATION = (0.0,-1.0,0.0)
^MEX_ORIENTATION_DESC = "MEX_ORIENTATION_DESC.TXT"
SPACECRAFT_POINTING_MODE = ACROSSTRACK
^MEX_POINTING_DESC = "MEX_POINTING_DESC.TXT"
RIGHT_ASCENSION = -1e+32
DECLINATION = -1e+32
OFFSET_ANGLE = 0.5
SPACECRAFT_SOLAR_DISTANCE = 2.13149e+08
TARGET_NAME = MARS
/* CAMERA DATA ELEMENTS */
DETECTOR_TEMPERATURE = 18.3705
FOCAL_PLANE_TEMPERATURE = 8.5833
INST_CMPRS_NAME = "DISCRETE COSINE TRANSFORMATION (DCT)"
INST_CMPRS_RATIO = 9.368
INST_CMPRS_QUALITY = 0
INST_CMPRS_QUANTZ_TBL_ID = 0
INSTRUMENT_TEMPERATURE = 11.6418
LENS_TEMPERATURE = 8.9911
MACROPIXEL_SIZE = 2
MISSING_FRAMES = 0
PIXEL_SUBSAMPLING_FLAG = N
SIGNAL_CHAIN_ID = 2
/* RADIOMETRIC DATA ELEMENTS */
BANDWIDTH = 76.0
CENTER_FILTER_WAVELENGTH = 444.0
RADIANCE_OFFSET = 0.516115
RADIANCE_SCALING_FACTOR = 0.0113519
REFLECTANCE_SCALING_FACTOR = 0.000529897
MEX:REFLECTANCE_OFFSET = 0.0240918
/* IMAGE OBJECT DEFINITIONS */
OBJECT = IMAGE
  INTERCHANGE_FORMAT = BINARY
  LINES = 11534
  LINE_SAMPLES = 10744
  SAMPLE_TYPE = UNSIGNED_INTEGER
  SAMPLE_BITS = 8
  BANDS = 1
  BAND_STORAGE_TYPE = BAND_SEQUENTIAL
  MAXIMUM = 254
  MEAN = 97.6299
  MINIMUM = 1
  STANDARD_DEVIATION = 73.1722
END_OBJECT = IMAGE
/* MAP OBJECT DEFINITIONS */
OBJECT = IMAGE_MAP_PROJECTION
  ^DATA_SET_MAP_PROJECTION_CATALOG= "DSMAP.CAT"
  A_AXIS_RADIUS = 3396.0
  B_AXIS_RADIUS = 3396.0
  C_AXIS_RADIUS = 3396.0
  CENTER_LATITUDE = 0.0
  CENTER_LONGITUDE = 354.0
  COORDINATE_SYSTEM_NAME = PLANETOGRAPHIC
  COORDINATE_SYSTEM_TYPE = "BODY-FIXED ROTATING"
  EASTERNMOST_LONGITUDE = 11.065
  FIRST_STANDARD_PARALLEL = "N/A"
  LINE_FIRST_PIXEL = 1
  LINE_LAST_PIXEL = 11534
  LINE_PROJECTION_OFFSET = -192757.25
  MAP_PROJECTION_ROTATION = 0.0
  MAP_PROJECTION_TYPE = SINUSOIDAL
  MAP_RESOLUTION = 2370.85521546667
  MAP_SCALE = 0.025
  MAXIMUM_LATITUDE = -81.29810000000001
  MINIMUM_LATITUDE = -86.1604
  POSITIVE_LONGITUDE_DIRECTION = EAST
  REFERENCE_LATITUDE = "N/A"
  REFERENCE_LONGITUDE = "N/A"
  SAMPLE_FIRST_PIXEL = 1
  SAMPLE_LAST_PIXEL = 10744
  SAMPLE_PROJECTION_OFFSET = 5072.75
  SECOND_STANDARD_PARALLEL = "N/A"
  WESTERNMOST_LONGITUDE = -30.677
END_OBJECT = IMAGE_MAP_PROJECTION
END
