PDS_VERSION_ID = PDS3
/* FILE DATA ELEMENTS */
RECORD_TYPE = UNDEFINED
/* POINTERS TO DATA OBJECTS */
^IMAGE = ("H4672_0005_SR4.TIF")
/* IDENTIFICATION DATA ELEMENTS */
DATA_SET_ID = "MEX-M-HRSC-4-REFDR-MAPPROJECT-EXT1-V4.0"
DATA_SET_NAME = "MARS EXPRESS HRSC MAP PROJECTED REFDR EXTENSION1 V4.0"
DETECTOR_ID = MEX_HRSC_SRC
EVENT_TYPE = "MARS-REGIONAL-MAPPING-Gl-Eo-La"
INSTRUMENT_HOST_ID = MEX
INSTRUMENT_HOST_NAME = "MARS EXPRESS"
INSTRUMENT_ID = HRSC
INSTRUMENT_NAME = "HIGH RESOLUTION STEREO CAMERA"
MISSION_NAME = "MARS EXPRESS"
MISSION_PHASE_NAME = ME_Phase_9
PROCESSING_LEVEL_ID = 4
PRODUCT_CREATION_TIME = 2023-02-11T00:15:54.000Z
PRODUCT_ID = "H4672_0005_SR4.TIF"
RELEASE_ID = 0007
REVISION_ID = 0000
/* QUALITY DATA ELEMENTS */
DATA_QUALITY_ID = 1
DATA_QUALITY_DESC = "Data calculated based on original SPICE kernels"
/* TIME DATA ELEMENTS */
SPACECRAFT_CLOCK_START_COUNT = "1/0135984848.08267"
SPACECRAFT_CLOCK_STOP_COUNT = "1/0135985004.05827"
IMAGE_TIME = 2007-08-23T21:35:17.894Z
START_TIME = 2007-08-23T21:35:17.891Z
STOP_TIME = 2007-08-23T21:35:17.896Z
/* ORBITAL DATA ELEMENTS */
ASCENDING_NODE_LONGITUDE = 130.69
MAXIMUM_RESOLUTION = 0.003329
FOOTPRINT_POINT_LATITUDE = (-84.2018,-84.2049,-84.2075,-84.2092, -84.2109,-84.213,-84.2154,-84.2167, -84.2183,-84.2198,-84.2214,-84.2235, -84.225,-84.2268,-84.2292,-84.2306, -84.2328,-84.2347,-84.2362,-84.2385, -84.2411,-84.2432,-84.2446,-84.2446, -84.2446,-84.2424,-84.2409,-84.2394, -84.2379,-84.2364,-84.2349,-84.2334, -84.2319,-84.2304,-84.2289,-84.2274, -84.2259,-84.2244,-84.2229,-84.2214, -84.2199,-84.2184,-84.2169,-84.2154, -84.2139,-84.2124,-84.2109,-84.2094, -84.2071,-84.2067,-84.2065,-84.2046, -84.2026,-84.2,-84.1984,-84.1959, -84.1943,-84.1926,-84.1898,-84.1885, -84.1863,-84.1835,-84.1819,-84.18, -84.1773,-84.1741,-84.1728,-84.1709, -84.1689,-84.1659,-84.1639,-84.1639, -84.1639,-84.1654,-84.1669,-84.1684, -84.1699,-84.1714,-84.1729,-84.1744, -84.1759,-84.1774,-84.1789,-84.1804, -84.1818,-84.1833,-84.1848,-84.1863, -84.1878,-84.1893,-84.1908,-84.1923, -84.1938,-84.1953,-84.1967,-84.1982, -84.1997,-84.2012,-84.2015,-84.2018)
FOOTPRINT_POINT_LONGITUDE = (352.995,352.969,352.947,352.932, 352.917,352.899,352.879,352.867,352.854 ,352.841,352.827,352.809,352.796,352.78 ,352.759,352.747,352.728,352.711, 352.698,352.678,352.656,352.637,352.625 ,352.625,352.624,352.599,352.582, 352.565,352.548,352.531,352.514,352.497 ,352.48,352.464,352.447,352.43,352.413, 352.396,352.379,352.362,352.345,352.328 ,352.311,352.295,352.278,352.261, 352.244,352.227,352.202,352.198,352.195 ,352.212,352.229,352.252,352.267, 352.289,352.302,352.317,352.342,352.354 ,352.373,352.397,352.411,352.428, 352.451,352.479,352.49,352.506,352.524, 352.55,352.567,352.567,352.568,352.585, 352.601,352.618,352.634,352.651,352.668 ,352.685,352.702,352.719,352.735, 352.752,352.769,352.786,352.803,352.82, 352.837,352.853,352.87,352.887,352.904, 352.921,352.938,352.955,352.971,352.988 ,352.993,352.995)
ORBIT_NUMBER = 4672
ORBITAL_ECCENTRICITY = 0.57
ORBITAL_INCLINATION = 86.68
ORBITAL_SEMIMAJOR_AXIS = 8535.58
PERIAPSIS_ALTITUDE = 296.27
PERIAPSIS_ARGUMENT_ANGLE = 256.01
PERIAPSIS_TIME = 2007-08-23T21:30:40.000Z
SPACECRAFT_ORIENTATION = (0.0,-1.0,0.0)
^MEX_ORIENTATION_DESC = "MEX_ORIENTATION_DESC.TXT"
SPACECRAFT_POINTING_MODE = ACROSSTRACK
^MEX_POINTING_DESC = "MEX_POINTING_DESC.TXT"
RIGHT_ASCENSION = -1e+32
DECLINATION = -1e+32
OFFSET_ANGLE = 0.5
SPACECRAFT_SOLAR_DISTANCE = 2.13149e+08
TARGET_NAME = MARS
/* CAMERA DATA ELEMENTS */
BUFFER_MODE_ID = BUFFER_8
EXPOSURE_DURATION = 5.04
INST_CMPRS_NAME = NONE
INST_CMPRS_RATIO = 1.0
INST_CMPRS_QUALITY = -2147483648
INST_CMPRS_QUANTZ_TBL_ID = -2147483648
INSTRUMENT_TEMPERATURE = 6.99499
MISSING_FRAMES = 0
START_BIT = 0
/* RADIOMETRIC DATA ELEMENTS */
BANDWIDTH = 250.0
CENTER_FILTER_WAVELENGTH = 600.0
RADIANCE_OFFSET = -9.99e+31
RADIANCE_SCALING_FACTOR = -9.99e+31
REFLECTANCE_SCALING_FACTOR = -9.99e+31
MEX:REFLECTANCE_OFFSET = -9.99e+31
/* IMAGE OBJECT DEFINITIONS */
OBJECT = IMAGE
  INTERCHANGE_FORMAT = BINARY
  LINES = 2059
  LINE_SAMPLES = 2060
  SAMPLE_TYPE = UNSIGNED_INTEGER
  SAMPLE_BITS = 8
  BANDS = 1
  BAND_STORAGE_TYPE = BAND_SEQUENTIAL
  MAXIMUM = 254
  MEAN = 193.974
  MINIMUM = 2
  STANDARD_DEVIATION = 26.6538
END_OBJECT = IMAGE
/* MAP OBJECT DEFINITIONS */
OBJECT = IMAGE_MAP_PROJECTION
  ^DATA_SET_MAP_PROJECTION_CATALOG= "DSMAP.CAT"
  A_AXIS_RADIUS = 3396.19
  B_AXIS_RADIUS = 3396.19
  C_AXIS_RADIUS = 3396.19
  CENTER_LATITUDE = 0.0
  CENTER_LONGITUDE = 353.0
  COORDINATE_SYSTEM_NAME = PLANETOGRAPHIC
  COORDINATE_SYSTEM_TYPE = "BODY-FIXED ROTATING"
  EASTERNMOST_LONGITUDE = 352.995
  FIRST_STANDARD_PARALLEL = "N/A"
  LINE_FIRST_PIXEL = 1
  LINE_LAST_PIXEL = 2059
  LINE_PROJECTION_OFFSET = -1989487.0
  MAP_PROJECTION_ROTATION = 0.0
  MAP_PROJECTION_TYPE = SINUSOIDAL
  MAP_RESOLUTION = 23709.8786048756
  MAP_SCALE = 0.0025
  MAXIMUM_LATITUDE = -84.1639
  MINIMUM_LATITUDE = -84.24460000000001
  POSITIVE_LONGITUDE_DIRECTION = EAST
  REFERENCE_LATITUDE = "N/A"
  REFERENCE_LONGITUDE = "N/A"
  SAMPLE_FIRST_PIXEL = 1
  SAMPLE_LAST_PIXEL = 2060
  SAMPLE_PROJECTION_OFFSET = 2569.0
  SECOND_STANDARD_PARALLEL = "N/A"
  WESTERNMOST_LONGITUDE = 352.195
END_OBJECT = IMAGE_MAP_PROJECTION
END
