PDS_VERSION_ID = PDS3
/* FILE DATA ELEMENTS */
RECORD_TYPE = UNDEFINED
/* POINTERS TO DATA OBJECTS */
^IMAGE = ("H4678_0000_BL4.TIF")
/* IDENTIFICATION DATA ELEMENTS */
DATA_SET_ID = "MEX-M-HRSC-4-REFDR-MAPPROJECT-EXT1-V4.0"
DATA_SET_NAME = "MARS EXPRESS HRSC MAP PROJECTED REFDR EXTENSION1 V4.0"
DETECTOR_ID = MEX_HRSC_BLUE
EVENT_TYPE = "MARS-REGIONAL-MAPPING-Gl-Eo-La"
INSTRUMENT_HOST_ID = MEX
INSTRUMENT_HOST_NAME = "MARS EXPRESS"
INSTRUMENT_ID = HRSC
INSTRUMENT_NAME = "HIGH RESOLUTION STEREO CAMERA"
MISSION_NAME = "MARS EXPRESS"
MISSION_PHASE_NAME = ME_Phase_9
PROCESSING_LEVEL_ID = 4
PRODUCT_CREATION_TIME = 2023-02-11T00:15:54.000Z
PRODUCT_ID = "H4678_0000_BL4.TIF"
RELEASE_ID = 0007
REVISION_ID = 0000
/* QUALITY DATA ELEMENTS */
DATA_QUALITY_ID = 1
DATA_QUALITY_DESC = "Data calculated based on original SPICE kernels"
/* TIME DATA ELEMENTS */
SPACECRAFT_CLOCK_START_COUNT = "1/0136130080.08236"
SPACECRAFT_CLOCK_STOP_COUNT = "1/0136130429.37691"
START_TIME = 2007-08-25T13:55:24.351Z
STOP_TIME = 2007-08-25T13:59:35.490Z
/* ORBITAL DATA ELEMENTS */
ASCENDING_NODE_LONGITUDE = 130.57
MAXIMUM_RESOLUTION = 0.0621
FOOTPRINT_POINT_LATITUDE = (-82.864,-83.1126,-83.3099,-83.4989, -83.504,-83.5304,-83.1746,-82.814, -82.2062,-81.7111,-81.4595,-81.2096, -80.9538,-80.693,-80.4325,-80.1719, -79.9059,-79.6384,-79.3708,-78.9626, -78.6885,-78.4152,-78.1337,-77.853, -77.4289,-77.142,-76.8554,-76.5633, -76.1244,-75.6781,-75.3801,-74.9252, -74.6214,-74.3125,-74.0029,-73.6898, -73.3756,-72.8978,-72.5783,-72.2533, -71.7633,-71.4332,-71.0994,-70.764, -70.4242,-69.9106,-69.5654,-69.2154, -69.0407,-68.9856,-68.9471,-68.9103, -68.8499,-68.8049,-68.713,-68.7096, -68.7098,-69.0563,-69.5715,-69.9116, -70.2481,-70.7479,-71.0785,-71.4045, -71.7288,-72.0497,-72.3688,-72.6839, -72.9978,-73.3079,-73.6176,-73.9217, -74.2265,-74.5257,-74.974,-75.2666, -75.7049,-75.9915,-76.2782,-76.7017, -76.9819,-77.26,-77.5336,-77.807, -78.0777,-78.344,-78.6101,-79.0032, -79.3905,-79.6477,-79.8981,-80.1478, -80.3967,-80.6411,-81.1208,-81.5903, -82.0465,-82.716,-82.8255,-82.864)
FOOTPRINT_POINT_LONGITUDE = (129.649,132.822,135.751,139.036, 139.132,139.285,140.73,142.02,143.89, 145.205,145.812,146.393,146.929,147.444 ,147.932,148.394,148.84,149.265,149.667 ,150.242,150.605,150.952,151.283, 151.601,152.054,152.342,152.617,152.883 ,153.263,153.624,153.854,154.184, 154.393,154.599,154.794,154.985,155.17, 155.436,155.605,155.772,156.011,156.164 ,156.311,156.454,156.594,156.793, 156.922,157.048,157.11,157.13,156.047, 155.217,153.981,153.159,151.675,151.624 ,151.606,151.451,151.208,151.04,150.867 ,150.597,150.409,150.217,150.02,149.816 ,149.603,149.389,149.164,148.929, 148.683,148.435,148.173,147.904,147.472 ,147.181,146.722,146.4,146.063,145.535, 145.165,144.778,144.377,143.959,143.524 ,143.075,142.6,141.855,141.063,140.5, 139.922,139.309,138.659,137.974,136.545 ,134.936,133.175,130.103,129.531, 129.649)
ORBIT_NUMBER = 4678
ORBITAL_ECCENTRICITY = 0.57
ORBITAL_INCLINATION = 86.68
ORBITAL_SEMIMAJOR_AXIS = 8536.72
PERIAPSIS_ALTITUDE = 297.05
PERIAPSIS_ARGUMENT_ANGLE = 254.98
PERIAPSIS_TIME = 2007-08-25T13:49:59.000Z
SPACECRAFT_ORIENTATION = (0.0,-1.0,0.0)
^MEX_ORIENTATION_DESC = "MEX_ORIENTATION_DESC.TXT"
SPACECRAFT_POINTING_MODE = ACROSSTRACK
^MEX_POINTING_DESC = "MEX_POINTING_DESC.TXT"
RIGHT_ASCENSION = -1e+32
DECLINATION = -1e+32
OFFSET_ANGLE = 0.1
SPACECRAFT_SOLAR_DISTANCE = 2.13402e+08
TARGET_NAME = MARS
/* CAMERA DATA ELEMENTS */
DETECTOR_TEMPERATURE = 18.1666
FOCAL_PLANE_TEMPERATURE = 8.7872
INST_CMPRS_NAME = "DISCRETE COSINE TRANSFORMATION (DCT)"
INST_CMPRS_RATIO = 13.3869
INST_CMPRS_QUALITY = 0
INST_CMPRS_QUANTZ_TBL_ID = 0
INSTRUMENT_TEMPERATURE = 11.234
LENS_TEMPERATURE = 8.9911
MACROPIXEL_SIZE = 4
MISSING_FRAMES = 0
PIXEL_SUBSAMPLING_FLAG = N
SIGNAL_CHAIN_ID = 2
/* RADIOMETRIC DATA ELEMENTS */
BANDWIDTH = 76.0
CENTER_FILTER_WAVELENGTH = 444.0
RADIANCE_OFFSET = 0.689954
RADIANCE_SCALING_FACTOR = 0.00150895
REFLECTANCE_SCALING_FACTOR = 7.06042e-05
MEX:REFLECTANCE_OFFSET = 0.0322832
/* IMAGE OBJECT DEFINITIONS */
OBJECT = IMAGE
  INTERCHANGE_FORMAT = BINARY
  LINES = 17557
  LINE_SAMPLES = 6334
  SAMPLE_TYPE = UNSIGNED_INTEGER
  SAMPLE_BITS = 8
  BANDS = 1
  BAND_STORAGE_TYPE = BAND_SEQUENTIAL
  MAXIMUM = 255
  MEAN = 135.469
  MINIMUM = 1
  STANDARD_DEVIATION = 50.968
END_OBJECT = IMAGE
/* MAP OBJECT DEFINITIONS */
OBJECT = IMAGE_MAP_PROJECTION
  ^DATA_SET_MAP_PROJECTION_CATALOG= "DSMAP.CAT"
  A_AXIS_RADIUS = 3396.0
  B_AXIS_RADIUS = 3396.0
  C_AXIS_RADIUS = 3396.0
  CENTER_LATITUDE = 0.0
  CENTER_LONGITUDE = 149.0
  COORDINATE_SYSTEM_NAME = PLANETOGRAPHIC
  COORDINATE_SYSTEM_TYPE = "BODY-FIXED ROTATING"
  EASTERNMOST_LONGITUDE = 157.13
  FIRST_STANDARD_PARALLEL = "N/A"
  LINE_FIRST_PIXEL = 1
  LINE_LAST_PIXEL = 17557
  LINE_PROJECTION_OFFSET = -81469.125
  MAP_PROJECTION_ROTATION = 0.0
  MAP_PROJECTION_TYPE = SINUSOIDAL
  MAP_RESOLUTION = 1185.42760773333
  MAP_SCALE = 0.05
  MAXIMUM_LATITUDE = -68.70959999999999
  MINIMUM_LATITUDE = -83.5304
  POSITIVE_LONGITUDE_DIRECTION = EAST
  REFERENCE_LATITUDE = "N/A"
  REFERENCE_LONGITUDE = "N/A"
  SAMPLE_FIRST_PIXEL = 1
  SAMPLE_LAST_PIXEL = 6334
  SAMPLE_PROJECTION_OFFSET = 2888.125
  SECOND_STANDARD_PARALLEL = "N/A"
  WESTERNMOST_LONGITUDE = 129.531
END_OBJECT = IMAGE_MAP_PROJECTION
END
