PDS_VERSION_ID = PDS3
/* FILE DATA ELEMENTS */
RECORD_TYPE = UNDEFINED
/* POINTERS TO DATA OBJECTS */
^IMAGE = ("H4683_0000_GR4.TIF")
/* IDENTIFICATION DATA ELEMENTS */
DATA_SET_ID = "MEX-M-HRSC-4-REFDR-MAPPROJECT-EXT1-V4.0"
DATA_SET_NAME = "MARS EXPRESS HRSC MAP PROJECTED REFDR EXTENSION1 V4.0"
DETECTOR_ID = MEX_HRSC_GREEN
EVENT_TYPE = "MARS-REGIONAL-MAPPING-Im-Gl-Pf"
INSTRUMENT_HOST_ID = MEX
INSTRUMENT_HOST_NAME = "MARS EXPRESS"
INSTRUMENT_ID = HRSC
INSTRUMENT_NAME = "HIGH RESOLUTION STEREO CAMERA"
MISSION_NAME = "MARS EXPRESS"
MISSION_PHASE_NAME = ME_Phase_9
PROCESSING_LEVEL_ID = 4
PRODUCT_CREATION_TIME = 2023-02-11T00:15:54.000Z
PRODUCT_ID = "H4683_0000_GR4.TIF"
RELEASE_ID = 0007
REVISION_ID = 0000
/* QUALITY DATA ELEMENTS */
DATA_QUALITY_ID = 1
DATA_QUALITY_DESC = "Data calculated based on original SPICE kernels"
/* TIME DATA ELEMENTS */
SPACECRAFT_CLOCK_START_COUNT = "1/0136251070.09083"
SPACECRAFT_CLOCK_STOP_COUNT = "1/0136251467.35778"
START_TIME = 2007-08-26T23:31:43.576Z
STOP_TIME = 2007-08-26T23:36:20.978Z
/* ORBITAL DATA ELEMENTS */
ASCENDING_NODE_LONGITUDE = 130.47
MAXIMUM_RESOLUTION = 0.0637
FOOTPRINT_POINT_LATITUDE = (-81.9452,-82.2134,-82.3885,-82.5369, -82.5415,-82.5361,-81.7529,-81.2178, -80.8067,-80.5299,-80.2529,-79.9698, -79.685,-79.3999,-79.11,-78.8174, -78.5249,-78.0772,-77.7776,-77.4734, -77.1672,-76.8608,-76.5481,-76.0792, -75.7602,-75.2812,-74.9553,-74.6295, -74.2988,-73.9668,-73.462,-72.952, -72.6082,-72.2608,-71.9113,-71.5572, -71.2021,-70.8412,-70.4789,-70.1127, -69.7432,-69.3713,-68.9942,-68.6149, -68.0386,-67.4543,-67.0615,-66.4624, -66.2603,-66.1645,-66.1104,-66.0699, -65.9994,-65.9553,-65.9005,-65.8972, -65.8975,-66.4948,-66.8877,-67.2787, -67.6633,-68.0457,-68.4252,-68.7992, -69.1707,-69.5388,-69.9029,-70.2651, -70.6221,-70.977,-71.3281,-71.8487, -72.193,-72.532,-72.8699,-73.2028, -73.535,-73.8616,-74.1883,-74.5085, -74.9872,-75.3008,-75.7683,-76.0746, -76.5327,-76.8322,-77.2801,-77.5735, -77.8629,-78.2916,-78.5752,-78.8575, -79.2708,-79.5446,-79.9469,-80.6063, -81.2417,-81.7354,-81.8561,-81.9452)
FOOTPRINT_POINT_LONGITUDE = (1.7632,5.2412,7.90122,10.4966,10.5847, 10.8,13.0616,14.3564,15.2433,15.7993, 16.3196,16.8194,17.2928,17.7391,18.1669 ,18.5762,18.9625,19.5146,19.8603, 20.2061,20.521,20.8237,21.1188,21.5283, 21.7958,22.1718,22.4133,22.6456,22.8709 ,23.0877,23.3979,23.6911,23.8787, 24.0608,24.236,24.4067,24.5704,24.7312, 24.8886,25.0355,25.1815,25.3218,25.4585 ,25.5911,25.7836,25.966,26.0809,26.253, 26.3089,26.3349,24.9054,24.019,22.6916, 21.9571,21.1245,21.0755,21.0588,20.8558 ,20.7097,20.568,20.4148,20.2588,20.0978 ,19.9316,19.7579,19.5789,19.396,19.2045 ,19.0095,18.8056,18.5949,18.2645,18.034 ,17.796,17.5487,17.2937,17.0277,16.754, 16.4669,16.1732,15.7072,15.384,14.8712, 14.5123,13.9503,13.5557,12.934,12.5043, 12.0327,11.3041,10.7921,10.2535,9.41052 ,8.80457,7.84697,6.08273,4.09321, 2.29855,1.82081,1.7632)
ORBIT_NUMBER = 4683
ORBITAL_ECCENTRICITY = 0.57
ORBITAL_INCLINATION = 86.68
ORBITAL_SEMIMAJOR_AXIS = 8537.1
PERIAPSIS_ALTITUDE = 296.52
PERIAPSIS_ARGUMENT_ANGLE = 254.1
PERIAPSIS_TIME = 2007-08-26T23:26:00.000Z
SPACECRAFT_ORIENTATION = (0.0,-1.0,0.0)
^MEX_ORIENTATION_DESC = "MEX_ORIENTATION_DESC.TXT"
SPACECRAFT_POINTING_MODE = ACROSSTRACK
^MEX_POINTING_DESC = "MEX_POINTING_DESC.TXT"
RIGHT_ASCENSION = -1e+32
DECLINATION = -1e+32
OFFSET_ANGLE = 0.18
SPACECRAFT_SOLAR_DISTANCE = 2.13616e+08
TARGET_NAME = MARS
/* CAMERA DATA ELEMENTS */
DETECTOR_TEMPERATURE = 18.1666
FOCAL_PLANE_TEMPERATURE = 8.1755
INST_CMPRS_NAME = "DISCRETE COSINE TRANSFORMATION (DCT)"
INST_CMPRS_RATIO = 18.194
INST_CMPRS_QUALITY = 0
INST_CMPRS_QUANTZ_TBL_ID = 0
INSTRUMENT_TEMPERATURE = 11.6418
LENS_TEMPERATURE = 8.7872
MACROPIXEL_SIZE = 4
MISSING_FRAMES = 0
PIXEL_SUBSAMPLING_FLAG = N
SIGNAL_CHAIN_ID = 2
/* RADIOMETRIC DATA ELEMENTS */
BANDWIDTH = 88.0
CENTER_FILTER_WAVELENGTH = 538.0
RADIANCE_OFFSET = 1.84744
RADIANCE_SCALING_FACTOR = 0.0098898
REFLECTANCE_SCALING_FACTOR = 0.000388549
MEX:REFLECTANCE_OFFSET = 0.0725819
/* IMAGE OBJECT DEFINITIONS */
OBJECT = IMAGE
  INTERCHANGE_FORMAT = BINARY
  LINES = 19723
  LINE_SAMPLES = 6462
  SAMPLE_TYPE = UNSIGNED_INTEGER
  SAMPLE_BITS = 8
  BANDS = 1
  BAND_STORAGE_TYPE = BAND_SEQUENTIAL
  MAXIMUM = 255
  MEAN = 49.7141
  MINIMUM = 1
  STANDARD_DEVIATION = 22.5825
END_OBJECT = IMAGE
/* MAP OBJECT DEFINITIONS */
OBJECT = IMAGE_MAP_PROJECTION
  ^DATA_SET_MAP_PROJECTION_CATALOG= "DSMAP.CAT"
  A_AXIS_RADIUS = 3396.0
  B_AXIS_RADIUS = 3396.0
  C_AXIS_RADIUS = 3396.0
  CENTER_LATITUDE = 0.0
  CENTER_LONGITUDE = 19.0
  COORDINATE_SYSTEM_NAME = PLANETOGRAPHIC
  COORDINATE_SYSTEM_TYPE = "BODY-FIXED ROTATING"
  EASTERNMOST_LONGITUDE = 26.3349
  FIRST_STANDARD_PARALLEL = "N/A"
  LINE_FIRST_PIXEL = 1
  LINE_LAST_PIXEL = 19723
  LINE_PROJECTION_OFFSET = -78114.875
  MAP_PROJECTION_ROTATION = 0.0
  MAP_PROJECTION_TYPE = SINUSOIDAL
  MAP_RESOLUTION = 1185.42760773333
  MAP_SCALE = 0.05
  MAXIMUM_LATITUDE = -65.8972
  MINIMUM_LATITUDE = -82.5415
  POSITIVE_LONGITUDE_DIRECTION = EAST
  REFERENCE_LATITUDE = "N/A"
  REFERENCE_LONGITUDE = "N/A"
  SAMPLE_FIRST_PIXEL = 1
  SAMPLE_LAST_PIXEL = 6462
  SAMPLE_PROJECTION_OFFSET = 2910.125
  SECOND_STANDARD_PARALLEL = "N/A"
  WESTERNMOST_LONGITUDE = 1.7632
END_OBJECT = IMAGE_MAP_PROJECTION
END
