PDS_VERSION_ID = PDS3
/* FILE DATA ELEMENTS */
RECORD_TYPE = UNDEFINED
/* POINTERS TO DATA OBJECTS */
^IMAGE = ("H4684_0000_P24.TIF")
/* IDENTIFICATION DATA ELEMENTS */
DATA_SET_ID = "MEX-M-HRSC-4-REFDR-MAPPROJECT-EXT1-V4.0"
DATA_SET_NAME = "MARS EXPRESS HRSC MAP PROJECTED REFDR EXTENSION1 V4.0"
DETECTOR_ID = MEX_HRSC_P2
EVENT_TYPE = "MARS-REGIONAL-MAPPING-Im-Fl-Gl"
INSTRUMENT_HOST_ID = MEX
INSTRUMENT_HOST_NAME = "MARS EXPRESS"
INSTRUMENT_ID = HRSC
INSTRUMENT_NAME = "HIGH RESOLUTION STEREO CAMERA"
MISSION_NAME = "MARS EXPRESS"
MISSION_PHASE_NAME = ME_Phase_9
PROCESSING_LEVEL_ID = 4
PRODUCT_CREATION_TIME = 2023-02-11T00:15:54.000Z
PRODUCT_ID = "H4684_0000_P24.TIF"
RELEASE_ID = 0007
REVISION_ID = 0000
/* QUALITY DATA ELEMENTS */
DATA_QUALITY_ID = 1
DATA_QUALITY_DESC = "Data calculated based on original SPICE kernels"
/* TIME DATA ELEMENTS */
SPACECRAFT_CLOCK_START_COUNT = "1/0136275354.09052"
SPACECRAFT_CLOCK_STOP_COUNT = "1/0136275826.09684"
START_TIME = 2007-08-27T06:17:11.920Z
STOP_TIME = 2007-08-27T06:23:06.814Z
/* ORBITAL DATA ELEMENTS */
ASCENDING_NODE_LONGITUDE = 130.45
MAXIMUM_RESOLUTION = 0.0404
FOOTPRINT_POINT_LATITUDE = (-76.7961,-76.9876,-77.1029,-77.1806, -77.1835,-77.2579,-76.6662,-76.0666, -75.4603,-74.8432,-74.2206,-73.7446, -73.1054,-72.6161,-72.2893,-71.9551, -71.4484,-70.9391,-70.5992,-70.2542, -69.9061,-69.5546,-69.2007,-68.8428, -68.4819,-67.9351,-67.3821,-67.01, -66.6341,-66.255,-65.8724,-65.4862, -65.0971,-64.7038,-64.3067,-63.9059, -63.5015,-63.0932,-62.6826,-62.2681, -61.8535,-61.4315,-61.005,-60.5738, -60.1394,-59.4777,-59.2548,-59.1758, -59.1594,-59.1415,-59.1191,-59.0846, -59.0514,-58.9971,-58.9943,-58.9941, -59.4335,-59.8692,-60.3003,-60.7273, -61.1497,-61.5684,-61.9848,-62.3933, -62.8003,-63.2048,-63.606,-64.0033, -64.3978,-64.787,-65.1737,-65.5568, -65.9364,-66.3131,-66.6862,-67.0559, -67.4225,-67.7854,-68.1451,-68.5024, -68.8572,-69.2074,-69.5543,-69.8987, -70.2413,-70.5791,-70.9203,-71.254, -71.5879,-71.9146,-72.2382,-72.8807, -73.5135,-74.1302,-75.0423,-75.4913, -76.0794,-76.659,-76.8012,-76.7961)
FOOTPRINT_POINT_LONGITUDE = (276.538,279.62,281.863,283.647,283.719 ,283.844,284.353,284.824,285.265, 285.673,286.058,286.327,286.671,286.91, 287.067,287.214,287.425,287.63,287.764, 287.895,288.02,288.141,288.259,288.374, 288.485,288.647,288.802,288.904,289.002 ,289.098,289.191,289.281,289.37,289.456 ,289.54,289.622,289.702,289.78,289.857, 289.933,290.011,290.083,290.154,290.222 ,290.29,290.387,290.419,290.429,289.355 ,288.564,287.719,286.706,285.864, 284.687,284.631,284.61,284.551,284.489, 284.425,284.358,284.289,284.217,284.14, 284.064,283.983,283.898,283.808,283.716 ,283.619,283.521,283.419,283.313, 283.203,283.089,282.972,282.851,282.725 ,282.595,282.462,282.323,282.179, 282.031,281.879,281.723,281.558,281.391 ,281.207,281.025,280.831,280.641, 280.443,280.021,279.566,279.093,278.297 ,277.862,277.249,276.583,276.409, 276.538)
ORBIT_NUMBER = 4684
ORBITAL_ECCENTRICITY = 0.57
ORBITAL_INCLINATION = 86.68
ORBITAL_SEMIMAJOR_AXIS = 8538.83
PERIAPSIS_ALTITUDE = 296.53
PERIAPSIS_ARGUMENT_ANGLE = 253.95
PERIAPSIS_TIME = 2007-08-27T06:09:18.000Z
SPACECRAFT_ORIENTATION = (0.0,-1.0,0.0)
^MEX_ORIENTATION_DESC = "MEX_ORIENTATION_DESC.TXT"
SPACECRAFT_POINTING_MODE = ACROSSTRACK
^MEX_POINTING_DESC = "MEX_POINTING_DESC.TXT"
RIGHT_ASCENSION = -1e+32
DECLINATION = -1e+32
OFFSET_ANGLE = -0.1
SPACECRAFT_SOLAR_DISTANCE = 2.13659e+08
TARGET_NAME = MARS
/* CAMERA DATA ELEMENTS */
DETECTOR_TEMPERATURE = 18.5744
FOCAL_PLANE_TEMPERATURE = 8.5833
INST_CMPRS_NAME = "DISCRETE COSINE TRANSFORMATION (DCT)"
INST_CMPRS_RATIO = 7.67879
INST_CMPRS_QUALITY = 0
INST_CMPRS_QUANTZ_TBL_ID = 0
INSTRUMENT_TEMPERATURE = 11.0301
LENS_TEMPERATURE = 8.7872
MACROPIXEL_SIZE = 2
MISSING_FRAMES = 0
PIXEL_SUBSAMPLING_FLAG = N
SIGNAL_CHAIN_ID = 3
/* RADIOMETRIC DATA ELEMENTS */
BANDWIDTH = 177.0
CENTER_FILTER_WAVELENGTH = 676.5
RADIANCE_OFFSET = 5.0662
RADIANCE_SCALING_FACTOR = 0.0170494
REFLECTANCE_SCALING_FACTOR = 0.000412677
MEX:REFLECTANCE_OFFSET = 0.122627
/* IMAGE OBJECT DEFINITIONS */
OBJECT = IMAGE
  INTERCHANGE_FORMAT = BINARY
  LINES = 43281
  LINE_SAMPLES = 10782
  SAMPLE_TYPE = UNSIGNED_INTEGER
  SAMPLE_BITS = 8
  BANDS = 1
  BAND_STORAGE_TYPE = BAND_SEQUENTIAL
  MAXIMUM = 255
  MEAN = 153.964
  MINIMUM = 1
  STANDARD_DEVIATION = 40.647
END_OBJECT = IMAGE
/* MAP OBJECT DEFINITIONS */
OBJECT = IMAGE_MAP_PROJECTION
  ^DATA_SET_MAP_PROJECTION_CATALOG= "DSMAP.CAT"
  A_AXIS_RADIUS = 3396.0
  B_AXIS_RADIUS = 3396.0
  C_AXIS_RADIUS = 3396.0
  CENTER_LATITUDE = 0.0
  CENTER_LONGITUDE = 285.0
  COORDINATE_SYSTEM_NAME = PLANETOGRAPHIC
  COORDINATE_SYSTEM_TYPE = "BODY-FIXED ROTATING"
  EASTERNMOST_LONGITUDE = 290.429
  FIRST_STANDARD_PARALLEL = "N/A"
  LINE_FIRST_PIXEL = 1
  LINE_LAST_PIXEL = 43281
  LINE_PROJECTION_OFFSET = -139907.25
  MAP_PROJECTION_ROTATION = 0.0
  MAP_PROJECTION_TYPE = SINUSOIDAL
  MAP_RESOLUTION = 2370.85521546667
  MAP_SCALE = 0.025
  MAXIMUM_LATITUDE = -58.9941
  MINIMUM_LATITUDE = -77.25790000000001
  POSITIVE_LONGITUDE_DIRECTION = EAST
  REFERENCE_LATITUDE = "N/A"
  REFERENCE_LONGITUDE = "N/A"
  SAMPLE_FIRST_PIXEL = 1
  SAMPLE_LAST_PIXEL = 10782
  SAMPLE_PROJECTION_OFFSET = 4576.75
  SECOND_STANDARD_PARALLEL = "N/A"
  WESTERNMOST_LONGITUDE = 276.409
END_OBJECT = IMAGE_MAP_PROJECTION
END
